Felt | Verdi |
AlreadyApplied | True |
Aperture | 2.8 |
ApertureValue | 2.8 |
ApproximateFocusDistance | 33.5 |
AutoLateralCA | 0 |
AutoWhiteVersion | 134348800 |
BitsPerSample | 8 |
Blacks2012 | -53 |
BlueHue | 0 |
BlueSaturation | 0 |
CameraProfile | Adobe Standard |
CFAPattern | [Red,Green][Green,Blue] |
CircleOfConfusion | 0.030 mm |
Clarity2012 | -65 |
ColorComponents | 3 |
ColorNoiseReduction | 44 |
ColorNoiseReductionDetail | 50 |
ColorNoiseReductionSmoothness | 50 |
ColorTemperature | 8876 |
ColorTransform | YCbCr |
Contrast | Normal |
Contrast2012 | +46 |
ConvertToGrayscale | False |
CreateDate (1) | 2015:05:26 20:34:49.19 |
CreateDate | 2015:05:26 20:34:49 |
CreatorTool | Adobe Photoshop Lightroom 6.1 (Macintosh) |
CropAngle | 2.57021 |
CropBottom | 0.988362 |
CropConstrainToWarp | 0 |
CropLeft | 0.020348 |
CropRight | 0.742199 |
CropTop | 0.286639 |
CustomRendered | Normal |
DateCreated (1) | 2015:05:26 20:34:49.19 |
DateCreated | 2015:05:26 |
DateTimeOriginal | 2015:05:26 20:34:49 |
DefringeGreenAmount | 0 |
DefringeGreenHueHi | 60 |
DefringeGreenHueLo | 40 |
DefringePurpleAmount | 0 |
DefringePurpleHueHi | 70 |
DefringePurpleHueLo | 30 |
Dehaze | 0 |
DigitalZoomRatio | 1 |
DOF | 2.57 m (32.26 - 34.84 m) |
Exposure2012 | -0.65 |
ExposureCompensation | 0 |
ExposureMode | Manual |
ExposureProgram | Manual |
ExposureTime | 1/50 |
Flash | No Flash |
FNumber | 2.8 |
FocalLength | 270.0 mm |
FocalLength35efl | 270.0 mm (35 mm equivalent: 270.0 mm) |
FocalLengthIn35mmFormat | 270 mm |
Format | image/jpeg |
FOV | 7.6 deg |
GainControl | High gain up |
GrainAmount | 0 |
GreenHue | 0 |
GreenSaturation | 0 |
HasCrop | True |
HasExtendedXMP | A08CEF53137413CB1443A71F1AF60F66 |
HasSettings | True |
Highlights2012 | -38 |
HueAdjustmentAqua | 0 |
HueAdjustmentBlue | 0 |
HueAdjustmentGreen | 0 |
HueAdjustmentMagenta | 0 |
HueAdjustmentOrange | 0 |
HueAdjustmentPurple | 0 |
HueAdjustmentRed | 0 |
HueAdjustmentYellow | 0 |
HyperfocalDistance | 866.52 m |
ImageHeight | 1847 |
ImageNumber | 154037 |
ImageSize | 3157x1847 |
ImageWidth | 3157 |
ISO | 1600 |
Lens | 120.0-300.0 mm f/2.8 |
LensID (1) | 141 |
LensID | Sigma 120-300mm F2.8 DG OS HSM Sports |
LensInfo | 120-300mm f/2.8 |
LensManualDistortionAmount | 0 |
LensModel | 120.0-300.0 mm f/2.8 |
LensProfileEnable | 0 |
LensProfileSetup | LensDefaults |
LightSource | Fine Weather |
LightValue | 4.6 |
LuminanceAdjustmentAqua | 0 |
LuminanceAdjustmentBlue | -11 |
LuminanceAdjustmentGreen | +76 |
LuminanceAdjustmentMagenta | 0 |
LuminanceAdjustmentOrange | 0 |
LuminanceAdjustmentPurple | 0 |
LuminanceAdjustmentRed | 0 |
LuminanceAdjustmentYellow | 0 |
LuminanceNoiseReductionContrast | 51 |
LuminanceNoiseReductionDetail | 50 |
LuminanceSmoothing | 43 |
Make | NIKON CORPORATION |
MaxApertureValue | 2.8 |
Megapixels | 5.8 |
MeteringMode | Multi-segment |
Model | NIKON D3S |
ModifyDate (1) | 2015:10:27 12:57:52+01:00 |
ModifyDate | 2015:10:27 12:57:52 |
Orientation | Horizontal (normal) |
PaintCorrectionActive | true |
PaintCorrectionAmount | 1.000000 |
PaintCorrectionBrightness | 0.000000 |
PaintCorrectionClarity2012 (1) | 0.707182 |
PaintCorrectionClarity2012 (2) | 0.667904 |
PaintCorrectionClarity2012 (4) | 0.386438 |
PaintCorrectionClarity2012 (6) | 0.686982 |
PaintCorrectionClarity2012 (7) | 0.018776 |
PaintCorrectionClarity2012 | 0.000000 |
PaintCorrectionContrast2012 (12) | 0.002448 |
PaintCorrectionContrast2012 (8) | 0.000000 |
PaintCorrectionContrast2012 | 0.004375 |
PaintCorrectionDefringe | 0.000000 |
PaintCorrectionExposure2012 (10) | 0.185625 |
PaintCorrectionExposure2012 (2) | 0.071737 |
PaintCorrectionExposure2012 (3) | 0.174292 |
PaintCorrectionExposure2012 (8) | 0.001165 |
PaintCorrectionExposure2012 (9) | 0.137215 |
PaintCorrectionExposure2012 | 0.000000 |
PaintCorrectionHighlights2012 (11) | 0.645156 |
PaintCorrectionHighlights2012 (6) | -0.333305 |
PaintCorrectionHighlights2012 (8) | 0.425242 |
PaintCorrectionHighlights2012 | 0.000000 |
PaintCorrectionHue | 166.352005 |
PaintCorrectionLocalBlacks2012 (2) | -0.406563 |
PaintCorrectionLocalBlacks2012 (4) | 0.000000 |
PaintCorrectionLocalBlacks2012 | 0.561875 |
PaintCorrectionLocalWhites2012 (1) | 0.725729 |
PaintCorrectionLocalWhites2012 (3) | 1.000000 |
PaintCorrectionLocalWhites2012 (4) | 0.006957 |
PaintCorrectionLocalWhites2012 (5) | 0.546406 |
PaintCorrectionLocalWhites2012 (6) | 0.806458 |
PaintCorrectionLocalWhites2012 | 0.667500 |
PaintCorrectionLuminanceNoise (2) | 0.248973 |
PaintCorrectionLuminanceNoise (4) | 0.370819 |
PaintCorrectionLuminanceNoise | 0.000000 |
PaintCorrectionMaskCenterWeight (7) | 0.000000 |
PaintCorrectionMaskCenterWeight | 0.001589 |
PaintCorrectionMaskFlow (107) | 0.330341 |
PaintCorrectionMaskFlow (11) | 1.000000 |
PaintCorrectionMaskFlow | 0.750516 |
PaintCorrectionMaskRadius (1) | 0.153346 |
PaintCorrectionMaskRadius (10) | 0.010558 |
PaintCorrectionMaskRadius (108) | 0.003357 |
PaintCorrectionMaskRadius (109) | 0.030798 |
PaintCorrectionMaskRadius (12) | 0.016412 |
PaintCorrectionMaskRadius (19) | 0.067313 |
PaintCorrectionMaskRadius (25) | 0.117175 |
PaintCorrectionMaskRadius (26) | 0.109098 |
PaintCorrectionMaskRadius (28) | 0.030963 |
PaintCorrectionMaskRadius (30) | 0.006837 |
PaintCorrectionMaskRadius (37) | 0.150492 |
PaintCorrectionMaskRadius (4) | 0.006774 |
PaintCorrectionMaskRadius (6) | 0.021261 |
PaintCorrectionMaskRadius (60) | 0.003788 |
PaintCorrectionMaskRadius (88) | 0.005111 |
PaintCorrectionMaskRadius | 0.123652 |
PaintCorrectionMaskValue (13) | 1.000000 |
PaintCorrectionMaskValue | 0.990548 |
PaintCorrectionMaskWhat | Mask/Paint |
PaintCorrectionMoire (5) | 0.000000 |
PaintCorrectionMoire | -0.003199 |
PaintCorrectionSaturation (17) | 0.654826 |
PaintCorrectionSaturation (19) | 0.890208 |
PaintCorrectionSaturation | 0.000000 |
PaintCorrectionShadows2012 (12) | -0.434323 |
PaintCorrectionShadows2012 (2) | 0.475872 |
PaintCorrectionShadows2012 (5) | 0.525380 |
PaintCorrectionShadows2012 | 0.000000 |
PaintCorrectionSharpness (2) | 0.655948 |
PaintCorrectionSharpness (4) | 0.938406 |
PaintCorrectionSharpness | 0.001302 |
PaintCorrectionTemperature (1) | 0.001236 |
PaintCorrectionTemperature (10) | 0.854271 |
PaintCorrectionTemperature (13) | 0.004427 |
PaintCorrectionTemperature (9) | 0.334599 |
PaintCorrectionTemperature | -0.660990 |
PaintCorrectionTint (10) | 0.692240 |
PaintCorrectionTint (5) | 0.000000 |
PaintCorrectionTint | -0.005729 |
PaintCorrectionWhat | Correction |
ParametricDarks | 0 |
ParametricHighlights | 0 |
ParametricHighlightSplit | 75 |
ParametricLights | 0 |
ParametricMidtoneSplit | 50 |
ParametricShadows | 0 |
ParametricShadowSplit | 25 |
PerspectiveAspect | 0 |
PerspectiveHorizontal | 0 |
PerspectiveRotate | 0.0 |
PerspectiveScale | 100 |
PerspectiveUpright | 0 |
PerspectiveVertical | 0 |
PostCropVignetteAmount | 0 |
ProcessVersion | 6.7 |
ProfileDescription | sRGB IEC61966-2.1 |
Rating | 5 |
RawFileName | DSC_2276-2.jpg |
RedHue | 0 |
RedSaturation | 0 |
Saturation (1) | +11 |
Saturation | Normal |
SaturationAdjustmentAqua | 0 |
SaturationAdjustmentBlue | -51 |
SaturationAdjustmentGreen | +40 |
SaturationAdjustmentMagenta | 0 |
SaturationAdjustmentOrange | 0 |
SaturationAdjustmentPurple | 0 |
SaturationAdjustmentRed | 0 |
SaturationAdjustmentYellow | 0 |
ScaleFactor35efl | 1.0 |
SceneCaptureType | Standard |
SceneType | Directly photographed |
SensingMethod | One-chip color area |
SerialNumber | 2058033 |
Shadows2012 | +24 |
ShadowTint | 0 |
SharpenDetail | 25 |
SharpenEdgeMasking | 0 |
SharpenRadius | +1.0 |
Sharpness (1) | 25 |
Sharpness | Normal |
ShutterSpeed | 1/50 |
ShutterSpeedValue | 1/50 |
Software | Adobe Photoshop Lightroom 6.1 (Macintosh) |
SplitToningBalance | 0 |
SplitToningHighlightHue | 0 |
SplitToningHighlightSaturation | 0 |
SplitToningShadowHue | 0 |
SplitToningShadowSaturation | 0 |
SubjectDistanceRange | Unknown |
Tint | +10 |
ToneCurve | 0, 0, 255, 255 |
ToneCurveBlue | 0, 0, 255, 255 |
ToneCurveGreen | 0, 0, 255, 255 |
ToneCurveName | Linear |
ToneCurveName2012 | Linear |
ToneCurvePV2012 | 0, 0, 255, 255 |
ToneCurvePV2012Blue | 0, 0, 255, 255 |
ToneCurvePV2012Green | 0, 0, 255, 255 |
ToneCurvePV2012Red | 0, 0, 255, 255 |
ToneCurveRed | 0, 0, 255, 255 |
ToneMapStrength | 0 |
Version | 9.1 |
Vibrance | +40 |
VignetteAmount | 0 |
WhiteBalance (1) | Custom |
WhiteBalance | Manual |
Whites2012 | +52 |