Felt | Verdi |
AlreadyApplied | True |
Aperture | 4.0 |
ApertureValue | 4.0 |
ApproximateFocusDistance | 1.99 |
AutoLateralCA | 1 |
AutoWhiteVersion | 134348800 |
BitsPerSample | 8 |
Blacks2012 | -21 |
BlueHue | 0 |
BlueSaturation | 0 |
CameraProfile | Adobe Standard |
CircleOfConfusion | 0.016 mm |
Clarity2012 | +36 |
ColorComponents | 3 |
ColorNoiseReduction | 25 |
ColorNoiseReductionDetail | 50 |
ColorNoiseReductionSmoothness | 50 |
ColorSpace | sRGB |
ColorTemperature | 3950 |
ColorTransform | YCbCr |
Contrast2012 | +43 |
ConvertToGrayscale | True |
Copyright | Thomas Ebeltoft |
CopyrightNotice | Thomas Ebeltoft |
CreateDate (1) | 2016:01:28 15:17:18.57 |
CreateDate | 2016:01:28 15:17:18 |
CreatorTool | Adobe Photoshop Lightroom 6.4 (Windows) |
CropAngle | 0 |
CropBottom | 1 |
CropConstrainToWarp | 0 |
CropLeft | 0.134642 |
CropRight | 1 |
CropTop | 0.206316 |
CustomRendered | Normal |
DateCreated (1) | 2016:01:28 |
DateCreated | 2016:01:28 15:17:18.57 |
DateTimeOriginal | 2016:01:28 15:17:18 |
Dehaze | +7 |
DOF | 0.64 m (1.72 - 2.36 m) |
Exposure2012 | -0.13 |
ExposureCompensation | 0 |
ExposureMode | Manual |
ExposureProgram | Manual |
ExposureTime | 1/20 |
Firmware | 1.1.1 |
Flash | Off, Did not fire |
FlashCompensation | 0 |
FNumber | 4.0 |
FocalLength | 28.0 mm |
FocalLength35efl | 28.0 mm (35 mm equivalent: 53.5 mm) |
Format | image/jpeg |
FOV | 37.2 deg |
GrainAmount | 0 |
GrayMixerAqua | -19 |
GrayMixerBlue | +8 |
GrayMixerGreen | -26 |
GrayMixerMagenta | +6 |
GrayMixerOrange | -17 |
GrayMixerPurple | +16 |
GrayMixerRed | -7 |
GrayMixerYellow | -21 |
GreenHue | 0 |
GreenSaturation | 0 |
HasCrop | True |
HasSettings | True |
Highlights2012 | 0 |
HyperfocalDistance | 12.47 m |
ImageHeight | 4735 |
ImageNumber | 0 |
ImageSize | 2895x4735 |
ImageWidth | 2895 |
ISO | 2000 |
Lens | EF-S17-55mm f/2.8 IS USM |
LensID (1) | 240 |
LensID | Canon EF-S 17-55mm f/2.8 IS USM |
LensInfo | 17-55mm f/? |
LensManualDistortionAmount | 0 |
LensModel | EF-S17-55mm f/2.8 IS USM |
LensProfileChromaticAberrationScale | 100 |
LensProfileDistortionScale | 100 |
LensProfileEnable | 1 |
LensProfileFilename | Canon EOS 50D (Canon EF-S 17-55mm f2.8 IS USM) - RAW.lcp |
LensProfileName | Adobe (Canon EF-S 17-55mm f/2.8 IS USM) |
LensProfileSetup | LensDefaults |
LensProfileVignettingScale | 100 |
LensSerialNumber | 0000046648 |
LightValue | 4.0 |
LuminanceSmoothing | 0 |
Make | Canon |
MaxApertureValue | 2.8 |
Megapixels | 13.7 |
MeteringMode | Multi-segment |
Model | Canon EOS 70D |
ModifyDate (1) | 2016:02:23 20:08:31+01:00 |
ModifyDate | 2016:02:23 20:08:31 |
PaintCorrectionActive | true |
PaintCorrectionAmount | 1.000000 |
PaintCorrectionBrightness | 0.000000 |
PaintCorrectionClarity2012 (1) | 0.290320 |
PaintCorrectionClarity2012 (2) | 0.000000 |
PaintCorrectionClarity2012 | 0.329030 |
PaintCorrectionContrast2012 (2) | 0.212900 |
PaintCorrectionContrast2012 | 0.000000 |
PaintCorrectionDefringe | 0.000000 |
PaintCorrectionExposure2012 | 0.000000 |
PaintCorrectionHighlights2012 | 0.019350 |
PaintCorrectionHue | 233.000000 |
PaintCorrectionLocalBlacks2012 (1) | -0.161290 |
PaintCorrectionLocalBlacks2012 | 0.000000 |
PaintCorrectionLocalDehaze | 0.000000 |
PaintCorrectionLocalWhites2012 (2) | 0.000000 |
PaintCorrectionLocalWhites2012 | 0.251610 |
PaintCorrectionLuminanceNoise | 0.000000 |
PaintCorrectionMaskCenterWeight (4) | 0.050711 |
PaintCorrectionMaskCenterWeight | 0.351120 |
PaintCorrectionMaskFlow (4) | 0.653000 |
PaintCorrectionMaskFlow | 0.981000 |
PaintCorrectionMaskRadius (1) | 0.062786 |
PaintCorrectionMaskRadius (2) | 0.061519 |
PaintCorrectionMaskRadius (3) | 0.061622 |
PaintCorrectionMaskRadius (4) | 0.041990 |
PaintCorrectionMaskRadius (5) | 0.041574 |
PaintCorrectionMaskRadius | 0.041485 |
PaintCorrectionMaskValue (4) | 0.000000 |
PaintCorrectionMaskValue | 0.892000 |
PaintCorrectionMaskWhat | Mask/Paint |
PaintCorrectionMoire | 0.000000 |
PaintCorrectionSaturation | 0.000000 |
PaintCorrectionShadows2012 | 0.000000 |
PaintCorrectionSharpness | 0.032260 |
PaintCorrectionTemperature | 0.000000 |
PaintCorrectionTint | 0.000000 |
PaintCorrectionWhat | Correction |
ParametricDarks | -13 |
ParametricHighlights | 0 |
ParametricHighlightSplit | 75 |
ParametricLights | 0 |
ParametricMidtoneSplit | 50 |
ParametricShadows | +22 |
ParametricShadowSplit | 25 |
PerspectiveAspect | 0 |
PerspectiveHorizontal | 0 |
PerspectiveRotate | 0.0 |
PerspectiveScale | 100 |
PerspectiveUpright | 0 |
PerspectiveVertical | 0 |
PostCropVignetteAmount | 0 |
ProcessVersion | 6.7 |
ProfileDescription | sRGB IEC61966-2.1 |
RecommendedExposureIndex | 2000 |
RedHue | 0 |
RedSaturation | 0 |
Rights | Thomas Ebeltoft |
ScaleFactor35efl | 1.9 |
SceneCaptureType | Standard |
SensitivityType | Recommended Exposure Index |
SerialNumber | 153026007290 |
Shadows2012 | +59 |
ShadowTint | 0 |
SharpenDetail | 25 |
SharpenEdgeMasking | 43 |
SharpenRadius | +1.0 |
Sharpness | 49 |
ShutterSpeed | 1/20 |
ShutterSpeedValue | 1/20 |
Software | Adobe Photoshop Lightroom 6.4 (Windows) |
SplitToningBalance | 0 |
SplitToningHighlightHue | 0 |
SplitToningHighlightSaturation | 0 |
SplitToningShadowHue | 0 |
SplitToningShadowSaturation | 0 |
Tint | -2 |
ToneCurve | 0, 0, 255, 255 |
ToneCurveBlue | 0, 0, 255, 255 |
ToneCurveGreen | 0, 0, 255, 255 |
ToneCurveName | Linear |
ToneCurveName2012 | Linear |
ToneCurvePV2012 | 0, 0, 255, 255 |
ToneCurvePV2012Blue | 0, 0, 255, 255 |
ToneCurvePV2012Green | 0, 0, 255, 255 |
ToneCurvePV2012Red | 0, 0, 255, 255 |
ToneCurveRed | 0, 0, 255, 255 |
ToneMapStrength | 0 |
Version | 9.4 |
VignetteAmount | 0 |
WhiteBalance (1) | As Shot |
WhiteBalance | Auto |
Whites2012 | +14 |