Felt | Verdi |
2016-07-03T20:26:23+02:00 Filen D:\PSAutoRecover\Torild\__74A01093149C0F73FE54DD23A57272FBFF33E7D.psb er lagret
2016-07-03T20:35:59+02:00 Filen D:\PSAutoRecover\Torild\__74A01093149C0F73FE54DD23A57272FBFF33E7D.psb er lagret
2016-07-03T20:45:35+02:00 Filen D:\PSAutoRecover\Torild\__74A01093149C0F73FE54DD23A57272FBFF33E7D.psb er lagret
2016-07-03T20:55:11+02:00 Filen D:\PSAutoRecover\Torild\__74A01093149C0F73FE54DD23A57272FBFF33E7D.psb er lagret
2016-07-03T20:56:44+02:00 Filen E:\2016\Bryllup silje\psd\_74A0109.psd er lagret
2016-07-03T21:04:47+02:00 Filen D:\PSAutoRecover\Torild\__74A01095DCC16C18EE81CD983ABD0C1CCF8B8E5.psb er lagret
2016-07-03T21:06:45+02:00 Filen E:\2016\Bryllup silje\psd\_74A0109.psd er lagret
2016-07-03T21:07:10+02:00 Filen E:\2016\Bryllup silje\psd\_74A0109.psd er lagret
2016-07-03T21:14:23+02:00 Filen D:\PSAutoRecover\Torild\__74A01095DCC16C18EE81CD983ABD0C1CCF8B8E5.psb er lagret
2016-07-03T21:16:16+02:00 Filen E:\2016\Bryllup silje\psd\_74A0109.psd er lagret
2016-07-03T21:24:13+02:00 Filen D:\PSAutoRecover\Torild\__74A01095DCC16C18EE81CD983ABD0C1CCF8B8E5.psb er lagret
2016-07-03T21:24:44+02:00 Filen E:\2016\Bryllup silje\psd\_74A0109.psd er lagret
2016-07-03T21:27:51+02:00 Filen E:\2016\Bryllup silje\psd\_74A0109.psd er lagret
2016-07-03T21:33:49+02:00 Filen D:\PSAutoRecover\Torild\__74A01095DCC16C18EE81CD983ABD0C1CCF8B8E5.psb er lagret
2016-07-03T21:33:52+02:00 Filen E:\2016\Bryllup silje\psd\_74A0109.psd er lagret
2016-07-03T21:35:20+02:00 Filen E:\2016\Bryllup silje\jpg\_74A0109.jpg er lagret
AlreadyApplied | True |
Aperture | 5.6 |
ApertureValue | 5.6 |
ApproximateFocusDistance | 3.72 |
Artist | Torild Vangen |
AutoLateralCA | 0 |
AutoWhiteVersion | 134348800 |
BitsPerSample | 8 |
Blacks2012 | 0 |
BlueHue | 0 |
BlueSaturation | 0 |
By-line | Torild Vangen |
CameraProfile | Adobe Standard |
CircleOfConfusion | 0.030 mm |
Clarity2012 | +3 |
ColorComponents | 3 |
ColorNoiseReduction | 25 |
ColorNoiseReductionDetail | 50 |
ColorNoiseReductionSmoothness | 50 |
ColorSpace | Uncalibrated |
ColorTemperature | 6300 |
ColorTransform | YCbCr |
Contrast2012 | +3 |
ConvertToGrayscale | False |
Copyright | Private use only |
CopyrightFlag | True |
CopyrightNotice | Private use only |
Country | Norway |
Country-PrimaryLocationName | Norway |
CreateDate | 2016:07:02 15:01:05 |
Creator | Torild Vangen |
CreatorCity | Sokna |
CreatorCountry | Norway |
CreatorPostalCode | 3534 |
CreatorTool | Adobe Photoshop CC 2015 (Windows) |
CreatorWorkEmail | info@vangenfoto.no |
CustomRendered | Normal |
DateCreated (1) | 2016:07:02 15:01:05.014 |
DateCreated | 2016:07:02 |
DateTimeOriginal | 2016:07:02 15:01:05 |
DefringeGreenAmount | 0 |
DefringeGreenHueHi | 60 |
DefringeGreenHueLo | 40 |
DefringePurpleAmount | 0 |
DefringePurpleHueHi | 70 |
DefringePurpleHueLo | 30 |
Dehaze | 0 |
DOF | inf (1.63 m - inf) |
ExifImageHeight | 3840 |
ExifImageWidth | 5760 |
Exposure2012 | +0.70 |
ExposureCompensation | 0 |
ExposureMode | Manual |
ExposureProgram | Manual |
ExposureTime | 1/1600 |
Firmware | 1.3.3 |
Flash | Off, Did not fire |
FlashCompensation | 0 |
FNumber | 5.6 |
FocalLength | 22.0 mm |
FocalLength35efl | 22.0 mm (35 mm equivalent: 22.0 mm) |
Format | image/jpeg |
FOV | 78.6 deg |
GrainAmount | 0 |
GreenHue | 0 |
GreenSaturation | 0 |
HasCrop | False |
HasSettings | True |
Highlights2012 | -70 |
HueAdjustmentAqua | 0 |
HueAdjustmentBlue | 0 |
HueAdjustmentGreen | 0 |
HueAdjustmentMagenta | 0 |
HueAdjustmentOrange | 0 |
HueAdjustmentPurple | 0 |
HueAdjustmentRed | 0 |
HueAdjustmentYellow | 0 |
HyperfocalDistance | 2.88 m |
ImageHeight | 3840 |
ImageNumber | 0 |
ImageSize | 5760x3840 |
ImageWidth | 5760 |
ISO | 200 |
Label | Andre |
Lens | EF17-40mm f/4L USM |
LensID (1) | 231 |
LensID | Canon EF 17-40mm f/4L USM |
LensInfo | 17-40mm f/? |
LensManualDistortionAmount | 0 |
LensModel | EF17-40mm f/4L USM |
LensProfileEnable | 0 |
LensProfileSetup | LensDefaults |
LensSerialNumber | 0000000000 |
LightValue | 14.6 |
LuminanceAdjustmentAqua | 0 |
LuminanceAdjustmentBlue | 0 |
LuminanceAdjustmentGreen | 0 |
LuminanceAdjustmentMagenta | 0 |
LuminanceAdjustmentOrange | 0 |
LuminanceAdjustmentPurple | 0 |
LuminanceAdjustmentRed | 0 |
LuminanceAdjustmentYellow | 0 |
LuminanceSmoothing | 0 |
Make | Canon |
Marked | True |
MaxApertureValue | 4.0 |
Megapixels | 22.1 |
MeteringMode | Center-weighted average |
Model | Canon EOS 5D Mark III |
ModifyDate (1) | 2016:07:03 21:35:20+02:00 |
ModifyDate | 2016:07:03 21:35:20 |
Orientation | Horizontal (normal) |
ParametricDarks | 0 |
ParametricHighlights | 0 |
ParametricHighlightSplit | 75 |
ParametricLights | 0 |
ParametricMidtoneSplit | 50 |
ParametricShadows | 0 |
ParametricShadowSplit | 25 |
PerspectiveAspect | 0 |
PerspectiveHorizontal | 0 |
PerspectiveRotate | 0.0 |
PerspectiveScale | 100 |
PerspectiveUpright | 0 |
PerspectiveVertical | 0 |
PostCropVignetteAmount | 0 |
ProcessVersion | 6.7 |
ProfileDescription | Adobe RGB (1998) |
Rating | 0 |
RawFileName | _74A0109.CR2 |
RecommendedExposureIndex | 200 |
RedHue | 0 |
RedSaturation | 0 |
Rights | Private use only |
Saturation | 0 |
SaturationAdjustmentAqua | 0 |
SaturationAdjustmentBlue | 0 |
SaturationAdjustmentGreen | 0 |
SaturationAdjustmentMagenta | 0 |
SaturationAdjustmentOrange | 0 |
SaturationAdjustmentPurple | 0 |
SaturationAdjustmentRed | 0 |
SaturationAdjustmentYellow | 0 |
ScaleFactor35efl | 1.0 |
SceneCaptureType | Standard |
SensitivityType | Recommended Exposure Index |
SerialNumber | 033024002594 |
Shadows2012 | +31 |
ShadowTint | 0 |
SharpenDetail | 25 |
SharpenEdgeMasking | 0 |
SharpenRadius | +1.0 |
Sharpness | 25 |
ShutterSpeed | 1/1600 |
ShutterSpeedValue | 1/1600 |
Software | Adobe Photoshop CC 2015 (Windows) |
SplitToningBalance | 0 |
SplitToningHighlightHue | 0 |
SplitToningHighlightSaturation | 0 |
SplitToningShadowHue | 0 |
SplitToningShadowSaturation | 0 |
Tint | +6 |
ToneCurve | 0, 0, 32, 22, 64, 56, 128, 128, 192, 196, 255, 255 |
ToneCurveBlue | 0, 0, 255, 255 |
ToneCurveGreen | 0, 0, 255, 255 |
ToneCurveName | Medium Contrast |
ToneCurveName2012 | Linear |
ToneCurvePV2012 | 0, 0, 255, 255 |
ToneCurvePV2012Blue | 0, 0, 255, 255 |
ToneCurvePV2012Green | 0, 0, 255, 255 |
ToneCurvePV2012Red | 0, 0, 255, 255 |
ToneCurveRed | 0, 0, 255, 255 |
ToneMapStrength | 0 |
URL_List | |
UsageTerms | Private use only |
Version | 9.1.1 |
Vibrance | +4 |
VignetteAmount | 0 |
WhiteBalance (1) | Custom |
WhiteBalance | Manual |
Whites2012 | +34 |