Felt | Verdi |
AlreadyApplied | True |
Aperture | 5.6 |
ApertureValue | 5.6 |
ApproximateFocusDistance | 4294967295 |
Artist | Rikki Martin Langnes |
AutoLateralCA | 0 |
AutoWhiteVersion | 134348800 |
BitsPerSample | 8 |
Blacks2012 | 0 |
BlueHue | 0 |
BlueSaturation | 0 |
By-line | Rikki Martin Langnes |
CameraProfile | Adobe Standard |
CFAPattern | [Red,Green][Green,Blue] |
CircGradBasedCorrActive | true |
CircGradBasedCorrAmount | 1.000000 |
CircGradBasedCorrBrightness | 0.000000 |
CircGradBasedCorrClarity2012 | 0.250636 |
CircGradBasedCorrContrast2012 | 0.626544 |
CircGradBasedCorrDefringe | 0.000000 |
CircGradBasedCorrExposure2012 | 0.027071 |
CircGradBasedCorrHighlights2012 | -0.012445 |
CircGradBasedCorrHue | 235.901993 |
CircGradBasedCorrLocalBlacks2012 | 0.000000 |
CircGradBasedCorrLocalDehaze | 0.000000 |
CircGradBasedCorrLocalWhites2012 | 0.000000 |
CircGradBasedCorrLuminanceNoise | -0.818586 |
CircGradBasedCorrMaskAngle | 0.000000 |
CircGradBasedCorrMaskBottom | 0.479407 |
CircGradBasedCorrMaskFeather | +52 |
CircGradBasedCorrMaskFlipped | true |
CircGradBasedCorrMaskLeft | 0.119818 |
CircGradBasedCorrMaskMidpoint | +50 |
CircGradBasedCorrMaskRight | 0.438002 |
CircGradBasedCorrMaskRoundness | 0 |
CircGradBasedCorrMaskTop | 0.302082 |
CircGradBasedCorrMaskValue | 1.000000 |
CircGradBasedCorrMaskVersion | +2 |
CircGradBasedCorrMaskWhat | Mask/CircularGradient |
CircGradBasedCorrMoire | 0.000000 |
CircGradBasedCorrSaturation (1) | 0.718477 |
CircGradBasedCorrSaturation | 0.000000 |
CircGradBasedCorrShadows2012 | 0.048964 |
CircGradBasedCorrSharpness | 0.341751 |
CircGradBasedCorrTemperature | 0.353107 |
CircGradBasedCorrTint | 0.225472 |
CircGradBasedCorrWhat | Correction |
CircleOfConfusion | 0.020 mm |
Clarity2012 | +22 |
ColorComponents | 3 |
ColorNoiseReduction | 25 |
ColorNoiseReductionDetail | 50 |
ColorNoiseReductionSmoothness | 50 |
ColorSpace | sRGB |
ColorTemperature | 6356 |
ColorTransform | YCbCr |
Contrast | Normal |
Contrast2012 | +27 |
ConvertToGrayscale | False |
Copyright | Rikki Martin Langnes |
CopyrightNotice | Rikki Martin Langnes |
CreateDate (1) | 2017:01:28 12:37:11.49 |
CreateDate | 2017:01:28 12:37:11 |
Creator | Rikki Martin Langnes |
CreatorTool | Adobe Photoshop Lightroom 6.8 (Macintosh) |
CropAngle | 1.36153 |
CropBottom | 0.944521 |
CropConstrainToWarp | 0 |
CropLeft | 0.025079 |
CropRight | 0.916998 |
CropTop | 0.036224 |
CustomRendered | Custom |
DateCreated (1) | 2017:01:28 |
DateCreated | 2017:01:28 12:37:11.49 |
DateTimeOriginal | 2017:01:28 12:37:11 |
DefringeGreenAmount | 0 |
DefringeGreenHueHi | 60 |
DefringeGreenHueLo | 40 |
DefringePurpleAmount | 0 |
DefringePurpleHueHi | 70 |
DefringePurpleHueLo | 30 |
Dehaze | 0 |
DigitalZoomRatio | 1 |
DOF | inf (2.53 m - inf) |
Exposure2012 | +1.25 |
ExposureCompensation | 0 |
ExposureMode | Manual |
ExposureProgram | Manual |
ExposureTime | 1.6 |
Flash | Off, Did not fire |
FNumber | 5.6 |
FocalLength | 17.0 mm |
FocalLength35efl | 17.0 mm (35 mm equivalent: 25.0 mm) |
FocalLengthIn35mmFormat | 25 mm |
Format | image/jpeg |
FOV | 71.5 deg |
GainControl | None |
GradientBasedCorrActive | true |
GradientBasedCorrAmount | 1.000000 |
GradientBasedCorrBrightness | 0.000000 |
GradientBasedCorrClarity2012 (1) | 0.708212 |
GradientBasedCorrClarity2012 (2) | 0.487373 |
GradientBasedCorrClarity2012 | 0.252271 |
GradientBasedCorrContrast2012 (1) | 0.305868 |
GradientBasedCorrContrast2012 (2) | 0.515352 |
GradientBasedCorrContrast2012 | 0.223928 |
GradientBasedCorrDefringe | 0.000000 |
GradientBasedCorrExposure2012 (1) | -0.028434 |
GradientBasedCorrExposure2012 (2) | 0.003634 |
GradientBasedCorrExposure2012 (3) | -0.110738 |
GradientBasedCorrExposure2012 | -0.272347 |
GradientBasedCorrHighlights2012 (1) | 0.163063 |
GradientBasedCorrHighlights2012 | 0.000000 |
GradientBasedCorrHue | 235.901993 |
GradientBasedCorrLocalBlacks2012 | 0.000000 |
GradientBasedCorrLocalDehaze | 0.000000 |
GradientBasedCorrLocalWhites2012 | 0.000000 |
GradientBasedCorrLuminanceNoise (1) | -1.000000 |
GradientBasedCorrLuminanceNoise (3) | -0.683140 |
GradientBasedCorrLuminanceNoise | -0.883358 |
GradientBasedCorrMaskFullX (1) | 0.116720 |
GradientBasedCorrMaskFullX (2) | 0.859850 |
GradientBasedCorrMaskFullX (3) | 0.469646 |
GradientBasedCorrMaskFullX | 0.149070 |
GradientBasedCorrMaskFullY (1) | 0.302695 |
GradientBasedCorrMaskFullY (2) | 0.640075 |
GradientBasedCorrMaskFullY (3) | 0.249436 |
GradientBasedCorrMaskFullY | 0.722205 |
GradientBasedCorrMaskValue | 1.000000 |
GradientBasedCorrMaskWhat | Mask/Gradient |
GradientBasedCorrMaskZeroX (1) | 0.163584 |
GradientBasedCorrMaskZeroX (2) | 0.777657 |
GradientBasedCorrMaskZeroX (3) | 0.489961 |
GradientBasedCorrMaskZeroX | 0.177036 |
GradientBasedCorrMaskZeroY (1) | 0.334322 |
GradientBasedCorrMaskZeroY (2) | 0.587563 |
GradientBasedCorrMaskZeroY (3) | 0.393108 |
GradientBasedCorrMaskZeroY | 0.586715 |
GradientBasedCorrMoire | 0.000000 |
GradientBasedCorrSaturation (1) | -0.312318 |
GradientBasedCorrSaturation (3) | -0.059048 |
GradientBasedCorrSaturation (5) | 0.116007 |
GradientBasedCorrSaturation (7) | -0.294695 |
GradientBasedCorrSaturation | 0.000000 |
GradientBasedCorrShadows2012 (1) | 0.566134 |
GradientBasedCorrShadows2012 (2) | 0.579306 |
GradientBasedCorrShadows2012 (3) | 0.107649 |
GradientBasedCorrShadows2012 | 0.608285 |
GradientBasedCorrSharpness (1) | 0.407794 |
GradientBasedCorrSharpness (2) | 0.000000 |
GradientBasedCorrSharpness | 0.388172 |
GradientBasedCorrTemperature (3) | -0.373547 |
GradientBasedCorrTemperature | -0.167696 |
GradientBasedCorrTint (3) | -0.153616 |
GradientBasedCorrTint | -0.132812 |
GradientBasedCorrWhat | Correction |
GrainAmount | 0 |
GreenHue | 0 |
GreenSaturation | 0 |
HasCrop | True |
HasSettings | True |
Highlights2012 | -23 |
HueAdjustmentAqua | 0 |
HueAdjustmentBlue | 0 |
HueAdjustmentGreen | 0 |
HueAdjustmentMagenta | 0 |
HueAdjustmentOrange | 0 |
HueAdjustmentPurple | 0 |
HueAdjustmentRed | 0 |
HueAdjustmentYellow | 0 |
HyperfocalDistance | 2.53 m |
ImageHeight | 838 |
ImageNumber | 10999 |
ImageSize | 1300x838 |
ImageWidth | 1300 |
ISO | 100 |
Lens | 17.0-50.0 mm f/2.8 |
LensID (1) | 157 |
LensID | Sigma 17-50mm F2.8 EX DC OS HSM |
LensInfo | 17-50mm f/2.8 |
LensManualDistortionAmount | 0 |
LensModel | 17.0-50.0 mm f/2.8 |
LensProfileEnable | 0 |
LensProfileSetup | LensDefaults |
LightSource | Cloudy |
LightValue | 4.3 |
LuminanceAdjustmentAqua | 0 |
LuminanceAdjustmentBlue | 0 |
LuminanceAdjustmentGreen | 0 |
LuminanceAdjustmentMagenta | 0 |
LuminanceAdjustmentOrange | 0 |
LuminanceAdjustmentPurple | 0 |
LuminanceAdjustmentRed | 0 |
LuminanceAdjustmentYellow | 0 |
LuminanceSmoothing | 0 |
Make | NIKON CORPORATION |
MaxApertureValue | 2.8 |
Megapixels | 1.1 |
MeteringMode | Spot |
Model | NIKON D7200 |
ModifyDate (1) | 2017:02:01 23:38:31+01:00 |
ModifyDate | 2017:02:01 23:38:31 |
ParametricDarks | 0 |
ParametricHighlights | 0 |
ParametricHighlightSplit | 75 |
ParametricLights | 0 |
ParametricMidtoneSplit | 50 |
ParametricShadows | 0 |
ParametricShadowSplit | 25 |
PerspectiveAspect | 0 |
PerspectiveHorizontal | 0 |
PerspectiveRotate | 0.0 |
PerspectiveScale | 100 |
PerspectiveUpright | 0 |
PerspectiveVertical | 0 |
PerspectiveX | 0.00 |
PerspectiveY | 0.00 |
PostCropVignetteAmount | 0 |
ProcessVersion | 6.7 |
ProfileDescription | sRGB IEC61966-2.1 |
RedHue | 0 |
RedSaturation | +38 |
Rights | Rikki Martin Langnes |
Saturation (1) | +2 |
Saturation | Normal |
SaturationAdjustmentAqua | 0 |
SaturationAdjustmentBlue | 0 |
SaturationAdjustmentGreen | 0 |
SaturationAdjustmentMagenta | 0 |
SaturationAdjustmentOrange | 0 |
SaturationAdjustmentPurple | 0 |
SaturationAdjustmentRed | 0 |
SaturationAdjustmentYellow | 0 |
ScaleFactor35efl | 1.5 |
SceneCaptureType | Standard |
SceneType | Directly photographed |
SensingMethod | One-chip color area |
SensitivityType | Recommended Exposure Index |
SerialNumber | 8151727 |
Shadows2012 | +19 |
ShadowTint | 0 |
SharpenDetail | 25 |
SharpenEdgeMasking | 0 |
SharpenRadius | +1.0 |
Sharpness (1) | 25 |
Sharpness | Normal |
ShutterSpeed | 1.6 |
ShutterSpeedValue | 1.6 |
Software | Adobe Photoshop Lightroom 6.8 (Macintosh) |
SplitToningBalance | 0 |
SplitToningHighlightHue | 0 |
SplitToningHighlightSaturation | 0 |
SplitToningShadowHue | 0 |
SplitToningShadowSaturation | 0 |
SubjectDistanceRange | Unknown |
Tint | +19 |
ToneCurve | 0, 0, 255, 255 |
ToneCurveBlue | 0, 0, 255, 255 |
ToneCurveGreen | 0, 0, 255, 255 |
ToneCurveName | Linear |
ToneCurveName2012 | Linear |
ToneCurvePV2012 | 0, 0, 255, 255 |
ToneCurvePV2012Blue | 0, 0, 255, 255 |
ToneCurvePV2012Green | 0, 0, 255, 255 |
ToneCurvePV2012Red | 0, 0, 255, 255 |
ToneCurveRed | 0, 0, 255, 255 |
ToneMapStrength | 0 |
Version | 9.8 |
Vibrance | +31 |
VignetteAmount | 0 |
WhiteBalance (1) | Custom |
WhiteBalance | Manual |
Whites2012 | 0 |