Felt | Verdi |
AlreadyApplied | True |
Aperture | 4.5 |
ApertureValue | 4.5 |
ApproximateFocusDistance | 26.6 |
Artist | Erik Lerbaek |
AutoLateralCA | 1 |
BitsPerSample | 8 |
Blacks2012 | 0 |
BlueHue | 0 |
BlueSaturation | 0 |
By-line | Erik Lerbaek |
CameraProfile | Adobe Standard |
CFAPattern | [Red,Green][Green,Blue] |
CircleOfConfusion | 0.030 mm |
Clarity2012 | +9 |
ColorComponents | 3 |
ColorNoiseReduction | 25 |
ColorNoiseReductionDetail | 50 |
ColorNoiseReductionSmoothness | 50 |
ColorSpace | sRGB |
ColorTemperature | 6500 |
ColorTransform | YCbCr |
Contrast | Normal |
Contrast2012 | 0 |
ConvertToGrayscale | False |
Copyright | Erik Lerbaek |
CopyrightNotice | Erik Lerbaek |
CreateDate (1) | 2018:02:10 13:57:00.84 |
CreateDate | 2018:02:10 13:57:00 |
Creator | Erik Lerbaek |
CreatorTool | Adobe Photoshop Lightroom Classic 7.1 (Windows) |
CropAngle | 2.37811 |
CropBottom | 0.976764 |
CropConstrainToWarp | 0 |
CropLeft | 0.042337 |
CropRight | 0.958307 |
CropTop | 0 |
CustomRendered | Normal |
DateCreated (1) | 2018:02:10 |
DateCreated | 2018:02:10 13:57:00.84 |
DateTimeOriginal | 2018:02:10 13:57:00 |
DefringeGreenAmount | 0 |
DefringeGreenHueHi | 60 |
DefringeGreenHueLo | 40 |
DefringePurpleAmount | 0 |
DefringePurpleHueHi | 70 |
DefringePurpleHueLo | 30 |
Dehaze | +11 |
DigitalZoomRatio | 1 |
DistortionCorrectionAlreadyApplied | True |
DOF | 2.11 m (25.59 - 27.69 m) |
Exposure2012 | -0.10 |
ExposureCompensation | +1/3 |
ExposureMode | Auto |
ExposureProgram | Aperture-priority AE |
ExposureTime | 1/320 |
Flash | Off, Did not fire |
FNumber | 4.5 |
FocalLength | 300.0 mm |
FocalLength35efl | 300.0 mm (35 mm equivalent: 300.0 mm) |
FocalLengthIn35mmFormat | 300 mm |
Format | image/jpeg |
FOV | 6.9 deg |
GainControl | High gain up |
GrainAmount | 0 |
GreenHue | 0 |
GreenSaturation | 0 |
HasCrop | True |
HasSettings | True |
Highlights2012 | 0 |
HueAdjustmentAqua | 0 |
HueAdjustmentBlue | 0 |
HueAdjustmentGreen | 0 |
HueAdjustmentMagenta | 0 |
HueAdjustmentOrange | 0 |
HueAdjustmentPurple | 0 |
HueAdjustmentRed | 0 |
HueAdjustmentYellow | 0 |
HyperfocalDistance | 665.64 m |
ImageHeight | 1333 |
ImageNumber | 25217 |
ImageSize | 2048x1333 |
ImageWidth | 2048 |
ISO | 1600 |
LateralChromaticAberrationCorrectionAlreadyApplied | True |
Lens | 300.0 mm f/2.8 |
LensID (1) | 72 |
LensID | AF-S Nikkor 300mm f/2.8D IF-ED + TC-20E or AF-S Nikkor 300mm f/2.8D IF-ED + TC-17E or AF-S Nikkor 300mm f/2.8D IF-ED or AF-S Nikkor 300mm f/2.8D IF-ED + TC-14E or Sigma APO 300mm F2.8 EX DG HSM |
LensInfo | 300mm f/2.8 |
LensManualDistortionAmount | 0 |
LensModel | 300.0 mm f/2.8 |
LensProfileChromaticAberrationScale | 100 |
LensProfileDistortionScale | 100 |
LensProfileEnable | 1 |
LensProfileFilename | NIKON D3X (Nikon AF-S NIKKOR 300mm f2.8G ED VR II) - RAW.lcp |
LensProfileName | Adobe (Nikon AF-S NIKKOR 300mm f/2.8G ED VR II) |
LensProfileSetup | Custom |
LensProfileVignettingScale | 100 |
LightSource | Unknown |
LightValue | 8.7 |
LuminanceAdjustmentAqua | 0 |
LuminanceAdjustmentBlue | 0 |
LuminanceAdjustmentGreen | 0 |
LuminanceAdjustmentMagenta | 0 |
LuminanceAdjustmentOrange | 0 |
LuminanceAdjustmentPurple | 0 |
LuminanceAdjustmentRed | 0 |
LuminanceAdjustmentYellow | 0 |
LuminanceNoiseReductionContrast | 0 |
LuminanceNoiseReductionDetail | 50 |
LuminanceSmoothing | 17 |
Make | NIKON CORPORATION |
MaxApertureValue | 2.8 |
Megapixels | 2.7 |
MeteringMode | Center-weighted average |
Model | NIKON D810 |
ModifyDate (1) | 2018:02:10 15:46:37+01:00 |
ModifyDate | 2018:02:10 15:46:37 |
PaintCorrectionActive | true |
PaintCorrectionAmount | 1.000000 |
PaintCorrectionBrightness | 0.000000 |
PaintCorrectionClarity2012 | 0.000000 |
PaintCorrectionContrast2012 | 0.000000 |
PaintCorrectionCorrectionRangeMaskColorAmount | 0.500000 |
PaintCorrectionCorrectionRangeMaskLumFeather | 0.500000 |
PaintCorrectionCorrectionRangeMaskLumMax | 1.000000 |
PaintCorrectionCorrectionRangeMaskLumMin | 0.000000 |
PaintCorrectionCorrectionRangeMaskType | 0 |
PaintCorrectionCorrectionRangeMaskVersion | +2 |
PaintCorrectionDefringe | 0.000000 |
PaintCorrectionExposure2012 | 0.000000 |
PaintCorrectionHighlights2012 | -0.192310 |
PaintCorrectionHue | 233.000000 |
PaintCorrectionLocalBlacks2012 | 0.000000 |
PaintCorrectionLocalDehaze | 0.000000 |
PaintCorrectionLocalWhites2012 | 0.000000 |
PaintCorrectionLuminanceNoise | 0.173080 |
PaintCorrectionMaskCenterWeight | 0.227191 |
PaintCorrectionMaskFlow | 0.908000 |
PaintCorrectionMaskRadius | 0.021133 |
PaintCorrectionMaskValue | 1.000000 |
PaintCorrectionMaskWhat | Mask/Paint |
PaintCorrectionMoire | 0.000000 |
PaintCorrectionSaturation | 0.000000 |
PaintCorrectionShadows2012 | 0.000000 |
PaintCorrectionSharpness | 0.538460 |
PaintCorrectionTemperature | 0.000000 |
PaintCorrectionTint | 0.000000 |
PaintCorrectionWhat | Correction |
ParametricDarks | 0 |
ParametricHighlights | 0 |
ParametricHighlightSplit | 75 |
ParametricLights | 0 |
ParametricMidtoneSplit | 50 |
ParametricShadows | 0 |
ParametricShadowSplit | 25 |
PerspectiveAspect | 0 |
PerspectiveHorizontal | 0 |
PerspectiveRotate | 0.0 |
PerspectiveScale | 100 |
PerspectiveUpright | 0 |
PerspectiveVertical | 0 |
PerspectiveX | 0.00 |
PerspectiveY | 0.00 |
PostCropVignetteAmount | -15 |
PostCropVignetteFeather | 50 |
PostCropVignetteHighlightContrast | 0 |
PostCropVignetteMidpoint | 69 |
PostCropVignetteRoundness | 0 |
PostCropVignetteStyle | 1 |
ProcessVersion | 10.0 |
ProfileDescription | sRGB IEC61966-2.1 |
RedHue | 0 |
RedSaturation | 0 |
Rights | Erik Lerbaek |
Saturation (1) | 0 |
Saturation | Normal |
SaturationAdjustmentAqua | 0 |
SaturationAdjustmentBlue | 0 |
SaturationAdjustmentGreen | 0 |
SaturationAdjustmentMagenta | 0 |
SaturationAdjustmentOrange | 0 |
SaturationAdjustmentPurple | 0 |
SaturationAdjustmentRed | 0 |
SaturationAdjustmentYellow | 0 |
ScaleFactor35efl | 1.0 |
SceneCaptureType | Standard |
SceneType | Directly photographed |
SensingMethod | One-chip color area |
SensitivityType | Recommended Exposure Index |
SerialNumber | 6010757 |
Shadows2012 | 0 |
ShadowTint | 0 |
SharpenDetail | 25 |
SharpenEdgeMasking | 0 |
SharpenRadius | +1.0 |
Sharpness (1) | 25 |
Sharpness | Normal |
ShutterSpeed | 1/320 |
ShutterSpeedValue | 1/320 |
Software | Adobe Photoshop Lightroom Classic 7.1 (Windows) |
SplitToningBalance | 0 |
SplitToningHighlightHue | 0 |
SplitToningHighlightSaturation | 0 |
SplitToningShadowHue | 0 |
SplitToningShadowSaturation | 0 |
SubjectDistanceRange | Unknown |
Tint | -12 |
ToneCurve | 0, 0, 255, 255 |
ToneCurveBlue | 0, 0, 255, 255 |
ToneCurveGreen | 0, 0, 255, 255 |
ToneCurveName | Linear |
ToneCurveName2012 | Linear |
ToneCurvePV2012 | 0, 0, 255, 255 |
ToneCurvePV2012Blue | 0, 0, 255, 255 |
ToneCurvePV2012Green | 0, 0, 255, 255 |
ToneCurvePV2012Red | 0, 0, 255, 255 |
ToneCurveRed | 0, 0, 255, 255 |
Version | 10.1 |
Vibrance | 0 |
VignetteAmount | 0 |
VignetteCorrectionAlreadyApplied | True |
WhiteBalance (1) | As Shot |
WhiteBalance | Auto |
Whites2012 | +11 |