Felt | Verdi |
AlreadyApplied | True |
Aperture | 6.3 |
ApertureValue | 6.3 |
ApproximateFocusDistance | 53.1 |
Artist | rtj |
AutoLateralCA | 0 |
AutoWhiteVersion | 134348800 |
BitsPerSample | 8 |
Blacks2012 | 0 |
BlueHue | 0 |
BlueSaturation | 0 |
By-line | rtj |
CameraProfile | Adobe Standard |
CFAPattern | [Red,Green][Green,Blue] |
CircleOfConfusion | 0.030 mm |
Clarity2012 | +59 |
ColorComponents | 3 |
ColorNoiseReduction | 25 |
ColorNoiseReductionDetail | 50 |
ColorNoiseReductionSmoothness | 50 |
ColorSpace | sRGB |
ColorTemperature | 5350 |
ColorTransform | YCbCr |
Contrast | Normal |
Contrast2012 | +56 |
ConvertToGrayscale | False |
Copyright | ROLF_JOHNSEN |
CopyrightNotice | ROLF_JOHNSEN |
CreateDate (1) | 2019:01:27 11:40:21.89 |
CreateDate | 2019:01:27 11:40:21 |
Creator | rtj |
CreatorTool | Adobe Photoshop Lightroom 6.8 (Windows) |
CropAngle | 0 |
CropBottom | 0.997107 |
CropConstrainToWarp | 0 |
CropLeft | 0.074253 |
CropRight | 0.727427 |
CropTop | 0.343933 |
CustomRendered | Normal |
DateCreated (1) | 2019:01:27 |
DateCreated | 2019:01:27 11:40:21.89 |
DateTimeOriginal | 2019:01:27 11:40:21 |
DefringeGreenAmount | 0 |
DefringeGreenHueHi | 60 |
DefringeGreenHueLo | 40 |
DefringePurpleAmount | 0 |
DefringePurpleHueHi | 70 |
DefringePurpleHueLo | 30 |
Dehaze | 0 |
DigitalZoomRatio | 1 |
DOF | 49.09 m (38.16 - 87.26 m) |
Exposure2012 | +0.46 |
ExposureCompensation | 0 |
ExposureMode | Manual |
ExposureProgram | Manual |
ExposureTime | 1/320 |
Flash | Off, Did not fire |
FNumber | 6.3 |
FocalLength | 160.0 mm |
FocalLength35efl | 160.0 mm (35 mm equivalent: 160.0 mm) |
FocalLengthIn35mmFormat | 160 mm |
Format | image/jpeg |
FOV | 12.8 deg |
GainControl | None |
GradientBasedCorrActive | true |
GradientBasedCorrAmount | 1.000000 |
GradientBasedCorrBrightness | 0.000000 |
GradientBasedCorrClarity2012 (1) | 0.361110 |
GradientBasedCorrClarity2012 (2) | 0.000000 |
GradientBasedCorrClarity2012 | 0.694440 |
GradientBasedCorrContrast2012 (1) | 0.250000 |
GradientBasedCorrContrast2012 | 0.777780 |
GradientBasedCorrDefringe | 0.000000 |
GradientBasedCorrExposure2012 (1) | 0.430500 |
GradientBasedCorrExposure2012 (2) | -0.389000 |
GradientBasedCorrExposure2012 | 0.597250 |
GradientBasedCorrHighlights2012 (2) | -0.597220 |
GradientBasedCorrHighlights2012 | -0.013890 |
GradientBasedCorrHue | 8.000000 |
GradientBasedCorrLocalBlacks2012 (2) | 0.722220 |
GradientBasedCorrLocalBlacks2012 | 0.236110 |
GradientBasedCorrLocalDehaze | 0.000000 |
GradientBasedCorrLocalWhites2012 (1) | 0.000000 |
GradientBasedCorrLocalWhites2012 (2) | 0.750000 |
GradientBasedCorrLocalWhites2012 | 0.458330 |
GradientBasedCorrLuminanceNoise | 0.500000 |
GradientBasedCorrMaskFullX (1) | 0.306424 |
GradientBasedCorrMaskFullX (2) | 0.402780 |
GradientBasedCorrMaskFullX | 0.175289 |
GradientBasedCorrMaskFullY (1) | 0.967678 |
GradientBasedCorrMaskFullY (2) | 0.565772 |
GradientBasedCorrMaskFullY | 0.461024 |
GradientBasedCorrMaskValue | 1.000000 |
GradientBasedCorrMaskWhat | Mask/Gradient |
GradientBasedCorrMaskZeroX (1) | 0.307826 |
GradientBasedCorrMaskZeroX (2) | 0.394519 |
GradientBasedCorrMaskZeroX | 0.207061 |
GradientBasedCorrMaskZeroY (1) | 0.830677 |
GradientBasedCorrMaskZeroY (2) | 0.766698 |
GradientBasedCorrMaskZeroY | 0.705753 |
GradientBasedCorrMoire | 0.000000 |
GradientBasedCorrSaturation | 0.000000 |
GradientBasedCorrShadows2012 | -0.013890 |
GradientBasedCorrSharpness | 0.000000 |
GradientBasedCorrTemperature (1) | 0.680560 |
GradientBasedCorrTemperature | -0.027780 |
GradientBasedCorrTint | 0.000000 |
GradientBasedCorrWhat | Correction |
GrainAmount | 0 |
GreenHue | 0 |
GreenSaturation | 0 |
HasCrop | True |
HasSettings | True |
Highlights2012 | -62 |
HueAdjustmentAqua | 0 |
HueAdjustmentBlue | 0 |
HueAdjustmentGreen | 0 |
HueAdjustmentMagenta | 0 |
HueAdjustmentOrange | 0 |
HueAdjustmentPurple | 0 |
HueAdjustmentRed | 0 |
HueAdjustmentYellow | 0 |
HyperfocalDistance | 135.24 m |
ImageHeight | 2623 |
ImageNumber | 17044 |
ImageSize | 3929x2623 |
ImageWidth | 3929 |
ISO | 80 |
Lens | 150.0-600.0 mm f/5.0-6.3 |
LensID (1) | 227 |
LensID | Tamron SP 150-600mm f/5-6.3 Di VC USD G2 |
LensInfo | 150-600mm f/5-6.3 |
LensManualDistortionAmount | 0 |
LensModel | 150.0-600.0 mm f/5.0-6.3 |
LensProfileEnable | 0 |
LensProfileSetup | LensDefaults |
LightSource | Unknown |
LightValue | 14.0 |
LuminanceAdjustmentAqua | 0 |
LuminanceAdjustmentBlue | 0 |
LuminanceAdjustmentGreen | 0 |
LuminanceAdjustmentMagenta | 0 |
LuminanceAdjustmentOrange | 0 |
LuminanceAdjustmentPurple | 0 |
LuminanceAdjustmentRed | 0 |
LuminanceAdjustmentYellow | 0 |
LuminanceSmoothing | 0 |
Make | NIKON CORPORATION |
MaxApertureValue | 4.9 |
Megapixels | 10.3 |
MeteringMode | Spot |
Model | NIKON D750 |
ModifyDate (1) | 2019:01:28 09:51:43+01:00 |
ModifyDate | 2019:01:28 09:51:43 |
PaintCorrectionActive | true |
PaintCorrectionAmount | 1.000000 |
PaintCorrectionBrightness | 0.000000 |
PaintCorrectionClarity2012 | 0.000000 |
PaintCorrectionContrast2012 | 0.250000 |
PaintCorrectionDefringe | 0.000000 |
PaintCorrectionExposure2012 | 0.597250 |
PaintCorrectionHighlights2012 | -0.013890 |
PaintCorrectionHue | 8.000000 |
PaintCorrectionLocalBlacks2012 | 0.236110 |
PaintCorrectionLocalDehaze | 0.000000 |
PaintCorrectionLocalWhites2012 | 0.000000 |
PaintCorrectionLuminanceNoise | 0.500000 |
PaintCorrectionMaskCenterWeight | 0.003539 |
PaintCorrectionMaskFlow | 0.566000 |
PaintCorrectionMaskRadius | 0.003499 |
PaintCorrectionMaskValue | 0.753000 |
PaintCorrectionMaskWhat | Mask/Paint |
PaintCorrectionMoire | 0.000000 |
PaintCorrectionSaturation | 0.000000 |
PaintCorrectionShadows2012 | -0.013890 |
PaintCorrectionSharpness | 0.000000 |
PaintCorrectionTemperature | -0.027780 |
PaintCorrectionTint | 0.000000 |
PaintCorrectionWhat | Correction |
ParametricDarks | 0 |
ParametricHighlights | 0 |
ParametricHighlightSplit | 75 |
ParametricLights | 0 |
ParametricMidtoneSplit | 50 |
ParametricShadows | 0 |
ParametricShadowSplit | 25 |
PerspectiveAspect | 0 |
PerspectiveHorizontal | 0 |
PerspectiveRotate | 0.0 |
PerspectiveScale | 100 |
PerspectiveUpright | 0 |
PerspectiveVertical | 0 |
PerspectiveX | 0.00 |
PerspectiveY | 0.00 |
PostCropVignetteAmount | 0 |
ProcessVersion | 6.7 |
ProfileDescription | sRGB IEC61966-2.1 |
RedHue | 0 |
RedSaturation | 0 |
Rights | ROLF_JOHNSEN |
Saturation (1) | 0 |
Saturation | Normal |
SaturationAdjustmentAqua | 0 |
SaturationAdjustmentBlue | 0 |
SaturationAdjustmentGreen | 0 |
SaturationAdjustmentMagenta | 0 |
SaturationAdjustmentOrange | 0 |
SaturationAdjustmentPurple | 0 |
SaturationAdjustmentRed | 0 |
SaturationAdjustmentYellow | 0 |
ScaleFactor35efl | 1.0 |
SceneCaptureType | Standard |
SceneType | Directly photographed |
SensingMethod | One-chip color area |
SensitivityType | Recommended Exposure Index |
SerialNumber | 6137599 |
Shadows2012 | 0 |
ShadowTint | 0 |
SharpenDetail | 25 |
SharpenEdgeMasking | 0 |
SharpenRadius | +1.0 |
Sharpness (1) | 25 |
Sharpness | Normal |
ShutterSpeed | 1/320 |
ShutterSpeedValue | 1/320 |
Software | Adobe Photoshop Lightroom 6.8 (Windows) |
SplitToningBalance | 0 |
SplitToningHighlightHue | 0 |
SplitToningHighlightSaturation | 0 |
SplitToningShadowHue | 0 |
SplitToningShadowSaturation | 0 |
SubjectDistanceRange | Unknown |
Tint | +5 |
ToneCurve | 0, 0, 255, 255 |
ToneCurveBlue | 0, 0, 255, 255 |
ToneCurveGreen | 0, 0, 255, 255 |
ToneCurveName | Linear |
ToneCurveName2012 | Linear |
ToneCurvePV2012 | 0, 0, 255, 255 |
ToneCurvePV2012Blue | 0, 0, 255, 255 |
ToneCurvePV2012Green | 0, 0, 255, 255 |
ToneCurvePV2012Red | 0, 0, 255, 255 |
ToneCurveRed | 0, 0, 255, 255 |
ToneMapStrength | 0 |
Version | 9.8 |
Vibrance | 0 |
VignetteAmount | 0 |
WhiteBalance (1) | As Shot |
WhiteBalance | Auto |
Whites2012 | +77 |