Felt | Verdi |
AlreadyApplied | True |
Aperture | 6.4 |
ApertureValue | 6.4 |
Artist | ARILD THINGVOLL |
AutoLateralCA | 1 |
BitsPerSample | 8 |
Blacks2012 | -4 |
BlueHue | 0 |
BlueSaturation | 0 |
BrightnessValue | 4.13 |
By-line | ARILD THINGVOLL |
CameraProfile | Adobe Standard |
CircGradBasedCorrActive | true |
CircGradBasedCorrAmount | 1.000000 |
CircGradBasedCorrBrightness | 0.000000 |
CircGradBasedCorrClarity2012 | 0.000000 |
CircGradBasedCorrContrast2012 | 0.000000 |
CircGradBasedCorrDefringe | 0.000000 |
CircGradBasedCorrExposure2012 | 0.087000 |
CircGradBasedCorrHighlights2012 | 0.000000 |
CircGradBasedCorrHue | 101.000000 |
CircGradBasedCorrLocalBlacks2012 | 0.000000 |
CircGradBasedCorrLocalDehaze (22) | 0.021740 |
CircGradBasedCorrLocalDehaze | 0.000000 |
CircGradBasedCorrLocalTexture (1) | 0.217390 |
CircGradBasedCorrLocalTexture | 0.000000 |
CircGradBasedCorrLocalWhites2012 | 0.000000 |
CircGradBasedCorrLuminanceNoise | 0.000000 |
CircGradBasedCorrMaskAngle (23) | 30.195200 |
CircGradBasedCorrMaskAngle (28) | -0.396525 |
CircGradBasedCorrMaskAngle (3) | 0.000000 |
CircGradBasedCorrMaskAngle | -42.101700 |
CircGradBasedCorrMaskBottom (1) | 0.734647 |
CircGradBasedCorrMaskBottom (10) | 0.353038 |
CircGradBasedCorrMaskBottom (11) | 0.370702 |
CircGradBasedCorrMaskBottom (12) | 0.347876 |
CircGradBasedCorrMaskBottom (13) | 0.351013 |
CircGradBasedCorrMaskBottom (14) | 0.356647 |
CircGradBasedCorrMaskBottom (15) | 0.363730 |
CircGradBasedCorrMaskBottom (16) | 0.443862 |
CircGradBasedCorrMaskBottom (17) | 0.425747 |
CircGradBasedCorrMaskBottom (18) | 0.401489 |
CircGradBasedCorrMaskBottom (19) | 0.437423 |
CircGradBasedCorrMaskBottom (2) | 0.245132 |
CircGradBasedCorrMaskBottom (20) | 0.400986 |
CircGradBasedCorrMaskBottom (21) | 0.360996 |
CircGradBasedCorrMaskBottom (22) | 0.779518 |
CircGradBasedCorrMaskBottom (23) | 0.792500 |
CircGradBasedCorrMaskBottom (24) | 0.502637 |
CircGradBasedCorrMaskBottom (25) | 0.449153 |
CircGradBasedCorrMaskBottom (26) | 0.443700 |
CircGradBasedCorrMaskBottom (27) | 0.404777 |
CircGradBasedCorrMaskBottom (28) | 0.431593 |
CircGradBasedCorrMaskBottom (3) | 0.278577 |
CircGradBasedCorrMaskBottom (4) | 0.321502 |
CircGradBasedCorrMaskBottom (5) | 0.358332 |
CircGradBasedCorrMaskBottom (6) | 0.431253 |
CircGradBasedCorrMaskBottom (7) | 0.368908 |
CircGradBasedCorrMaskBottom (8) | 0.241805 |
CircGradBasedCorrMaskBottom (9) | 0.351288 |
CircGradBasedCorrMaskBottom | 0.121795 |
CircGradBasedCorrMaskFeather | +100 |
CircGradBasedCorrMaskFlipped | true |
CircGradBasedCorrMaskLeft (1) | 0.519353 |
CircGradBasedCorrMaskLeft (10) | 0.629215 |
CircGradBasedCorrMaskLeft (11) | 0.693999 |
CircGradBasedCorrMaskLeft (12) | 0.766970 |
CircGradBasedCorrMaskLeft (13) | 0.815720 |
CircGradBasedCorrMaskLeft (14) | 0.859722 |
CircGradBasedCorrMaskLeft (15) | 0.924916 |
CircGradBasedCorrMaskLeft (16) | 0.892029 |
CircGradBasedCorrMaskLeft (17) | 0.836125 |
CircGradBasedCorrMaskLeft (18) | 0.765495 |
CircGradBasedCorrMaskLeft (19) | 0.688243 |
CircGradBasedCorrMaskLeft (2) | 0.904317 |
CircGradBasedCorrMaskLeft (20) | 0.645353 |
CircGradBasedCorrMaskLeft (21) | 0.225179 |
CircGradBasedCorrMaskLeft (22) | 0.129803 |
CircGradBasedCorrMaskLeft (23) | 0.708774 |
CircGradBasedCorrMaskLeft (24) | 0.647468 |
CircGradBasedCorrMaskLeft (25) | 0.354444 |
CircGradBasedCorrMaskLeft (26) | 0.290628 |
CircGradBasedCorrMaskLeft (27) | 0.059128 |
CircGradBasedCorrMaskLeft (28) | 0.136434 |
CircGradBasedCorrMaskLeft (3) | 0.813797 |
CircGradBasedCorrMaskLeft (4) | 0.716593 |
CircGradBasedCorrMaskLeft (5) | 0.633851 |
CircGradBasedCorrMaskLeft (6) | -0.039388 |
CircGradBasedCorrMaskLeft (7) | 0.449441 |
CircGradBasedCorrMaskLeft (8) | 0.530079 |
CircGradBasedCorrMaskLeft (9) | 0.488610 |
CircGradBasedCorrMaskLeft | 0.378988 |
CircGradBasedCorrMaskMidpoint | +50 |
CircGradBasedCorrMaskRight (1) | 0.683881 |
CircGradBasedCorrMaskRight (10) | 0.706525 |
CircGradBasedCorrMaskRight (11) | 0.796474 |
CircGradBasedCorrMaskRight (12) | 0.844878 |
CircGradBasedCorrMaskRight (13) | 0.893729 |
CircGradBasedCorrMaskRight (14) | 0.937760 |
CircGradBasedCorrMaskRight (15) | 1.003010 |
CircGradBasedCorrMaskRight (16) | 0.968429 |
CircGradBasedCorrMaskRight (17) | 0.912708 |
CircGradBasedCorrMaskRight (18) | 0.842326 |
CircGradBasedCorrMaskRight (19) | 0.764088 |
CircGradBasedCorrMaskRight (2) | 0.984504 |
CircGradBasedCorrMaskRight (20) | 0.721765 |
CircGradBasedCorrMaskRight (21) | 0.641577 |
CircGradBasedCorrMaskRight (22) | 0.219302 |
CircGradBasedCorrMaskRight (23) | 0.940510 |
CircGradBasedCorrMaskRight (24) | 0.695983 |
CircGradBasedCorrMaskRight (25) | 0.498221 |
CircGradBasedCorrMaskRight (26) | 0.412990 |
CircGradBasedCorrMaskRight (27) | 0.180118 |
CircGradBasedCorrMaskRight (28) | 0.294440 |
CircGradBasedCorrMaskRight (3) | 0.893023 |
CircGradBasedCorrMaskRight (4) | 0.794624 |
CircGradBasedCorrMaskRight (5) | 0.710842 |
CircGradBasedCorrMaskRight (6) | 0.323680 |
CircGradBasedCorrMaskRight (7) | 0.510963 |
CircGradBasedCorrMaskRight (8) | 0.656915 |
CircGradBasedCorrMaskRight (9) | 0.565398 |
CircGradBasedCorrMaskRight | 0.425574 |
CircGradBasedCorrMaskRoundness | 0 |
CircGradBasedCorrMaskTop (1) | 0.183582 |
CircGradBasedCorrMaskTop (10) | 0.281467 |
CircGradBasedCorrMaskTop (11) | 0.264413 |
CircGradBasedCorrMaskTop (12) | 0.275752 |
CircGradBasedCorrMaskTop (13) | 0.278796 |
CircGradBasedCorrMaskTop (14) | 0.284402 |
CircGradBasedCorrMaskTop (15) | 0.291430 |
CircGradBasedCorrMaskTop (16) | 0.373134 |
CircGradBasedCorrMaskTop (17) | 0.354849 |
CircGradBasedCorrMaskTop (18) | 0.330361 |
CircGradBasedCorrMaskTop (19) | 0.367209 |
CircGradBasedCorrMaskTop (2) | -0.013645 |
CircGradBasedCorrMaskTop (20) | 0.330246 |
CircGradBasedCorrMaskTop (21) | 0.089863 |
CircGradBasedCorrMaskTop (22) | 0.682580 |
CircGradBasedCorrMaskTop (23) | 0.461298 |
CircGradBasedCorrMaskTop (24) | 0.455962 |
CircGradBasedCorrMaskTop (25) | 0.353783 |
CircGradBasedCorrMaskTop (26) | 0.281046 |
CircGradBasedCorrMaskTop (27) | 0.292058 |
CircGradBasedCorrMaskTop (28) | 0.320625 |
CircGradBasedCorrMaskTop (3) | 0.022901 |
CircGradBasedCorrMaskTop (4) | 0.069682 |
CircGradBasedCorrMaskTop (5) | 0.109869 |
CircGradBasedCorrMaskTop (6) | 0.136666 |
CircGradBasedCorrMaskTop (7) | 0.131038 |
CircGradBasedCorrMaskTop (8) | 0.189129 |
CircGradBasedCorrMaskTop (9) | 0.280201 |
CircGradBasedCorrMaskTop | 0.135035 |
CircGradBasedCorrMaskValue | 1.000000 |
CircGradBasedCorrMaskVersion | +2 |
CircGradBasedCorrMoire | 0.000000 |
CircGradBasedCorrSaturation (41) | 0.173910 |
CircGradBasedCorrSaturation | 0.000000 |
CircGradBasedCorrShadows2012 (1) | 0.760870 |
CircGradBasedCorrShadows2012 (11) | 0.000000 |
CircGradBasedCorrShadows2012 (27) | 0.413040 |
CircGradBasedCorrShadows2012 | 0.260870 |
CircGradBasedCorrSharpness | 0.000000 |
CircGradBasedCorrTemperature (21) | 0.608700 |
CircGradBasedCorrTemperature | 0.000000 |
CircGradBasedCorrTint (21) | 0.260870 |
CircGradBasedCorrTint | 0.000000 |
CircGradBasedCorrWhat | Correction |
CircleOfConfusion | 0.020 mm |
Clarity2012 | +14 |
ColorComponents | 3 |
ColorNoiseReduction | 25 |
ColorNoiseReductionDetail | 50 |
ColorNoiseReductionSmoothness | 50 |
ColorSpace | sRGB |
ColorTemperature | 5900 |
ColorTransform | YCbCr |
Contrast2012 | 0 |
ConvertToGrayscale | False |
CreateDate | 2019:07:15 21:02:26 |
Creator | ARILD THINGVOLL |
CropAngle | 0 |
CropBottom | 0.841004 |
CropConstrainToWarp | 0 |
CropLeft | 0.041272 |
CropRight | 1 |
CropTop | 0.001674 |
CustomRendered | Normal |
DateCreated (1) | 2019:07:15 |
DateCreated | 2019:07:15 21:02:26 |
DateTimeOriginal | 2019:07:15 21:02:26 |
DefringeGreenAmount | 0 |
DefringeGreenHueHi | 60 |
DefringeGreenHueLo | 40 |
DefringePurpleAmount | 0 |
DefringePurpleHueHi | 70 |
DefringePurpleHueLo | 30 |
Dehaze | 0 |
Exposure2012 | -1.31 |
ExposureCompensation | -2 |
ExposureMode | Auto |
ExposureProgram | Aperture-priority AE |
ExposureTime | 1/140 |
Flash | No Flash |
FNumber | 6.4 |
FocalLength | 16.0 mm |
FocalLengthIn35mmFormat | 24 mm |
Format | image/jpeg |
FOV | 73.7 deg |
GrainAmount | 0 |
GreenHue | 0 |
GreenSaturation | 0 |
HasCrop | True |
HasSettings | True |
Highlights2012 | -100 |
HueAdjustmentAqua | 0 |
HueAdjustmentBlue | 0 |
HueAdjustmentGreen | 0 |
HueAdjustmentMagenta | 0 |
HueAdjustmentOrange | 0 |
HueAdjustmentPurple | 0 |
HueAdjustmentRed | 0 |
HueAdjustmentYellow | 0 |
HyperfocalDistance | 2.00 m |
ImageHeight | 700 |
ImageSize | 1200x700 |
ImageWidth | 1200 |
ISO | 400 |
Keywords | 0719 |
Lens | XF16mmF1.4 R WR |
LensInfo | 16mm f/1.4 |
LensMake | FUJIFILM |
LensManualDistortionAmount | 0 |
LensModel | XF16mmF1.4 R WR |
LensProfileEnable | 0 |
LensProfileSetup | LensDefaults |
LensSerialNumber | 76A00436 |
LightSource | Unknown |
LightValue | 10.5 |
LookAmount | 1.000000 |
LookGroup | Profiles |
LookName | Adobe Color |
LookParametersCameraProfile | Adobe Standard |
LookParametersConvertToGrayscale | False |
LookParametersLookTable | E1095149FDB39D7A057BAB208837E2E1 |
LookParametersProcessVersion | 11.0 |
LookParametersToneCurvePV2012 | 0, 0, 22, 16, 40, 35, 127, 127, 224, 230, 240, 246, 255, 255 |
LookParametersToneCurvePV2012Blue | 0, 0, 255, 255 |
LookParametersToneCurvePV2012Green | 0, 0, 255, 255 |
LookParametersToneCurvePV2012Red | 0, 0, 255, 255 |
LookParametersVersion | 11.4 |
LookSupportsAmount | false |
LookSupportsMonochrome | false |
LookSupportsOutputReferred | false |
LuminanceAdjustmentAqua | 0 |
LuminanceAdjustmentBlue | 0 |
LuminanceAdjustmentGreen | 0 |
LuminanceAdjustmentMagenta | 0 |
LuminanceAdjustmentOrange | 0 |
LuminanceAdjustmentPurple | 0 |
LuminanceAdjustmentRed | 0 |
LuminanceAdjustmentYellow | 0 |
LuminanceSmoothing | 0 |
Make | FUJIFILM |
MaxApertureValue | 1.4 |
Megapixels | 0.840 |
MeteringMode | Multi-segment |
Model | X-H1 |
ModifyDate (1) | 2019:08:21 20:57:22+02:00 |
ModifyDate | 2019:08:21 20:57:22 |
OverrideLookVignette | False |
PaintCorrectionActive | true |
PaintCorrectionAmount | 1.000000 |
PaintCorrectionBrightness | 0.000000 |
PaintCorrectionClarity2012 | 0.000000 |
PaintCorrectionContrast2012 (1) | 0.021740 |
PaintCorrectionContrast2012 | 0.000000 |
PaintCorrectionCorrectionRangeMaskType | 0 |
PaintCorrectionDefringe | 0.000000 |
PaintCorrectionExposure2012 (1) | 0.000000 |
PaintCorrectionExposure2012 | 0.065250 |
PaintCorrectionHighlights2012 | 0.000000 |
PaintCorrectionHue | 101.000000 |
PaintCorrectionLocalBlacks2012 | 0.000000 |
PaintCorrectionLocalDehaze | 0.000000 |
PaintCorrectionLocalTexture (2) | 0.000000 |
PaintCorrectionLocalTexture | 0.217390 |
PaintCorrectionLocalWhites2012 | 0.000000 |
PaintCorrectionLuminanceNoise | 0.000000 |
PaintCorrectionMaskCenterWeight | 0.000000 |
PaintCorrectionMaskFlow | 1.000000 |
PaintCorrectionMaskRadius (1) | 0.118958 |
PaintCorrectionMaskRadius (10) | 0.062440 |
PaintCorrectionMaskRadius (11) | 0.020635 |
PaintCorrectionMaskRadius (12) | 0.020369 |
PaintCorrectionMaskRadius (13) | 0.015224 |
PaintCorrectionMaskRadius (14) | 0.015696 |
PaintCorrectionMaskRadius (15) | 0.015635 |
PaintCorrectionMaskRadius (16) | 0.015502 |
PaintCorrectionMaskRadius (17) | 0.016752 |
PaintCorrectionMaskRadius (18) | 0.016865 |
PaintCorrectionMaskRadius (19) | 0.016876 |
PaintCorrectionMaskRadius (2) | 0.045468 |
PaintCorrectionMaskRadius (20) | 0.016881 |
PaintCorrectionMaskRadius (3) | 0.050291 |
PaintCorrectionMaskRadius (4) | 0.038689 |
PaintCorrectionMaskRadius (5) | 0.028145 |
PaintCorrectionMaskRadius (6) | 0.071487 |
PaintCorrectionMaskRadius (7) | 0.162371 |
PaintCorrectionMaskRadius (8) | 0.077489 |
PaintCorrectionMaskRadius (9) | 0.050985 |
PaintCorrectionMaskRadius | 0.016834 |
PaintCorrectionMaskValue | 1.000000 |
PaintCorrectionMaskWhat | Mask/Paint |
PaintCorrectionMoire | 0.000000 |
PaintCorrectionSaturation | 0.000000 |
PaintCorrectionShadows2012 (1) | 0.000000 |
PaintCorrectionShadows2012 (2) | 0.260870 |
PaintCorrectionShadows2012 | 0.152170 |
PaintCorrectionSharpness | 0.000000 |
PaintCorrectionTemperature | 0.000000 |
PaintCorrectionTint | 0.000000 |
PaintCorrectionWhat | Correction |
ParametricDarks | 0 |
ParametricHighlights | 0 |
ParametricHighlightSplit | 75 |
ParametricLights | +13 |
ParametricMidtoneSplit | 50 |
ParametricShadows | +40 |
ParametricShadowSplit | 25 |
PerspectiveAspect | 0 |
PerspectiveHorizontal | 0 |
PerspectiveRotate | 0.0 |
PerspectiveScale | 100 |
PerspectiveUpright | 1 |
PerspectiveVertical | 0 |
PerspectiveX | 0.00 |
PerspectiveY | 0.00 |
PostCropVignetteAmount | 0 |
PreservedFileName | XH103922.RAF |
ProcessVersion | 11.0 |
ProfileDescription | sRGB IEC61966-2.1 |
RedHue | 0 |
RedSaturation | 0 |
Saturation | 0 |
SaturationAdjustmentAqua | 0 |
SaturationAdjustmentBlue | 0 |
SaturationAdjustmentGreen | 0 |
SaturationAdjustmentMagenta | 0 |
SaturationAdjustmentOrange | 0 |
SaturationAdjustmentPurple | 0 |
SaturationAdjustmentRed | 0 |
SaturationAdjustmentYellow | 0 |
ScaleFactor35efl | 1.5 |
SceneCaptureType | Standard |
SceneType | Directly photographed |
SensingMethod | One-chip color area |
SerialNumber | 81A55422 |
Shadows2012 | +100 |
ShadowTint | 0 |
SharpenDetail | 29 |
SharpenEdgeMasking | 67 |
SharpenRadius | +1.1 |
Sharpness (1) | 86 |
Sharpness | Normal |
ShutterSpeed | 1/140 |
ShutterSpeedValue | 1/140 |
SplitToningBalance | 0 |
SplitToningHighlightHue | 0 |
SplitToningHighlightSaturation | 0 |
SplitToningShadowHue | 0 |
SplitToningShadowSaturation | 0 |
Subject | 0719 |
SubjectDistanceRange | Unknown |
Texture | 0 |
Tint | +14 |
ToneCurve | 0, 0, 255, 255 |
ToneCurveBlue | 0, 0, 255, 255 |
ToneCurveGreen | 0, 0, 255, 255 |
ToneCurveName | Linear |
ToneCurveName2012 | Linear |
ToneCurvePV2012 | 0, 0, 255, 255 |
ToneCurvePV2012Blue | 0, 0, 255, 255 |
ToneCurvePV2012Green | 0, 0, 255, 255 |
ToneCurvePV2012Red | 0, 0, 255, 255 |
ToneCurveRed | 0, 0, 255, 255 |
ToneMapStrength | 0 |
Version | 11.4 |
Vibrance | +7 |
VignetteAmount | 0 |
VignetteCorrectionAlreadyApplied | True |
WhiteBalance (1) | As Shot |
WhiteBalance | Auto |
Whites2012 | +55 |