Felt | Verdi |
AlreadyApplied | True |
Aperture | 22.0 |
ApertureValue | 22.0 |
ApproximateFocusDistance | 3.98 |
AutoLateralCA | 1 |
AutoWhiteVersion | 134348800 |
BitsPerSample (1) | 8 8 8 |
BitsPerSample | 8 |
Blacks2012 | 0 |
BlueHue | 0 |
BlueSaturation | 0 |
CameraProfile | Embedded |
CFAPattern | [Red,Green][Green,Blue] |
CircleOfConfusion | 0.020 mm |
Clarity2012 | +55 |
ColorComponents | 3 |
ColorMode | RGB |
ColorNoiseReduction | 0 |
ColorSpace | sRGB |
ColorTransform | YCbCr |
Contrast | Normal |
Contrast2012 | 0 |
ConvertToGrayscale | False |
CreateDate (1) | 2011:11:18 13:19:28+01:00 |
CreateDate | 2011:11:18 13:19:28 |
CreatorTool | Adobe Photoshop Elements 12.0 Windows |
CustomRendered | Normal |
DateAcquired | 2011:11:18 15:37:41.135 |
DateCreated | 2011:11:18 |
DateTimeOriginal | 2011:11:18 13:19:28 |
DefringeGreenAmount | 0 |
DefringeGreenHueHi | 60 |
DefringeGreenHueLo | 40 |
DefringePurpleAmount | 0 |
DefringePurpleHueHi | 70 |
DefringePurpleHueLo | 30 |
DigitalZoomRatio | 1 |
DOF | 0.69 m (3.66 - 4.36 m) |
ExifImageHeight | 900 |
ExifImageWidth | 598 |
Exposure2012 | 0.00 |
ExposureCompensation | -1/3 |
ExposureMode | Auto |
ExposureProgram | Program AE |
ExposureTime | 0.6 |
Flash | No Flash |
FNumber | 22.0 |
FocalLength | 140.0 mm |
FocalLength35efl | 140.0 mm (35 mm equivalent: 210.0 mm) |
FocalLengthIn35mmFormat | 210 mm |
Format | image/jpeg |
FOV | 9.8 deg |
GainControl | None |
GrainAmount | 0 |
GreenHue | 0 |
GreenSaturation | 0 |
HasCrop | False |
HasSettings | True |
Highlights2012 | -100 |
HueAdjustmentAqua | 0 |
HueAdjustmentBlue | 0 |
HueAdjustmentGreen | 0 |
HueAdjustmentMagenta | 0 |
HueAdjustmentOrange | 0 |
HueAdjustmentPurple | 0 |
HueAdjustmentRed | 0 |
HueAdjustmentYellow | 0 |
HyperfocalDistance | 44.48 m |
ICCProfileName | sRGB IEC61966-2.1 |
ImageHeight (1) | 2694 |
ImageHeight | 900 |
ImageNumber | 16989 |
ImageSize | 598x900 |
ImageWidth (1) | 1789 |
ImageWidth | 598 |
IncrementalTemperature | 0 |
IncrementalTint | 0 |
ISO | 200 |
Lens | 70.0-300.0 mm f/4.5-5.6 |
LensID (1) | 141 |
LensID | AF-S VR Zoom-Nikkor 70-300mm f/4.5-5.6G IF-ED |
LensInfo | 70-300mm f/4.5-5.6 |
LensManualDistortionAmount | 0 |
LensModel | 70.0-300.0 mm f/4.5-5.6 |
LensProfileEnable | 0 |
LensProfileSetup | LensDefaults |
LightSource | Unknown |
LightValue | 8.7 |
LuminanceAdjustmentAqua | 0 |
LuminanceAdjustmentBlue | +24 |
LuminanceAdjustmentGreen | 0 |
LuminanceAdjustmentMagenta | 0 |
LuminanceAdjustmentOrange | 0 |
LuminanceAdjustmentPurple | 0 |
LuminanceAdjustmentRed | 0 |
LuminanceAdjustmentYellow | 0 |
LuminanceNoiseReductionContrast | 0 |
LuminanceNoiseReductionDetail | 50 |
LuminanceSmoothing | 33 |
Make | NIKON CORPORATION |
MaxApertureValue | 4.8 |
Megapixels | 0.538 |
MeteringMode | Multi-segment |
Model | NIKON D300 |
ModifyDate (1) | 2019:12:06 14:50:14+01:00 |
ModifyDate | 2019:12:06 14:50:14 |
Orientation | Horizontal (normal) |
ParametricDarks | +40 |
ParametricHighlights | 0 |
ParametricHighlightSplit | 75 |
ParametricLights | 0 |
ParametricMidtoneSplit | 50 |
ParametricShadows | 0 |
ParametricShadowSplit | 25 |
PerspectiveAspect | 0 |
PerspectiveHorizontal | 0 |
PerspectiveRotate | 0.0 |
PerspectiveScale | 100 |
PerspectiveUpright | 0 |
PerspectiveVertical | 0 |
PhotometricInterpretation | RGB |
PostCropVignetteAmount | 0 |
ProcessVersion | 6.7 |
ProfileDescription | sRGB IEC61966-2.1 |
RawFileName | 053kl.JPG |
RedHue | 0 |
RedSaturation | 0 |
SamplesPerPixel | 3 |
Saturation (1) | 0 |
Saturation | Normal |
SaturationAdjustmentAqua | 0 |
SaturationAdjustmentBlue | 0 |
SaturationAdjustmentGreen | 0 |
SaturationAdjustmentMagenta | 0 |
SaturationAdjustmentOrange | 0 |
SaturationAdjustmentPurple | 0 |
SaturationAdjustmentRed | 0 |
SaturationAdjustmentYellow | 0 |
ScaleFactor35efl | 1.5 |
SceneCaptureType | Standard |
SceneType | Directly photographed |
SensingMethod | One-chip color area |
SerialNumber | 4133996 |
Shadows2012 | 0 |
ShadowTint | 0 |
SharpenDetail | 25 |
SharpenEdgeMasking | 0 |
SharpenRadius | +1.5 |
Sharpness (1) | 70 |
Sharpness | Normal |
ShutterSpeed | 0.6 |
ShutterSpeedValue | 0.6 |
Software | Adobe Photoshop Elements 12.0 Windows |
SplitToningBalance | 0 |
SplitToningHighlightHue | 0 |
SplitToningHighlightSaturation | 0 |
SplitToningShadowHue | 0 |
SplitToningShadowSaturation | 0 |
SubjectDistance | 3.98 m |
SubjectDistanceRange | Unknown |
ToneCurve | 0, 0, 255, 255 |
ToneCurveBlue | 0, 0, 255, 255 |
ToneCurveGreen | 0, 0, 255, 255 |
ToneCurveName | Linear |
ToneCurveName2012 | Linear |
ToneCurvePV2012 | 0, 0, 255, 255 |
ToneCurvePV2012Blue | 0, 0, 255, 255 |
ToneCurvePV2012Green | 0, 0, 255, 255 |
ToneCurvePV2012Red | 0, 0, 255, 255 |
ToneCurveRed | 0, 0, 255, 255 |
URL_List | |
Version | 9.0 |
Vibrance | 0 |
VignetteAmount | 0 |
WhiteBalance (1) | As Shot |
WhiteBalance | Auto |
Whites2012 | +36 |