Felt | Verdi |
AlreadyApplied | True |
Aperture | 20.0 |
ApertureValue | 20.0 |
Artist | Morten Eriksen |
AutoLateralCA | 0 |
BitsPerSample | 8 |
Blacks2012 | 0 |
BlueHue | 0 |
BlueSaturation | 0 |
BrightnessValue | 8.80234375 |
By-line | Morten Eriksen |
CameraProfile | Adobe Standard |
CircleOfConfusion | 0.030 mm |
Clarity2012 | 0 |
ColorComponents | 3 |
ColorMode | RGB |
ColorNoiseReduction | 25 |
ColorNoiseReductionDetail | 50 |
ColorNoiseReductionSmoothness | 50 |
ColorSpace | Uncalibrated |
ColorTemperature | 5400 |
ColorTransform | YCbCr |
Contrast | Normal |
Contrast2012 | +36 |
ConvertToGrayscale | False |
Copyright | Morten Eriksen |
CopyrightNotice | Morten Eriksen |
CreateDate | 2020:09:26 11:04:41 |
Creator | Morten Eriksen |
CreatorTool | ILCE-7RM4 v1.10 |
CropAngle | 0 |
CropBottom | 1 |
CropConstrainToWarp | 0 |
CropLeft | 0 |
CropRight | 1 |
CropTop | 0 |
CustomRendered | Normal |
DateCreated (1) | 2020:09:26 |
DateCreated | 2020:09:26 11:04:41+02:00 |
DateTimeOriginal | 2020:09:26 11:04:41 |
DefringeGreenAmount | 0 |
DefringeGreenHueHi | 60 |
DefringeGreenHueLo | 40 |
DefringePurpleAmount | 0 |
DefringePurpleHueHi | 70 |
DefringePurpleHueLo | 30 |
Dehaze | 0 |
DigitalZoomRatio | 1 |
DistortionCorrectionAlreadyApplied | True |
ExifImageHeight | 5890 |
ExifImageWidth | 8999 |
Exposure2012 | 0.00 |
ExposureCompensation | 0 |
ExposureMode | Manual |
ExposureProgram | Manual |
ExposureTime | 1/30 |
Flash | Off, Did not fire |
FNumber | 20.0 |
FocalLength | 24.0 mm |
FocalLength35efl | 24.0 mm (35 mm equivalent: 24.0 mm) |
FocalLengthIn35mmFormat | 24 mm |
Format | image/jpeg |
FOV | 73.7 deg |
GrainAmount | 0 |
GreenHue | 0 |
GreenSaturation | 0 |
HasCrop | True |
HasSettings | True |
Highlights2012 | -99 |
HueAdjustmentAqua | 0 |
HueAdjustmentBlue | 0 |
HueAdjustmentGreen | 0 |
HueAdjustmentMagenta | 0 |
HueAdjustmentOrange | 0 |
HueAdjustmentPurple | 0 |
HueAdjustmentRed | 0 |
HueAdjustmentYellow | 0 |
HyperfocalDistance | 0.96 m |
ICCProfileName | Adobe RGB (1998) |
ImageHeight | 5890 |
ImageSize | 8999x5890 |
ImageWidth | 8999 |
ISO | 100 |
LateralChromaticAberrationCorrectionAlreadyApplied | True |
Lens | FE 24-70mm F2.8 GM |
LensDistortInfo | 33426/32768 -87456991/1073741824 54662001/1073741824 2441728/1073741824 |
LensInfo | 24-70mm f/2.8 |
LensManualDistortionAmount | 0 |
LensModel | FE 24-70mm F2.8 GM |
LensProfileChromaticAberrationScale | 100 |
LensProfileDistortionScale | 100 |
LensProfileEnable | 1 |
LensProfileFilename | SONY (Sony FE 24-70mm f2.8 GM) - RAW.lcp |
LensProfileIsEmbedded | False |
LensProfileName | Adobe (Sony FE 24-70mm f/2.8 GM) |
LensProfileSetup | LensDefaults |
LensProfileVignettingScale | 100 |
LightSource | Unknown |
LightValue | 13.6 |
LookAmount | 1.000000 |
LookCopyright | © 2018 Adobe Systems, Inc. |
LookGroup | Profiles |
LookName | Adobe Color |
LookParametersCameraProfile | Adobe Standard |
LookParametersConvertToGrayscale | False |
LookParametersLookTable | E1095149FDB39D7A057BAB208837E2E1 |
LookParametersProcessVersion | 11.0 |
LookParametersToneCurvePV2012 | 0, 0, 22, 16, 40, 35, 127, 127, 224, 230, 240, 246, 255, 255 |
LookParametersToneCurvePV2012Blue | 0, 0, 255, 255 |
LookParametersToneCurvePV2012Green | 0, 0, 255, 255 |
LookParametersToneCurvePV2012Red | 0, 0, 255, 255 |
LookParametersVersion | 12.4 |
LookSupportsAmount | false |
LookSupportsMonochrome | false |
LookSupportsOutputReferred | false |
LuminanceAdjustmentAqua | 0 |
LuminanceAdjustmentBlue | 0 |
LuminanceAdjustmentGreen | 0 |
LuminanceAdjustmentMagenta | 0 |
LuminanceAdjustmentOrange | 0 |
LuminanceAdjustmentPurple | 0 |
LuminanceAdjustmentRed | 0 |
LuminanceAdjustmentYellow | 0 |
LuminanceSmoothing | 0 |
Make | SONY |
MaxApertureValue | 2.8 |
Megapixels | 53.0 |
MeteringMode | Multi-segment |
Model | ILCE-7RM4 |
ModifyDate (1) | 2020:09:26 13:02:53+02:00 |
ModifyDate | 2020:09:26 13:02:53 |
Orientation | Horizontal (normal) |
OverrideLookVignette | False |
ParametricDarks | 0 |
ParametricHighlights | 0 |
ParametricHighlightSplit | 75 |
ParametricLights | 0 |
ParametricMidtoneSplit | 50 |
ParametricShadows | 0 |
ParametricShadowSplit | 25 |
PerspectiveAspect | 0 |
PerspectiveHorizontal | 0 |
PerspectiveRotate | 0.0 |
PerspectiveScale | 100 |
PerspectiveUpright | 0 |
PerspectiveVertical | 0 |
PerspectiveX | 0.00 |
PerspectiveY | 0.00 |
PostCropVignetteAmount | 0 |
ProcessVersion | 11.0 |
ProfileDescription | Adobe RGB (1998) |
Rating | 0 |
RecommendedExposureIndex | 100 |
RedHue | 0 |
RedSaturation | 0 |
Rights | Morten Eriksen |
Saturation (1) | +10 |
Saturation | Normal |
SaturationAdjustmentAqua | 0 |
SaturationAdjustmentBlue | 0 |
SaturationAdjustmentGreen | 0 |
SaturationAdjustmentMagenta | 0 |
SaturationAdjustmentOrange | 0 |
SaturationAdjustmentPurple | 0 |
SaturationAdjustmentRed | 0 |
SaturationAdjustmentYellow | 0 |
ScaleFactor35efl | 1.0 |
SceneCaptureType | Standard |
SceneType | Directly photographed |
SensitivityType | Recommended Exposure Index |
Shadows2012 | +82 |
ShadowTint | 0 |
SharpenDetail | 25 |
SharpenEdgeMasking | 0 |
SharpenRadius | +1.0 |
Sharpness (1) | 40 |
Sharpness | Normal |
ShutterSpeed | 1/30 |
ShutterSpeedValue | 1/30 |
Software | Adobe Photoshop 21.2 (Windows) |
SplitToningBalance | 0 |
SplitToningHighlightHue | 0 |
SplitToningHighlightSaturation | 0 |
SplitToningShadowHue | 0 |
SplitToningShadowSaturation | 0 |
Texture | 0 |
Tint | +13 |
ToneCurve | 0, 0, 32, 22, 64, 56, 128, 128, 192, 196, 255, 255 |
ToneCurveBlue | 0, 0, 255, 255 |
ToneCurveGreen | 0, 0, 255, 255 |
ToneCurveName | Medium Contrast |
ToneCurveName2012 | Custom |
ToneCurvePV2012 | 0, 0, 209, 234 |
ToneCurvePV2012Blue | 0, 0, 255, 255 |
ToneCurvePV2012Green | 0, 0, 255, 255 |
ToneCurvePV2012Red | 0, 0, 255, 255 |
ToneCurveRed | 0, 0, 255, 255 |
ToneMapStrength | 0 |
URL_List | |
Version | 12.4 |
Vibrance | +10 |
VignetteAmount | 0 |
VignetteCorrectionAlreadyApplied | True |
WhiteBalance (1) | As Shot |
WhiteBalance | Auto |
Whites2012 | 0 |