Felt | Verdi |
AlreadyApplied | True |
Aperture | 6.3 |
ApertureValue | 6.3 |
Artist | Morten Eriksen |
AutoLateralCA | 0 |
BitsPerSample (1) | 8 8 8 |
BitsPerSample | 8 |
Blacks2012 | 0 |
BlueHue | 0 |
BlueSaturation | 0 |
BrightnessValue | -6.615625 |
By-line | Morten Eriksen |
CameraProfile | Adobe Standard |
CircleOfConfusion | 0.030 mm |
Clarity2012 | +9 |
ColorComponents | 3 |
ColorGradeBlending | 50 |
ColorGradeGlobalHue | 0 |
ColorGradeGlobalLum | 0 |
ColorGradeGlobalSat | 0 |
ColorGradeHighlightLum | 0 |
ColorGradeMidtoneHue | 0 |
ColorGradeMidtoneLum | 0 |
ColorGradeMidtoneSat | 0 |
ColorGradeShadowLum | 0 |
ColorMode | RGB |
ColorNoiseReduction | 25 |
ColorNoiseReductionDetail | 50 |
ColorNoiseReductionSmoothness | 50 |
ColorSpace | Uncalibrated |
ColorTemperature | 2750 |
ColorTransform | YCbCr |
Contrast | Normal |
Contrast2012 | +28 |
Copyright | Morten Eriksen |
CopyrightNotice | Morten Eriksen |
CreateDate | 2020:11:28 19:59:29 |
Creator | Morten Eriksen |
CreatorTool | ILCE-7RM4 v1.10 |
CustomRendered | Normal |
DateCreated (1) | 2020:11:28 |
DateCreated | 2020:11:28 19:59:29+02:00 |
DateTimeOriginal | 2020:11:28 19:59:29 |
DefringeGreenAmount | 0 |
DefringeGreenHueHi | 60 |
DefringeGreenHueLo | 40 |
DefringePurpleAmount | 0 |
DefringePurpleHueHi | 70 |
DefringePurpleHueLo | 30 |
Dehaze | +12 |
DigitalZoomRatio | 1 |
DistortionCorrectionAlreadyApplied | True |
ExifImageHeight | 5608 |
ExifImageWidth | 9504 |
Exposure2012 | +0.25 |
ExposureCompensation | 0 |
ExposureMode | Manual |
ExposureProgram | Manual |
ExposureTime | 30 |
Flash | Off, Did not fire |
FNumber | 6.3 |
FocalLength | 41.0 mm |
FocalLength35efl | 41.0 mm (35 mm equivalent: 41.0 mm) |
FocalLengthIn35mmFormat | 41 mm |
Format | image/jpeg |
FOV | 47.4 deg |
GrainAmount | 0 |
GreenHue | 0 |
GreenSaturation | 0 |
HasCrop | False |
HasSettings | True |
Highlights2012 | -46 |
HueAdjustmentAqua | 0 |
HueAdjustmentBlue | 0 |
HueAdjustmentGreen | 0 |
HueAdjustmentMagenta | 0 |
HueAdjustmentOrange | 0 |
HueAdjustmentPurple | 0 |
HueAdjustmentRed | 0 |
HueAdjustmentYellow | 0 |
HyperfocalDistance | 8.88 m |
ICCProfileName | Adobe RGB (1998) |
ImageHeight | 5608 |
ImageSize | 9504x5608 |
ImageWidth | 9504 |
ISO | 100 |
LateralChromaticAberrationCorrectionAlreadyApplied | True |
Lens | FE 24-70mm F2.8 GM |
LensDistortInfo | 1044789250/1073741824 10485819/1073741824 12583068/1073741824 5863281/1073741824 |
LensInfo | 24-70mm f/2.8 |
LensManualDistortionAmount | 0 |
LensModel | FE 24-70mm F2.8 GM |
LensProfileDistortionScale | 100 |
LensProfileEnable | 1 |
LensProfileFilename | SONY (Sony FE 24-70mm f2.8 GM) - RAW.lcp |
LensProfileIsEmbedded | False |
LensProfileName | Adobe (Sony FE 24-70mm f/2.8 GM) |
LensProfileSetup | LensDefaults |
LensProfileVignettingScale | 100 |
LightSource | Shade |
LightValue | 0.4 |
LookAmount | 1.000000 |
LookCopyright | © 2018 Adobe Systems, Inc. |
LookGroup | Profiles |
LookName | Adobe Color |
LookParametersCameraProfile | Adobe Standard |
LookParametersConvertToGrayscale | False |
LookParametersLookTable | E1095149FDB39D7A057BAB208837E2E1 |
LookParametersProcessVersion | 11.0 |
LookParametersToneCurvePV2012 | 0, 0, 22, 16, 40, 35, 127, 127, 224, 230, 240, 246, 255, 255 |
LookParametersToneCurvePV2012Blue | 0, 0, 255, 255 |
LookParametersToneCurvePV2012Green | 0, 0, 255, 255 |
LookParametersToneCurvePV2012Red | 0, 0, 255, 255 |
LookParametersVersion | 13.0.2 |
LookSupportsAmount | false |
LookSupportsMonochrome | false |
LookSupportsOutputReferred | false |
LuminanceAdjustmentAqua | 0 |
LuminanceAdjustmentBlue | 0 |
LuminanceAdjustmentGreen | 0 |
LuminanceAdjustmentMagenta | 0 |
LuminanceAdjustmentOrange | 0 |
LuminanceAdjustmentPurple | 0 |
LuminanceAdjustmentRed | 0 |
LuminanceAdjustmentYellow | 0 |
LuminanceNoiseReductionContrast | 0 |
LuminanceNoiseReductionDetail | 50 |
LuminanceSmoothing | 48 |
Make | SONY |
MaxApertureValue | 2.8 |
Megapixels | 53.3 |
MeteringMode | Multi-segment |
Model | ILCE-7RM4 |
ModifyDate (1) | 2020:12:17 23:24:32+01:00 |
ModifyDate | 2020:12:17 23:24:32 |
Orientation | Horizontal (normal) |
OverrideLookVignette | False |
ParametricDarks | -7 |
ParametricHighlights | -98 |
ParametricHighlightSplit | 75 |
ParametricLights | -25 |
ParametricMidtoneSplit | 50 |
ParametricShadows | +36 |
ParametricShadowSplit | 25 |
PerspectiveAspect | 0 |
PerspectiveHorizontal | 0 |
PerspectiveRotate | 0.0 |
PerspectiveScale | 100 |
PerspectiveUpright | 0 |
PerspectiveVertical | 0 |
PerspectiveX | 0.00 |
PerspectiveY | 0.00 |
PhotometricInterpretation | RGB |
PostCropVignetteAmount | 0 |
ProcessVersion | 11.0 |
ProfileDescription | Adobe RGB (1998) |
Rating | 0 |
RecommendedExposureIndex | 100 |
RedHue | 0 |
RedSaturation | 0 |
Rights | Morten Eriksen |
SamplesPerPixel | 3 |
Saturation (1) | +9 |
Saturation | Normal |
SaturationAdjustmentAqua | 0 |
SaturationAdjustmentBlue | 0 |
SaturationAdjustmentGreen | 0 |
SaturationAdjustmentMagenta | 0 |
SaturationAdjustmentOrange | 0 |
SaturationAdjustmentPurple | 0 |
SaturationAdjustmentRed | 0 |
SaturationAdjustmentYellow | 0 |
ScaleFactor35efl | 1.0 |
SceneCaptureType | Standard |
SceneType | Directly photographed |
SensitivityType | Recommended Exposure Index |
Shadows2012 | +83 |
ShadowTint | 0 |
SharpenDetail | 25 |
SharpenEdgeMasking | 0 |
SharpenRadius | +1.0 |
Sharpness (1) | 40 |
Sharpness | Normal |
ShutterSpeed | 30 |
ShutterSpeedValue | 30 |
Software | Adobe Photoshop 21.2 (Windows) |
SplitToningBalance | 0 |
SplitToningHighlightHue | 0 |
SplitToningHighlightSaturation | 0 |
SplitToningShadowHue | 0 |
SplitToningShadowSaturation | 0 |
Texture | 0 |
Tint | +17 |
ToneCurveName2012 | Linear |
ToneCurvePV2012 | 0, 0, 255, 255 |
ToneCurvePV2012Blue | 0, 0, 255, 255 |
ToneCurvePV2012Green | 0, 0, 255, 255 |
ToneCurvePV2012Red | 0, 0, 255, 255 |
URL_List | |
Version | 13.0.2 |
Vibrance | +8 |
VignetteAmount | 0 |
VignetteCorrectionAlreadyApplied | True |
WhiteBalance (1) | Custom |
WhiteBalance | Manual |
Whites2012 | 0 |