Felt | Verdi |
AlreadyApplied | True |
Aperture | 10.0 |
ApertureValue | 10.0 |
ApproximateFocusDistance | 63.1 |
AutoLateralCA | 1 |
BitsPerSample | 8 |
Blacks2012 | -3 |
BlueHue | 0 |
BlueSaturation | 0 |
CameraProfile | Adobe Standard |
CFAPattern | [Red,Green][Green,Blue] |
CircleOfConfusion | 0.030 mm |
Clarity2012 | 0 |
ColorComponents | 3 |
ColorGradeBlending | 50 |
ColorGradeGlobalHue | 0 |
ColorGradeGlobalLum | 0 |
ColorGradeGlobalSat | 0 |
ColorGradeHighlightLum | 0 |
ColorGradeMidtoneHue | 0 |
ColorGradeMidtoneLum | 0 |
ColorGradeMidtoneSat | 0 |
ColorGradeShadowLum | 0 |
ColorNoiseReduction | 50 |
ColorNoiseReductionDetail | 50 |
ColorNoiseReductionSmoothness | 50 |
ColorSpace | sRGB |
ColorTemperature | 6200 |
Contrast | Normal |
Contrast2012 | +3 |
CreateDate (1) | 2021:04:19 19:15:08.58+03:00 |
CreateDate | 2021:04:19 19:15:08 |
CreatorTool | Adobe Photoshop Lightroom Classic 10.2 (Windows) |
CropAngle | 0 |
CropBottom | 0.926458 |
CropConstrainToWarp | 0 |
CropLeft | 0.076057 |
CropRight | 0.985352 |
CropTop | 0 |
CustomRendered | Normal |
DateCreated (1) | 2021:04:19 |
DateCreated | 2021:04:19 19:15:08.58+03:00 |
DateTimeOriginal | 2021:04:19 19:15:08 |
DefringeGreenAmount | 0 |
DefringeGreenHueHi | 60 |
DefringeGreenHueLo | 40 |
DefringePurpleAmount | 0 |
DefringePurpleHueHi | 70 |
DefringePurpleHueLo | 30 |
Dehaze | 0 |
DistortionCorrectionAlreadyApplied | True |
DOF | 3.27 m (61.51 - 64.78 m) |
Exposure2012 | +1.50 |
ExposureCompensation | 0 |
ExposureMode | Manual |
ExposureProgram | Manual |
ExposureTime | 1/1250 |
Flash | No Flash |
FNumber | 10.0 |
FocalLength | 850.0 mm |
FocalLength35efl | 850.0 mm (35 mm equivalent: 850.0 mm) |
FocalLengthIn35mmFormat | 850 mm |
Format | image/jpeg |
FOV | 2.4 deg |
GainControl | Low gain up |
GrainAmount | 0 |
GreenHue | 0 |
GreenSaturation | 0 |
HasCrop | True |
HasSettings | True |
Highlights2012 | 0 |
HueAdjustmentAqua | 0 |
HueAdjustmentBlue | 0 |
HueAdjustmentGreen | 0 |
HueAdjustmentMagenta | 0 |
HueAdjustmentOrange | 0 |
HueAdjustmentPurple | 0 |
HueAdjustmentRed | 0 |
HueAdjustmentYellow | 0 |
HyperfocalDistance | 2404.63 m |
ImageHeight | 1738 |
ImageNumber | 66540 |
ImageSize | 2560x1738 |
ImageWidth | 2560 |
ISO | 1000 |
LateralChromaticAberrationCorrectionAlreadyApplied | True |
Lens | 600.0 mm f/4.0 |
LensID (1) | 152 |
LensID | AF-S VR Nikkor 600mm f/4G ED |
LensInfo | 600mm f/4 |
LensManualDistortionAmount | 0 |
LensModel | 600.0 mm f/4.0 |
LensProfileDistortionScale | 100 |
LensProfileEnable | 1 |
LensProfileFilename | NIKON D3X (Nikon AF-S NIKKOR 600mm f4G ED VR) - RAW.lcp |
LensProfileIsEmbedded | False |
LensProfileName | Adobe (Nikon AF-S NIKKOR 600mm f/4G ED VR) |
LensProfileSetup | LensDefaults |
LensProfileVignettingScale | 100 |
LightSource | Fine Weather |
LightValue | 13.6 |
LookAmount | 1.000000 |
LookGroup | Profiles |
LookName | Adobe Color |
LookParametersCameraProfile | Adobe Standard |
LookParametersConvertToGrayscale | False |
LookParametersLookTable | E1095149FDB39D7A057BAB208837E2E1 |
LookParametersProcessVersion | 11.0 |
LookParametersToneCurvePV2012 | 0, 0, 22, 16, 40, 35, 127, 127, 224, 230, 240, 246, 255, 255 |
LookParametersToneCurvePV2012Blue | 0, 0, 255, 255 |
LookParametersToneCurvePV2012Green | 0, 0, 255, 255 |
LookParametersToneCurvePV2012Red | 0, 0, 255, 255 |
LookParametersVersion | 13.2 |
LookSupportsAmount | false |
LookSupportsMonochrome | false |
LookSupportsOutputReferred | false |
LuminanceAdjustmentAqua | 0 |
LuminanceAdjustmentBlue | 0 |
LuminanceAdjustmentGreen | 0 |
LuminanceAdjustmentMagenta | 0 |
LuminanceAdjustmentOrange | 0 |
LuminanceAdjustmentPurple | 0 |
LuminanceAdjustmentRed | 0 |
LuminanceAdjustmentYellow | 0 |
LuminanceNoiseReductionContrast | 0 |
LuminanceNoiseReductionDetail | 60 |
LuminanceSmoothing | 25 |
Make | NIKON CORPORATION |
MaxApertureValue | 5.7 |
Megapixels | 4.4 |
MeteringMode | Center-weighted average |
Model | NIKON D5 |
ModifyDate (1) | 2021:04:20 18:35:28+02:00 |
ModifyDate | 2021:04:20 18:35:28 |
Orientation | Horizontal (normal) |
OverrideLookVignette | False |
PaintCorrectionActive | true |
PaintCorrectionAmount | 1.000000 |
PaintCorrectionBrightness | 0.000000 |
PaintCorrectionClarity2012 | 0.000000 |
PaintCorrectionContrast2012 (1) | 0.086210 |
PaintCorrectionContrast2012 | 0.000000 |
PaintCorrectionCorrectionRangeMaskColorAmount | 0.500000 |
PaintCorrectionCorrectionRangeMaskDepthFeather | 0.500000 |
PaintCorrectionCorrectionRangeMaskDepthMax | 1.000000 |
PaintCorrectionCorrectionRangeMaskDepthMin | 0.000000 |
PaintCorrectionCorrectionRangeMaskLumFeather | 0.500000 |
PaintCorrectionCorrectionRangeMaskLumMax | 1.000000 |
PaintCorrectionCorrectionRangeMaskLumMin | 0.000000 |
PaintCorrectionCorrectionRangeMaskType | 0 |
PaintCorrectionCorrectionRangeMaskVersion | +2 |
PaintCorrectionDefringe | 0.000000 |
PaintCorrectionExposure2012 (1) | 0.069000 |
PaintCorrectionExposure2012 | 0.034500 |
PaintCorrectionHighlights2012 (1) | -0.086210 |
PaintCorrectionHighlights2012 | 0.000000 |
PaintCorrectionHue | 359.000000 |
PaintCorrectionLocalBlacks2012 (1) | -0.010000 |
PaintCorrectionLocalBlacks2012 | -0.068970 |
PaintCorrectionLocalDehaze | 0.017240 |
PaintCorrectionLocalHue | 0.000000 |
PaintCorrectionLocalTexture (1) | 0.189660 |
PaintCorrectionLocalTexture | 0.000000 |
PaintCorrectionLocalWhites2012 | 0.000000 |
PaintCorrectionLuminanceNoise (1) | 0.431030 |
PaintCorrectionLuminanceNoise | 0.103450 |
PaintCorrectionMaskCenterWeight (3) | 0.117565 |
PaintCorrectionMaskCenterWeight | 1.000000 |
PaintCorrectionMaskFlow (3) | 0.899000 |
PaintCorrectionMaskFlow | 0.942000 |
PaintCorrectionMaskRadius (1) | 0.002373 |
PaintCorrectionMaskRadius (2) | 0.016692 |
PaintCorrectionMaskRadius (3) | 0.016690 |
PaintCorrectionMaskRadius (4) | 0.016689 |
PaintCorrectionMaskRadius (6) | 0.016694 |
PaintCorrectionMaskRadius | 0.014143 |
PaintCorrectionMaskValue (3) | 1.000000 |
PaintCorrectionMaskValue | 0.000000 |
PaintCorrectionMaskWhat | Mask/Paint |
PaintCorrectionMoire | 0.000000 |
PaintCorrectionSaturation | 0.000000 |
PaintCorrectionShadows2012 (1) | 0.000000 |
PaintCorrectionShadows2012 | -0.017240 |
PaintCorrectionSharpness | 0.000000 |
PaintCorrectionTemperature | 0.000000 |
PaintCorrectionTint | 0.000000 |
PaintCorrectionWhat | Correction |
ParametricDarks | 0 |
ParametricHighlights | 0 |
ParametricHighlightSplit | 75 |
ParametricLights | +10 |
ParametricMidtoneSplit | 50 |
ParametricShadows | 0 |
ParametricShadowSplit | 25 |
PerspectiveAspect | 0 |
PerspectiveHorizontal | 0 |
PerspectiveRotate | 0.0 |
PerspectiveScale | 150 |
PerspectiveUpright | 0 |
PerspectiveVertical | 0 |
PerspectiveX | 0.00 |
PerspectiveY | 0.00 |
PostCropVignetteAmount | 0 |
PreservedFileName | SAN_7686.NEF |
ProcessVersion | 11.0 |
ProfileDescription | sRGB IEC61966-2.1 |
RawFileName | SAN_7686.NEF |
RecommendedExposureIndex | 1000 |
RedHue | 0 |
RedSaturation | 0 |
Saturation (1) | +10 |
Saturation | Normal |
SaturationAdjustmentAqua | 0 |
SaturationAdjustmentBlue | +11 |
SaturationAdjustmentGreen | 0 |
SaturationAdjustmentMagenta | 0 |
SaturationAdjustmentOrange | 0 |
SaturationAdjustmentPurple | 0 |
SaturationAdjustmentRed | 0 |
SaturationAdjustmentYellow | 0 |
ScaleFactor35efl | 1.0 |
SceneCaptureType | Standard |
SceneType | Directly photographed |
SensingMethod | One-chip color area |
SensitivityType | Recommended Exposure Index |
SerialNumber | 6007761 |
Shadows2012 | -11 |
ShadowTint | 0 |
SharpenDetail | 26 |
SharpenEdgeMasking | 0 |
SharpenRadius | +1.0 |
Sharpness (1) | 45 |
Sharpness | Normal |
ShutterSpeed | 1/1250 |
ShutterSpeedValue | 1/1250 |
Software | Adobe Photoshop Lightroom Classic 10.2 (Windows) |
SplitToningBalance | 0 |
SplitToningHighlightHue | 0 |
SplitToningHighlightSaturation | 0 |
SplitToningShadowHue | 0 |
SplitToningShadowSaturation | 0 |
SubjectDistanceRange | Unknown |
Texture | +2 |
Tint | +2 |
ToneCurveName2012 | Linear |
ToneCurvePV2012 | 0, 0, 255, 255 |
ToneCurvePV2012Blue | 0, 0, 255, 255 |
ToneCurvePV2012Green | 0, 0, 255, 255 |
ToneCurvePV2012Red | 0, 0, 255, 255 |
Version | 13.2 |
Vibrance | +10 |
VignetteAmount | 0 |
VignetteCorrectionAlreadyApplied | True |
WhiteBalance (1) | Custom |
WhiteBalance | Manual |
Whites2012 | 0 |