Felt | Verdi |
AlreadyApplied | True |
Aperture | 14.0 |
ApertureValue | 14.0 |
ApproximateFocusDistance | 4294967295 |
Artist | Hans Jørgen Lindeløff |
AutoLateralCA | 1 |
BitsPerSample | 8 |
Blacks2012 | +46 |
BlueHue | 0 |
BlueSaturation | 0 |
By-line | Hans Jørgen Lindeløff |
CameraProfile | Embedded |
CircGradBasedCorrActive | true |
CircGradBasedCorrAmount | 1.000000 |
CircGradBasedCorrBrightness | 0.000000 |
CircGradBasedCorrClarity2012 | 0.000000 |
CircGradBasedCorrContrast2012 | 0.000000 |
CircGradBasedCorrCorrectionRangeMaskType | 0 |
CircGradBasedCorrDefringe | 0.000000 |
CircGradBasedCorrExposure2012 (1) | 0.120305 |
CircGradBasedCorrExposure2012 (2) | 0.125886 |
CircGradBasedCorrExposure2012 | 0.000000 |
CircGradBasedCorrHighlights2012 (1) | 0.000000 |
CircGradBasedCorrHighlights2012 (2) | -1.000000 |
CircGradBasedCorrHighlights2012 | -0.287309 |
CircGradBasedCorrHue | 240.000000 |
CircGradBasedCorrLocalBlacks2012 | -0.120725 |
CircGradBasedCorrLocalDehaze | 0.000000 |
CircGradBasedCorrLocalHue | 0.000000 |
CircGradBasedCorrLocalTexture | 0.000000 |
CircGradBasedCorrLocalWhites2012 (1) | 0.256629 |
CircGradBasedCorrLocalWhites2012 (2) | 0.373073 |
CircGradBasedCorrLocalWhites2012 | 0.205669 |
CircGradBasedCorrLuminanceNoise | 0.000000 |
CircGradBasedCorrMaskAngle | 0.000000 |
CircGradBasedCorrMaskBottom (1) | 0.907129 |
CircGradBasedCorrMaskBottom (2) | 0.990345 |
CircGradBasedCorrMaskBottom | 0.571990 |
CircGradBasedCorrMaskCenterWeight | 0.063749 |
CircGradBasedCorrMaskFeather | +100 |
CircGradBasedCorrMaskFlipped | true |
CircGradBasedCorrMaskFlow | 0.588303 |
CircGradBasedCorrMaskLeft (1) | 0.470476 |
CircGradBasedCorrMaskLeft (2) | -0.117466 |
CircGradBasedCorrMaskLeft | -0.004216 |
CircGradBasedCorrMaskMidpoint | +50 |
CircGradBasedCorrMaskRadius (1) | 0.014761 |
CircGradBasedCorrMaskRadius | 0.024319 |
CircGradBasedCorrMaskRight (1) | 0.950690 |
CircGradBasedCorrMaskRight (2) | 1.045460 |
CircGradBasedCorrMaskRight | 0.727057 |
CircGradBasedCorrMaskRoundness | 0 |
CircGradBasedCorrMaskTop (1) | 0.439242 |
CircGradBasedCorrMaskTop (2) | 0.382782 |
CircGradBasedCorrMaskTop | 0.037056 |
CircGradBasedCorrMaskValue (1) | 1.000000 |
CircGradBasedCorrMaskValue | 0.000000 |
CircGradBasedCorrMaskVersion | +2 |
CircGradBasedCorrMaskWhat | Mask/Paint |
CircGradBasedCorrMoire | 0.000000 |
CircGradBasedCorrSaturation | 0.000000 |
CircGradBasedCorrShadows2012 (2) | 0.180315 |
CircGradBasedCorrShadows2012 | 0.000000 |
CircGradBasedCorrSharpness | 0.000000 |
CircGradBasedCorrTemperature (1) | 0.124721 |
CircGradBasedCorrTemperature (2) | 0.115014 |
CircGradBasedCorrTemperature | 0.314953 |
CircGradBasedCorrTint (1) | 0.000000 |
CircGradBasedCorrTint (2) | 0.105916 |
CircGradBasedCorrTint | 0.099052 |
CircGradBasedCorrWhat | Correction |
CircleOfConfusion | 0.030 mm |
Clarity2012 | +6 |
ColorComponents | 3 |
ColorGradeBlending | 50 |
ColorGradeGlobalHue | 0 |
ColorGradeGlobalLum | 0 |
ColorGradeGlobalSat | 0 |
ColorGradeHighlightLum | 0 |
ColorGradeMidtoneHue | 0 |
ColorGradeMidtoneLum | 0 |
ColorGradeMidtoneSat | 0 |
ColorGradeShadowLum | 0 |
ColorNoiseReduction | 27 |
ColorNoiseReductionDetail | 50 |
ColorNoiseReductionSmoothness | 50 |
ColorSpace | sRGB |
ColorTemperature | 5000 |
ColorTransform | YCbCr |
Contrast | Normal |
Contrast2012 | 0 |
ConvertToGrayscale | False |
Copyright | © Hans Jørgen Lindeløff 2020 |
CopyrightFlag | True |
CopyrightNotice | © Hans Jørgen Lindeløff 2020 |
CreateDate | 2020:07:15 21:58:49 |
Creator | Hans Jørgen Lindeløff |
CreatorAddress | Bjørnevågveien 8 |
CreatorCity | Kråkerøy |
CreatorCountry | Norway |
CreatorPostalCode | 1676 |
CreatorWorkEmail | lundeli@mac.com |
CreatorWorkTelephone | +47 92049534 |
CreatorWorkURL | lundeliphoto.no |
CropAngle | 0 |
CropBottom | 0.997218 |
CropConstrainToWarp | 0 |
CropLeft | 0 |
CropRight | 1 |
CropTop | 0.070838 |
CustomRendered | Normal |
DateCreated (1) | 2018:01:02 |
DateCreated | 2018:01:02 14:49:07.571 |
DateTimeOriginal | 2020:07:15 21:58:49 |
DefringeGreenAmount | 0 |
DefringeGreenHueHi | 60 |
DefringeGreenHueLo | 40 |
DefringePurpleAmount | 0 |
DefringePurpleHueHi | 70 |
DefringePurpleHueLo | 30 |
Dehaze | 0 |
DigitalZoomRatio | 1 |
DistortionCorrectionAlreadyApplied | True |
DOF | inf (1.37 m - inf) |
Exposure2012 | +0.05 |
ExposureCompensation | 0 |
ExposureMode | Manual |
ExposureProgram | Manual |
ExposureTime | 1/125 |
Flash | Off, Did not fire |
FNumber | 14.0 |
FocalLength | 24.0 mm |
FocalLengthIn35mmFormat | 24 mm |
Format | image/jpeg |
FOV | 73.7 deg |
GainControl | Low gain up |
GradientBasedCorrActive | true |
GradientBasedCorrAmount | 1.000000 |
GradientBasedCorrBrightness | 0.000000 |
GradientBasedCorrClarity2012 | 0.000000 |
GradientBasedCorrContrast2012 | 0.000000 |
GradientBasedCorrCorrectionRangeMaskType | +2 |
GradientBasedCorrDefringe | 0.000000 |
GradientBasedCorrExposure2012 (1) | -0.207606 |
GradientBasedCorrExposure2012 (2) | -0.270712 |
GradientBasedCorrExposure2012 (3) | -0.335088 |
GradientBasedCorrExposure2012 (4) | -0.088525 |
GradientBasedCorrExposure2012 (5) | 0.000000 |
GradientBasedCorrExposure2012 | -0.049527 |
GradientBasedCorrHighlights2012 (4) | -0.370382 |
GradientBasedCorrHighlights2012 | 0.000000 |
GradientBasedCorrHue | 240.000000 |
GradientBasedCorrLocalBlacks2012 (2) | -0.012876 |
GradientBasedCorrLocalBlacks2012 (4) | 0.000000 |
GradientBasedCorrLocalBlacks2012 | -0.069993 |
GradientBasedCorrLocalDehaze | 0.000000 |
GradientBasedCorrLocalHue | 0.000000 |
GradientBasedCorrLocalTexture | 0.000000 |
GradientBasedCorrLocalWhites2012 (1) | 0.212388 |
GradientBasedCorrLocalWhites2012 (2) | 0.242905 |
GradientBasedCorrLocalWhites2012 (3) | 0.201457 |
GradientBasedCorrLocalWhites2012 (4) | 0.208998 |
GradientBasedCorrLocalWhites2012 (5) | 0.000000 |
GradientBasedCorrLocalWhites2012 | 0.453415 |
GradientBasedCorrLuminanceNoise | 0.000000 |
GradientBasedCorrMaskCenterWeight | 0.063749 |
GradientBasedCorrMaskFlow | 0.588303 |
GradientBasedCorrMaskFullX (1) | 0.561258 |
GradientBasedCorrMaskFullX (2) | 0.191074 |
GradientBasedCorrMaskFullX (3) | 0.920799 |
GradientBasedCorrMaskFullX (4) | 0.503302 |
GradientBasedCorrMaskFullX (5) | 0.151948 |
GradientBasedCorrMaskFullX | 0.047046 |
GradientBasedCorrMaskFullY (1) | 0.363981 |
GradientBasedCorrMaskFullY (2) | 0.954369 |
GradientBasedCorrMaskFullY (3) | 0.966945 |
GradientBasedCorrMaskFullY (4) | 0.121767 |
GradientBasedCorrMaskFullY (5) | 0.158727 |
GradientBasedCorrMaskFullY | 0.977653 |
GradientBasedCorrMaskRadius (2) | 0.040351 |
GradientBasedCorrMaskRadius | 0.029997 |
GradientBasedCorrMaskValue (4) | 0.000000 |
GradientBasedCorrMaskValue | 1.000000 |
GradientBasedCorrMaskWhat (3) | Mask/Paint |
GradientBasedCorrMaskWhat | Mask/Gradient |
GradientBasedCorrMaskZeroX (1) | 0.556209 |
GradientBasedCorrMaskZeroX (2) | 0.220803 |
GradientBasedCorrMaskZeroX (3) | 0.848603 |
GradientBasedCorrMaskZeroX (4) | 0.494212 |
GradientBasedCorrMaskZeroX (5) | 0.196295 |
GradientBasedCorrMaskZeroX | 0.102688 |
GradientBasedCorrMaskZeroY (1) | 0.706104 |
GradientBasedCorrMaskZeroY (2) | 0.778666 |
GradientBasedCorrMaskZeroY (3) | 0.770021 |
GradientBasedCorrMaskZeroY (4) | 0.429153 |
GradientBasedCorrMaskZeroY (5) | 0.486580 |
GradientBasedCorrMaskZeroY | 0.800721 |
GradientBasedCorrMoire | 0.000000 |
GradientBasedCorrSaturation | 0.000000 |
GradientBasedCorrShadows2012 (2) | 0.052454 |
GradientBasedCorrShadows2012 (4) | 0.363599 |
GradientBasedCorrShadows2012 | 0.000000 |
GradientBasedCorrSharpness | 0.000000 |
GradientBasedCorrTemperature (1) | -0.061203 |
GradientBasedCorrTemperature (2) | -0.254719 |
GradientBasedCorrTemperature (5) | -0.070273 |
GradientBasedCorrTemperature | 0.000000 |
GradientBasedCorrTint (1) | 0.173763 |
GradientBasedCorrTint (5) | 0.193297 |
GradientBasedCorrTint | 0.000000 |
GradientBasedCorrWhat | Correction |
GrainAmount | 0 |
GreenHue | 0 |
GreenSaturation | 0 |
HasCrop | True |
HasSettings | True |
Highlights2012 | -47 |
HueAdjustmentAqua | 0 |
HueAdjustmentBlue | 0 |
HueAdjustmentGreen | 0 |
HueAdjustmentMagenta | 0 |
HueAdjustmentOrange | 0 |
HueAdjustmentPurple | 0 |
HueAdjustmentRed | 0 |
HueAdjustmentYellow | 0 |
HyperfocalDistance | 1.37 m |
ImageHeight | 1152 |
ImageNumber | 9723 |
ImageSize | 2048x1152 |
ImageWidth | 2048 |
ISO | 640 |
Label | Yellow |
Lens | 24.0-70.0 mm f/2.8 |
LensID (1) | 147 |
LensID | AF-S Zoom-Nikkor 24-70mm f/2.8G ED |
LensInfo | 24-70mm f/2.8 |
LensManualDistortionAmount | 0 |
LensModel | 24.0-70.0 mm f/2.8 |
LensProfileDistortionScale | 100 |
LensProfileEnable | 0 |
LensProfileIsEmbedded | False |
LensProfileSetup | LensDefaults |
LensProfileVignettingScale | 100 |
LightSource | Unknown |
LightValue | 11.9 |
LuminanceAdjustmentAqua | 0 |
LuminanceAdjustmentBlue | 0 |
LuminanceAdjustmentGreen | 0 |
LuminanceAdjustmentMagenta | 0 |
LuminanceAdjustmentOrange | 0 |
LuminanceAdjustmentPurple | 0 |
LuminanceAdjustmentRed | 0 |
LuminanceAdjustmentYellow | 0 |
LuminanceNoiseReductionContrast | 0 |
LuminanceNoiseReductionDetail | 50 |
LuminanceSmoothing | 26 |
Make | NIKON CORPORATION |
Marked | True |
MaxApertureValue | 2.8 |
Megapixels | 2.4 |
MeteringMode | Multi-segment |
Model | NIKON D750 |
ModifyDate (1) | 2021:07:11 03:48:44+02:00 |
ModifyDate | 2021:07:11 03:48:44 |
OverrideLookVignette | False |
PaintCorrectionActive | true |
PaintCorrectionAmount | 1.000000 |
PaintCorrectionBrightness | 0.000000 |
PaintCorrectionClarity2012 | 0.000000 |
PaintCorrectionContrast2012 | 0.000000 |
PaintCorrectionCorrectionRangeMaskType | 0 |
PaintCorrectionCorrectionRangeMaskVersion | +2 |
PaintCorrectionDefringe | 0.000000 |
PaintCorrectionExposure2012 (1) | -0.220467 |
PaintCorrectionExposure2012 (2) | 0.610193 |
PaintCorrectionExposure2012 (3) | 0.311152 |
PaintCorrectionExposure2012 (4) | 0.000000 |
PaintCorrectionExposure2012 (5) | -0.187926 |
PaintCorrectionExposure2012 (6) | 0.135248 |
PaintCorrectionExposure2012 (7) | -0.243525 |
PaintCorrectionExposure2012 | 0.082153 |
PaintCorrectionHighlights2012 (4) | -0.564344 |
PaintCorrectionHighlights2012 | 0.000000 |
PaintCorrectionHue | 240.000000 |
PaintCorrectionLocalBlacks2012 (5) | 0.000000 |
PaintCorrectionLocalBlacks2012 | -0.120725 |
PaintCorrectionLocalDehaze | 0.000000 |
PaintCorrectionLocalHue | 0.000000 |
PaintCorrectionLocalTexture | 0.000000 |
PaintCorrectionLocalWhites2012 (3) | 0.000000 |
PaintCorrectionLocalWhites2012 (4) | 0.430825 |
PaintCorrectionLocalWhites2012 | 0.205669 |
PaintCorrectionLuminanceNoise | 0.000000 |
PaintCorrectionMaskCenterWeight | 0.000000 |
PaintCorrectionMaskFlow | 0.489147 |
PaintCorrectionMaskRadius (1) | 0.052598 |
PaintCorrectionMaskRadius (12) | 0.009338 |
PaintCorrectionMaskRadius (15) | 0.006002 |
PaintCorrectionMaskRadius (16) | 0.028746 |
PaintCorrectionMaskRadius (19) | 0.011956 |
PaintCorrectionMaskRadius (21) | 0.058822 |
PaintCorrectionMaskRadius (23) | 0.006568 |
PaintCorrectionMaskRadius (27) | 0.071585 |
PaintCorrectionMaskRadius (31) | 0.040463 |
PaintCorrectionMaskRadius (32) | 0.017448 |
PaintCorrectionMaskRadius (5) | 0.005367 |
PaintCorrectionMaskRadius (7) | 0.008649 |
PaintCorrectionMaskRadius (8) | 0.004742 |
PaintCorrectionMaskRadius | 0.065151 |
PaintCorrectionMaskValue | 0.526325 |
PaintCorrectionMaskWhat | Mask/Paint |
PaintCorrectionMoire | 0.000000 |
PaintCorrectionSaturation | 0.000000 |
PaintCorrectionShadows2012 | 0.000000 |
PaintCorrectionSharpness | 0.000000 |
PaintCorrectionTemperature (1) | -0.020135 |
PaintCorrectionTemperature (2) | -0.285457 |
PaintCorrectionTemperature (3) | -0.752033 |
PaintCorrectionTemperature (7) | 0.319355 |
PaintCorrectionTemperature | 0.000000 |
PaintCorrectionTint (2) | 0.142022 |
PaintCorrectionTint (7) | -0.067596 |
PaintCorrectionTint | 0.000000 |
PaintCorrectionWhat | Correction |
ParametricDarks | 0 |
ParametricHighlights | 0 |
ParametricHighlightSplit | 75 |
ParametricLights | 0 |
ParametricMidtoneSplit | 50 |
ParametricShadows | 0 |
ParametricShadowSplit | 25 |
PerspectiveAspect | 0 |
PerspectiveHorizontal | 0 |
PerspectiveRotate | 0.0 |
PerspectiveScale | 100 |
PerspectiveUpright | 0 |
PerspectiveVertical | 0 |
PerspectiveX | 0.00 |
PerspectiveY | 0.00 |
PostCropVignetteAmount | -11 |
PostCropVignetteFeather | 50 |
PostCropVignetteHighlightContrast | 0 |
PostCropVignetteMidpoint | 50 |
PostCropVignetteRoundness | 0 |
PostCropVignetteStyle | 1 |
PreservedFileName | D75_9533.NEF |
ProcessVersion | 11.0 |
ProfileDescription | sRGB IEC61966-2.1 |
Rating | 5 |
RawFileName | |
RedHue | 0 |
RedSaturation | 0 |
Rights | © Hans Jørgen Lindeløff 2020 |
Saturation (1) | 0 |
Saturation | Normal |
SaturationAdjustmentAqua | 0 |
SaturationAdjustmentBlue | 0 |
SaturationAdjustmentGreen | 0 |
SaturationAdjustmentMagenta | 0 |
SaturationAdjustmentOrange | 0 |
SaturationAdjustmentPurple | 0 |
SaturationAdjustmentRed | 0 |
SaturationAdjustmentYellow | 0 |
ScaleFactor35efl | 1.0 |
SceneCaptureType | Landscape |
SceneType | Directly photographed |
SensingMethod | One-chip color area |
SensitivityType | Recommended Exposure Index |
SerialNumber | 6128653 |
Shadows2012 | +24 |
ShadowTint | 0 |
SharpenDetail | 25 |
SharpenEdgeMasking | 68 |
SharpenRadius | +1.0 |
Sharpness (1) | 31 |
Sharpness | Normal |
ShutterSpeed | 1/125 |
ShutterSpeedValue | 1/125 |
SplitToningBalance | 0 |
SplitToningHighlightHue | 0 |
SplitToningHighlightSaturation | 0 |
SplitToningShadowHue | 0 |
SplitToningShadowSaturation | 0 |
SubjectDistanceRange | Unknown |
Texture | 0 |
Tint | +29 |
ToneCurveName2012 | Custom |
ToneCurvePV2012 | 0, 0, 59, 51, 158, 162, 255, 255 |
ToneCurvePV2012Blue | 0, 0, 255, 255 |
ToneCurvePV2012Green | 0, 0, 255, 255 |
ToneCurvePV2012Red | 0, 0, 255, 255 |
Transformation | Cylindrical |
UsageTerms | All rights reserved |
Version | 13.3 |
Vibrance | +18 |
VignetteAmount | 0 |
VignetteCorrectionAlreadyApplied | True |
VirtualFocalLength | 0.378739 |
VirtualImageXCenter | 0.492850 |
VirtualImageYCenter | 0.354280 |
WhiteBalance (1) | Custom |
WhiteBalance | Auto |
Whites2012 | -30 |