Felt | Verdi |
Acceleration | 1001873 |
AlreadyApplied | True |
AmbientTemperature (1) | 29.8 |
AmbientTemperature | 29.8 C |
Aperture | 6.3 |
ApertureValue | 6.3 |
AutoLateralCA | 0 |
BitsPerSample (1) | 8 8 8 8 |
BitsPerSample | 8 |
Blacks2012 | -71 |
BlueHue | 0 |
BlueSaturation | 0 |
CameraProfile | Embedded |
CircleOfConfusion | 0.005 mm |
Clarity2012 | +68 |
ColorComponents | 1 |
ColorMode | Grayscale |
ColorNoiseReduction | 0 |
ColorSpace | Uncalibrated |
ColorTransform | Unknown (RGB or CMYK) |
Contrast | Normal |
Contrast2012 | 0 |
ConvertToGrayscale | True |
CreateDate | 2021:07:15 17:23:13 |
CreatorTool | Version 1.0 |
CustomRendered | Normal |
DateCreated (1) | 2021:07:15 |
DateCreated | 2021:07:15 17:23:13+01:00 |
DateTimeOriginal | 2021:07:15 17:23:13 |
Dehaze | +100 |
DigitalZoomRatio | 1 |
ExifImageHeight | 1500 |
ExifImageWidth | 2000 |
Exposure2012 | 0.00 |
ExposureCompensation | +1.3 |
ExposureMode | Manual |
ExposureProgram | Program AE |
ExposureTime | 1/50 |
Flash | On, Fired |
FlashCompensation | 0 |
FNumber | 6.3 |
FocalLength | 5.4 mm |
FocalLength35efl | 5.4 mm (35 mm equivalent: 30.0 mm) |
FocalLengthIn35mmFormat | 30 mm |
Format | image/jpeg |
FOV | 61.9 deg |
GainControl | None |
GPSImgDirection | 212 |
GPSImgDirectionRef | Magnetic North |
GrainAmount | 0 |
GrayMixerAqua | 0 |
GrayMixerBlue | 0 |
GrayMixerGreen | 0 |
GrayMixerMagenta | 0 |
GrayMixerOrange | 0 |
GrayMixerPurple | 0 |
GrayMixerRed | 0 |
GrayMixerYellow | 0 |
GreenHue | 0 |
GreenSaturation | 0 |
HasCrop | False |
HasSettings | True |
Highlights2012 | -79 |
HyperfocalDistance | 0.86 m |
ICCProfileName | Gray Gamma 2.2 |
ImageHeight | 1500 |
ImageSize | 2000x1500 |
ImageWidth | 2000 |
IncrementalTemperature | +14 |
IncrementalTint | +5 |
ISO | 100 |
LensManualDistortionAmount | 0 |
LensProfileEnable | 0 |
LensProfileSetup | LensDefaults |
LightSource | Unknown |
LightValue | 11.0 |
LuminanceSmoothing | 0 |
Make | OLYMPUS CORPORATION |
MaxApertureValue | 2.0 |
Megapixels | 3.0 |
MeteringMode | Multi-segment |
Model | TG-6 |
ModifyDate (1) | 2021:08:07 22:21:41+02:00 |
ModifyDate | 2021:08:07 22:21:41 |
Orientation | Horizontal (normal) |
OverrideLookVignette | False |
ParametricDarks | 0 |
ParametricHighlights | 0 |
ParametricHighlightSplit | 75 |
ParametricLights | 0 |
ParametricMidtoneSplit | 50 |
ParametricShadows | 0 |
ParametricShadowSplit | 25 |
PerspectiveAspect | 0 |
PerspectiveHorizontal | 0 |
PerspectiveRotate | 0.0 |
PerspectiveScale | 100 |
PerspectiveUpright | 0 |
PerspectiveVertical | 0 |
PerspectiveX | 0.00 |
PerspectiveY | 0.00 |
PhotometricInterpretation | BlackIsZero |
PostCropVignetteAmount | 0 |
Pressure | 1002 |
ProcessVersion | 11.0 |
ProfileDescription | Gray Gamma 2.2 |
Rating | 0 |
RedHue | 0 |
RedSaturation | 0 |
SamplesPerPixel | 4 |
Saturation | Normal |
ScaleFactor35efl | 5.6 |
SceneCaptureType | Standard |
SensitivityType | Standard Output Sensitivity |
SerialNumber | BJ5A69036 |
Shadows2012 | +97 |
ShadowTint | 0 |
SharpenDetail | 25 |
SharpenEdgeMasking | 0 |
SharpenRadius | +1.0 |
Sharpness (1) | 0 |
Sharpness | Normal |
ShutterSpeed | 1/50 |
ShutterSpeedValue | 1/50 |
Software | Adobe Photoshop 21.0 (Windows) |
SplitToningBalance | 0 |
SplitToningHighlightHue | 0 |
SplitToningHighlightSaturation | 0 |
SplitToningShadowHue | 0 |
SplitToningShadowSaturation | 0 |
Texture | 0 |
ToneCurve | 0, 0, 255, 255 |
ToneCurveBlue | 0, 0, 255, 255 |
ToneCurveGreen | 0, 0, 255, 255 |
ToneCurveName | Linear |
ToneCurveName2012 | Linear |
ToneCurvePV2012 | 0, 0, 255, 255 |
ToneCurvePV2012Blue | 0, 0, 255, 255 |
ToneCurvePV2012Green | 0, 0, 255, 255 |
ToneCurvePV2012Red | 0, 0, 255, 255 |
ToneCurveRed | 0, 0, 255, 255 |
ToneMapStrength | 0 |
URL_List | |
Version | 12.2 |
VignetteAmount | 0 |
WaterDepth (1) | 0 |
WaterDepth | -0 |
WhiteBalance (1) | Custom |
WhiteBalance | Auto |
Whites2012 | +58 |