Felt | Verdi |
AlreadyApplied | True |
Aperture | 14.0 |
ApertureValue | 14.0 |
ApproximateFocusDistance | 4294967295 |
Artist | Hans Jørgen Lindeløff |
AutoLateralCA | 0 |
BitsPerSample | 8 |
Blacks2012 | 0 |
BlueHue | 0 |
BlueSaturation | +14 |
By-line | Hans Jørgen Lindeløff |
CameraProfile | Embedded |
CircGradBasedCorrActive | true |
CircGradBasedCorrAmount | 1.000000 |
CircGradBasedCorrBrightness | 0.000000 |
CircGradBasedCorrClarity2012 | 0.000000 |
CircGradBasedCorrContrast2012 | 0.000000 |
CircGradBasedCorrDefringe | 0.000000 |
CircGradBasedCorrExposure2012 | 0.136977 |
CircGradBasedCorrHighlights2012 | 0.000000 |
CircGradBasedCorrHue | 240.000000 |
CircGradBasedCorrLocalDehaze | 0.000000 |
CircGradBasedCorrLocalHue | 0.000000 |
CircGradBasedCorrLocalTexture | 0.000000 |
CircGradBasedCorrLocalWhites2012 | 0.106116 |
CircGradBasedCorrLuminanceNoise | 0.000000 |
CircGradBasedCorrMaskAngle (2) | 5.079200 |
CircGradBasedCorrMaskAngle (4) | 0.000000 |
CircGradBasedCorrMaskAngle | 0.381906 |
CircGradBasedCorrMaskBottom (1) | 0.796647 |
CircGradBasedCorrMaskBottom (2) | 0.716169 |
CircGradBasedCorrMaskBottom (3) | 1.051150 |
CircGradBasedCorrMaskBottom (4) | 1.013450 |
CircGradBasedCorrMaskBottom (5) | 0.685114 |
CircGradBasedCorrMaskBottom | 0.707033 |
CircGradBasedCorrMaskFeather | +100 |
CircGradBasedCorrMaskFlipped | true |
CircGradBasedCorrMaskFlow | 0.469334 |
CircGradBasedCorrMaskLeft (1) | -0.014765 |
CircGradBasedCorrMaskLeft (2) | 0.248326 |
CircGradBasedCorrMaskLeft (3) | -0.166616 |
CircGradBasedCorrMaskLeft (4) | 0.151421 |
CircGradBasedCorrMaskLeft (5) | 0.920278 |
CircGradBasedCorrMaskLeft | 0.870560 |
CircGradBasedCorrMaskMidpoint | +50 |
CircGradBasedCorrMaskRadius (1) | 0.090249 |
CircGradBasedCorrMaskRadius (10) | 0.009672 |
CircGradBasedCorrMaskRadius (11) | 0.032366 |
CircGradBasedCorrMaskRadius (2) | 0.052133 |
CircGradBasedCorrMaskRadius (3) | 0.052288 |
CircGradBasedCorrMaskRadius (4) | 0.009647 |
CircGradBasedCorrMaskRadius (5) | 0.042027 |
CircGradBasedCorrMaskRadius (6) | 0.037221 |
CircGradBasedCorrMaskRadius (7) | 0.037041 |
CircGradBasedCorrMaskRadius (8) | 0.014087 |
CircGradBasedCorrMaskRadius (9) | 0.009649 |
CircGradBasedCorrMaskRadius | 0.023372 |
CircGradBasedCorrMaskRight (1) | 0.849883 |
CircGradBasedCorrMaskRight (2) | 0.588956 |
CircGradBasedCorrMaskRight (3) | 0.350777 |
CircGradBasedCorrMaskRight (4) | 0.925311 |
CircGradBasedCorrMaskRight (5) | 0.975810 |
CircGradBasedCorrMaskRight | 0.911831 |
CircGradBasedCorrMaskRoundness | 0 |
CircGradBasedCorrMaskTop (1) | 0.486303 |
CircGradBasedCorrMaskTop (2) | 0.493603 |
CircGradBasedCorrMaskTop (3) | 0.655247 |
CircGradBasedCorrMaskTop (4) | 0.313441 |
CircGradBasedCorrMaskTop (5) | 0.545112 |
CircGradBasedCorrMaskTop | 0.546193 |
CircGradBasedCorrMaskValue (1) | 1.000000 |
CircGradBasedCorrMaskValue | 0.000000 |
CircGradBasedCorrMaskVersion | +2 |
CircGradBasedCorrMaskWhat | Mask/Paint |
CircGradBasedCorrMoire | 0.000000 |
CircGradBasedCorrSaturation | 0.000000 |
CircGradBasedCorrShadows2012 (2) | 0.273589 |
CircGradBasedCorrShadows2012 (4) | 0.272015 |
CircGradBasedCorrShadows2012 | 0.000000 |
CircGradBasedCorrSharpness | 0.000000 |
CircGradBasedCorrTemperature (2) | 0.166364 |
CircGradBasedCorrTemperature (3) | 0.423377 |
CircGradBasedCorrTemperature (4) | 0.080146 |
CircGradBasedCorrTemperature | 0.289492 |
CircGradBasedCorrTint (3) | 0.175291 |
CircGradBasedCorrTint | 0.000000 |
CircGradBasedCorrWhat | Correction |
CircleOfConfusion | 0.030 mm |
Clarity2012 | 0 |
ColorComponents | 3 |
ColorGradeBlending | 50 |
ColorGradeGlobalHue | 0 |
ColorGradeGlobalLum | 0 |
ColorGradeGlobalSat | 0 |
ColorGradeHighlightLum | 0 |
ColorGradeMidtoneHue | 0 |
ColorGradeMidtoneLum | 0 |
ColorGradeMidtoneSat | 0 |
ColorGradeShadowLum | 0 |
ColorNoiseReduction | 21 |
ColorNoiseReductionDetail | 50 |
ColorNoiseReductionSmoothness | 50 |
ColorSpace | sRGB |
ColorTransform | YCbCr |
Contrast | Normal |
Contrast2012 | 0 |
ConvertToGrayscale | False |
Copyright | © Hans Jørgen Lindeløff 2021 |
CopyrightFlag | True |
CreateDate | 2021:08:08 21:36:30 |
Creator | Hans Jørgen Lindeløff |
CreatorAddress | Bjørnevågveien 8 |
CreatorCity | Kråkerøy |
CreatorCountry | Norway |
CreatorPostalCode | 1676 |
CreatorWorkEmail | lundeli@mac.com |
CreatorWorkTelephone | +47 92049534 |
CreatorWorkURL | lundeliphoto.no |
CropAngle | 0.381906 |
CropBottom | 0.951154 |
CropConstrainToWarp | 1 |
CropLeft | 0.036233 |
CropRight | 0.95683 |
CropTop | 0.163487 |
CustomRendered | Normal |
DateCreated (1) | 2018:01:02 |
DateCreated | 2018:01:02 14:49:07.571 |
DateTimeOriginal | 2021:08:08 21:36:30 |
DefringeGreenAmount | 0 |
DefringeGreenHueHi | 60 |
DefringeGreenHueLo | 40 |
DefringePurpleAmount | 0 |
DefringePurpleHueHi | 70 |
DefringePurpleHueLo | 30 |
Dehaze | 0 |
DigitalZoomRatio | 1 |
DistortionCorrectionAlreadyApplied | True |
DOF | inf (1.37 m - inf) |
Exposure2012 | 0.00 |
ExposureCompensation | -2 |
ExposureMode | Manual |
ExposureProgram | Manual |
ExposureTime | 1/15 |
Flash | Off, Did not fire |
FNumber | 14.0 |
FocalLength | 24.0 mm |
FocalLengthIn35mmFormat | 24 mm |
Format | image/jpeg |
FOV | 73.7 deg |
GainControl | None |
GradientBasedCorrActive | true |
GradientBasedCorrAmount | 1.000000 |
GradientBasedCorrBrightness | 0.000000 |
GradientBasedCorrClarity2012 | 0.000000 |
GradientBasedCorrContrast2012 | 0.000000 |
GradientBasedCorrDefringe | 0.000000 |
GradientBasedCorrExposure2012 | -0.070463 |
GradientBasedCorrHighlights2012 | 0.000000 |
GradientBasedCorrHue | 240.000000 |
GradientBasedCorrLocalBlacks2012 | 0.000000 |
GradientBasedCorrLocalDehaze | 0.000000 |
GradientBasedCorrLocalHue | 0.000000 |
GradientBasedCorrLocalTexture | 0.000000 |
GradientBasedCorrLocalWhites2012 | 0.000000 |
GradientBasedCorrLuminanceNoise | 0.000000 |
GradientBasedCorrMaskFullX (1) | 0.499045 |
GradientBasedCorrMaskFullX | 0.431598 |
GradientBasedCorrMaskFullY (1) | 0.298807 |
GradientBasedCorrMaskFullY | 0.985954 |
GradientBasedCorrMaskValue | 1.000000 |
GradientBasedCorrMaskWhat | Mask/Gradient |
GradientBasedCorrMaskZeroX (1) | 0.503981 |
GradientBasedCorrMaskZeroX | 0.441548 |
GradientBasedCorrMaskZeroY (1) | 0.587281 |
GradientBasedCorrMaskZeroY | 0.773615 |
GradientBasedCorrMoire | 0.000000 |
GradientBasedCorrSaturation | 0.000000 |
GradientBasedCorrShadows2012 | 0.000000 |
GradientBasedCorrSharpness | 0.000000 |
GradientBasedCorrTemperature | 0.000000 |
GradientBasedCorrTint (1) | 0.069793 |
GradientBasedCorrTint | 0.000000 |
GradientBasedCorrWhat | Correction |
GrainAmount | 0 |
GreenHue | 0 |
GreenSaturation | +19 |
HasCrop | True |
HasSettings | True |
Highlights2012 | -24 |
HueAdjustmentAqua | 0 |
HueAdjustmentBlue | 0 |
HueAdjustmentGreen | 0 |
HueAdjustmentMagenta | 0 |
HueAdjustmentOrange | 0 |
HueAdjustmentPurple | 0 |
HueAdjustmentRed | 0 |
HueAdjustmentYellow | 0 |
HyperfocalDistance | 1.37 m |
ImageHeight | 1152 |
ImageNumber | 15809 |
ImageSize | 2048x1152 |
ImageWidth | 2048 |
IncrementalTemperature | +5 |
IncrementalTint | -9 |
IsMergedHDR | True |
ISO | 100 |
Lens | 24.0-70.0 mm f/2.8 |
LensID (1) | 170 |
LensID | AF-S Nikkor 24-70mm f/2.8E ED VR |
LensInfo | 24-70mm f/2.8 |
LensManualDistortionAmount | 0 |
LensModel | 24.0-70.0 mm f/2.8 |
LensProfileEnable | 0 |
LightSource | Unknown |
LightValue | 11.5 |
LuminanceAdjustmentAqua | 0 |
LuminanceAdjustmentBlue | 0 |
LuminanceAdjustmentGreen | 0 |
LuminanceAdjustmentMagenta | 0 |
LuminanceAdjustmentOrange | 0 |
LuminanceAdjustmentPurple | 0 |
LuminanceAdjustmentRed | 0 |
LuminanceAdjustmentYellow | 0 |
LuminanceNoiseReductionContrast | 0 |
LuminanceNoiseReductionDetail | 50 |
LuminanceSmoothing | 23 |
Make | NIKON CORPORATION |
Marked | True |
MaxApertureValue | 2.8 |
Megapixels | 2.4 |
MeteringMode | Multi-segment |
Model | NIKON D750 |
ModifyDate (1) | 2021:08:12 01:04:12+02:00 |
ModifyDate | 2021:08:12 01:04:12 |
OverrideLookVignette | False |
PaintCorrectionActive | true |
PaintCorrectionAmount | 1.000000 |
PaintCorrectionBrightness | 0.000000 |
PaintCorrectionClarity2012 | 0.000000 |
PaintCorrectionContrast2012 | 0.000000 |
PaintCorrectionCorrectionRangeMaskType | 0 |
PaintCorrectionDefringe | 0.000000 |
PaintCorrectionExposure2012 (1) | 0.157390 |
PaintCorrectionExposure2012 (10) | 0.149852 |
PaintCorrectionExposure2012 (2) | 0.222009 |
PaintCorrectionExposure2012 (3) | -0.033817 |
PaintCorrectionExposure2012 (4) | 0.148212 |
PaintCorrectionExposure2012 (5) | -0.146004 |
PaintCorrectionExposure2012 (6) | 0.145516 |
PaintCorrectionExposure2012 (7) | 0.100765 |
PaintCorrectionExposure2012 (8) | -0.101452 |
PaintCorrectionExposure2012 | -0.171098 |
PaintCorrectionHighlights2012 (7) | 0.000000 |
PaintCorrectionHighlights2012 | -0.683090 |
PaintCorrectionHue | 240.000000 |
PaintCorrectionLocalBlacks2012 | -0.117932 |
PaintCorrectionLocalDehaze | 0.000000 |
PaintCorrectionLocalHue | 0.000000 |
PaintCorrectionLocalTexture | 0.000000 |
PaintCorrectionLocalWhites2012 | 0.106116 |
PaintCorrectionLuminanceNoise | 0.000000 |
PaintCorrectionMaskCenterWeight | 0.001931 |
PaintCorrectionMaskFlow | 0.680224 |
PaintCorrectionMaskRadius (1) | 0.038091 |
PaintCorrectionMaskRadius (10) | 0.033424 |
PaintCorrectionMaskRadius (11) | 0.016410 |
PaintCorrectionMaskRadius (12) | 0.021554 |
PaintCorrectionMaskRadius (13) | 0.021587 |
PaintCorrectionMaskRadius (14) | 0.026868 |
PaintCorrectionMaskRadius (15) | 0.072139 |
PaintCorrectionMaskRadius (16) | 0.021827 |
PaintCorrectionMaskRadius (17) | 0.021755 |
PaintCorrectionMaskRadius (18) | 0.021264 |
PaintCorrectionMaskRadius (19) | 0.016336 |
PaintCorrectionMaskRadius (2) | 0.038448 |
PaintCorrectionMaskRadius (20) | 0.015889 |
PaintCorrectionMaskRadius (21) | 0.043604 |
PaintCorrectionMaskRadius (22) | 0.043925 |
PaintCorrectionMaskRadius (23) | 0.043941 |
PaintCorrectionMaskRadius (24) | 0.043790 |
PaintCorrectionMaskRadius (25) | 0.044000 |
PaintCorrectionMaskRadius (26) | 0.021810 |
PaintCorrectionMaskRadius (27) | 0.021645 |
PaintCorrectionMaskRadius (28) | 0.021547 |
PaintCorrectionMaskRadius (29) | 0.036992 |
PaintCorrectionMaskRadius (3) | 0.045443 |
PaintCorrectionMaskRadius (30) | 0.037139 |
PaintCorrectionMaskRadius (31) | 0.031947 |
PaintCorrectionMaskRadius (32) | 0.021306 |
PaintCorrectionMaskRadius (33) | 0.021136 |
PaintCorrectionMaskRadius (34) | 0.037309 |
PaintCorrectionMaskRadius (35) | 0.037404 |
PaintCorrectionMaskRadius (36) | 0.021196 |
PaintCorrectionMaskRadius (37) | 0.042847 |
PaintCorrectionMaskRadius (38) | 0.004016 |
PaintCorrectionMaskRadius (39) | 0.002093 |
PaintCorrectionMaskRadius (4) | 0.027906 |
PaintCorrectionMaskRadius (40) | 0.012542 |
PaintCorrectionMaskRadius (41) | 0.012483 |
PaintCorrectionMaskRadius (42) | 0.023433 |
PaintCorrectionMaskRadius (43) | 0.007071 |
PaintCorrectionMaskRadius (44) | 0.003046 |
PaintCorrectionMaskRadius (45) | 0.003062 |
PaintCorrectionMaskRadius (46) | 0.017088 |
PaintCorrectionMaskRadius (5) | 0.027935 |
PaintCorrectionMaskRadius (6) | 0.027709 |
PaintCorrectionMaskRadius (7) | 0.071580 |
PaintCorrectionMaskRadius (8) | 0.070809 |
PaintCorrectionMaskRadius (9) | 0.033672 |
PaintCorrectionMaskRadius | 0.057746 |
PaintCorrectionMaskValue | 0.680909 |
PaintCorrectionMaskWhat | Mask/Paint |
PaintCorrectionMoire | 0.000000 |
PaintCorrectionSaturation | 0.000000 |
PaintCorrectionShadows2012 (4) | 0.273589 |
PaintCorrectionShadows2012 | 0.000000 |
PaintCorrectionSharpness | 0.000000 |
PaintCorrectionTemperature (10) | 0.237698 |
PaintCorrectionTemperature (13) | -0.029838 |
PaintCorrectionTemperature (3) | 0.166364 |
PaintCorrectionTemperature (7) | 0.423377 |
PaintCorrectionTemperature (8) | 0.000000 |
PaintCorrectionTemperature | 0.040911 |
PaintCorrectionTint (6) | 0.175291 |
PaintCorrectionTint | 0.000000 |
PaintCorrectionWhat | Correction |
ParametricDarks | 0 |
ParametricHighlights | 0 |
ParametricHighlightSplit | 75 |
ParametricLights | 0 |
ParametricMidtoneSplit | 50 |
ParametricShadows | 0 |
ParametricShadowSplit | 25 |
PerspectiveAspect | 0 |
PerspectiveHorizontal | 0 |
PerspectiveRotate | 0.0 |
PerspectiveScale | 100 |
PerspectiveUpright | 0 |
PerspectiveVertical | -22 |
PerspectiveX | 0.00 |
PerspectiveY | 0.00 |
PostCropVignetteAmount | -7 |
PostCropVignetteFeather | 50 |
PostCropVignetteHighlightContrast | 0 |
PostCropVignetteMidpoint | 50 |
PostCropVignetteRoundness | 0 |
PostCropVignetteStyle | 1 |
PreservedFileName | _D755174.NEF |
ProcessVersion | 11.0 |
ProfileDescription | sRGB IEC61966-2.1 |
Rating | 5 |
RawFileName | |
RedHue | 0 |
RedSaturation | 0 |
Rights | © Hans Jørgen Lindeløff 2021 |
Saturation (1) | +7 |
Saturation | Normal |
SaturationAdjustmentAqua | 0 |
SaturationAdjustmentBlue | 0 |
SaturationAdjustmentGreen | 0 |
SaturationAdjustmentMagenta | 0 |
SaturationAdjustmentOrange | 0 |
SaturationAdjustmentPurple | 0 |
SaturationAdjustmentRed | 0 |
SaturationAdjustmentYellow | 0 |
ScaleFactor35efl | 1.0 |
SceneCaptureType | Landscape |
SceneType | Directly photographed |
SensingMethod | One-chip color area |
SensitivityType | Recommended Exposure Index |
SerialNumber | 6128653 |
Shadows2012 | +35 |
ShadowTint | 0 |
SharpenDetail | 25 |
SharpenEdgeMasking | 53 |
SharpenRadius | +1.0 |
Sharpness (1) | 42 |
Sharpness | Normal |
ShutterSpeed | 1/15 |
ShutterSpeedValue | 1/15 |
SplitToningBalance | 0 |
SplitToningHighlightHue | 0 |
SplitToningHighlightSaturation | 0 |
SplitToningShadowHue | 0 |
SplitToningShadowSaturation | 0 |
SubjectDistanceRange | Unknown |
Texture | 0 |
ToneCurveName2012 | Custom |
ToneCurvePV2012 | 0, 0, 56, 55, 145, 153, 255, 255 |
ToneCurvePV2012Blue | 0, 0, 255, 255 |
ToneCurvePV2012Green | 0, 0, 255, 255 |
ToneCurvePV2012Red | 0, 0, 255, 255 |
Transformation | Perspective |
UsageTerms | All rights reserved |
Version | 13.3 |
Vibrance | +13 |
VignetteAmount | 0 |
VignetteCorrectionAlreadyApplied | True |
VirtualFocalLength | 0.666444 |
VirtualImageXCenter | 0.499833 |
VirtualImageYCenter | 0.333806 |
WhiteBalance (1) | Custom |
WhiteBalance | Manual |
Whites2012 | +14 |