Felt | Verdi |
2022-10-15T10:26:28+02:00 File 2022_Breath.psd saved
2022-10-15T10:27:15+02:00 File 2022_Breath.psd opened
2022-10-15T10:32:51+02:00 File 2022_Breath-4723.psd saved
AlreadyApplied | True |
AutoLateralCA | 0 |
BitsPerSample | 8 |
Blacks2012 | -59 |
BlueHue | 0 |
BlueSaturation | 0 |
CameraProfile | Embedded |
Clarity2012 | 0 |
ColorComponents | 3 |
ColorGradeBlending | 100 |
ColorGradeGlobalHue | 0 |
ColorGradeGlobalLum | 0 |
ColorGradeGlobalSat | 0 |
ColorGradeHighlightLum | 0 |
ColorGradeMidtoneHue | 0 |
ColorGradeMidtoneLum | 0 |
ColorGradeMidtoneSat | 0 |
ColorGradeShadowLum | 0 |
ColorNoiseReduction | 0 |
ColorSpace | Uncalibrated |
ColorTransform | YCbCr |
Contrast2012 | 0 |
ConvertToGrayscale | False |
CreateDate (1) | 2022:10:15 09:59:59+02:00 |
CreateDate | 2022:10:15 09:59:59 |
CreatorTool | Adobe Photoshop Lightroom Classic 11.5 (Macintosh) |
CropAngle | 0 |
CropBottom | 1 |
CropConstrainToWarp | 0 |
CropLeft | 0 |
CropRight | 1 |
CropTop | 0 |
DefringeGreenAmount | 0 |
DefringeGreenHueHi | 60 |
DefringeGreenHueLo | 40 |
DefringePurpleAmount | 0 |
DefringePurpleHueHi | 70 |
DefringePurpleHueLo | 30 |
Dehaze | 0 |
Exposure2012 | 0.00 |
Format | image/jpeg |
GrainAmount | 18 |
GrainFrequency | 50 |
GrainSize | 16 |
GreenHue | 0 |
GreenSaturation | 0 |
HasCrop | False |
HasSettings | True |
Highlights2012 | 0 |
HueAdjustmentAqua | 0 |
HueAdjustmentBlue | -24 |
HueAdjustmentGreen | +12 |
HueAdjustmentMagenta | +20 |
HueAdjustmentOrange | -5 |
HueAdjustmentPurple | +3 |
HueAdjustmentRed | +6 |
HueAdjustmentYellow | -6 |
ImageHeight | 2048 |
ImageSize | 1639x2048 |
ImageWidth | 1639 |
IncrementalTemperature | 0 |
IncrementalTint | 0 |
LensManualDistortionAmount | 0 |
LensProfileEnable | 0 |
LuminanceAdjustmentAqua | 0 |
LuminanceAdjustmentBlue | -10 |
LuminanceAdjustmentGreen | 0 |
LuminanceAdjustmentMagenta | 0 |
LuminanceAdjustmentOrange | -10 |
LuminanceAdjustmentPurple | 0 |
LuminanceAdjustmentRed | -19 |
LuminanceAdjustmentYellow | 0 |
LuminanceSmoothing | 0 |
Megapixels | 3.4 |
ModifyDate (1) | 2022:10:15 11:16:20+02:00 |
ModifyDate | 2022:10:15 11:16:20 |
OverrideLookVignette | False |
ParametricDarks | 0 |
ParametricHighlights | 0 |
ParametricHighlightSplit | 75 |
ParametricLights | 0 |
ParametricMidtoneSplit | 50 |
ParametricShadows | 0 |
ParametricShadowSplit | 25 |
PerspectiveAspect | 0 |
PerspectiveHorizontal | 0 |
PerspectiveRotate | 0.0 |
PerspectiveScale | 100 |
PerspectiveUpright | 0 |
PerspectiveVertical | 0 |
PerspectiveX | 0.00 |
PerspectiveY | 0.00 |
PostCropVignetteAmount | 0 |
PreservedFileName | Skjermbilde 2022-10-15 kl. 09.59.54.png |
ProcessVersion | 11.0 |
ProfileDescription | Display P3 |
Rating | 5 |
RawFileName | 2022_Breath-4723-4724-4725.tif |
RedHue | 0 |
RedSaturation | 0 |
Saturation | +4 |
SaturationAdjustmentAqua | -28 |
SaturationAdjustmentBlue | -13 |
SaturationAdjustmentGreen | -43 |
SaturationAdjustmentMagenta | -39 |
SaturationAdjustmentOrange | -36 |
SaturationAdjustmentPurple | -35 |
SaturationAdjustmentRed | -21 |
SaturationAdjustmentYellow | -51 |
Shadows2012 | 0 |
ShadowTint | 0 |
Sharpness | 0 |
Software | Adobe Photoshop Lightroom Classic 11.5 (Macintosh) |
SplitToningBalance | 0 |
SplitToningHighlightHue | 200 |
SplitToningHighlightSaturation | 10 |
SplitToningShadowHue | 15 |
SplitToningShadowSaturation | 12 |
Texture | 0 |
ToneCurveName2012 | Custom |
ToneCurvePV2012 | 0, 5, 27, 34, 95, 110, 174, 175, 219, 197, 255, 216 |
ToneCurvePV2012Blue | 0, 0, 255, 255 |
ToneCurvePV2012Green | 0, 0, 255, 255 |
ToneCurvePV2012Red | 0, 0, 255, 255 |
UserComment | Screenshot |
Version | 14.5 |
Vibrance | 0 |
VignetteAmount | 0 |
Virtualpaths | |
WhiteBalance | As Shot |
Whites2012 | -36 |