Felt | Verdi |
AlreadyApplied | True |
Aperture | 3.5 |
ApertureValue | 3.5 |
Artist | Hans Jørgen Lindeløff |
AutoLateralCA | 0 |
BitsPerSample | 8 |
Blacks2012 | -10 |
BlueHue | 0 |
BlueSaturation | 0 |
Brightness | +50 |
By-line | Hans Jørgen Lindeløff |
CameraProfile | Embedded |
CameraProfilesApertureValue | 3.61471 |
CameraProfilesAuthor | Adobe |
CameraProfilesAutoScale | False |
CameraProfilesCameraPrettyName | Nikon Z 6 2 |
CameraProfilesCameraRawProfile | True |
CameraProfilesFocalLength | 20 |
CameraProfilesFocusDistance | 10000 |
CameraProfilesLens | NIKKOR Z 20mm f/1.8 S |
CameraProfilesLensPrettyName | NIKKOR Z 20mm f/1.8 S |
CameraProfilesMake | NIKON CORPORATION |
CameraProfilesModel | NIKON Z 6_2 |
CameraProfilesPerspectiveModelImageXCenter | 0.500265 |
CameraProfilesPerspectiveModelImageYCenter | 0.506488 |
CameraProfilesPerspectiveModelRadialDistortParam1 | -0.035454 |
CameraProfilesPerspectiveModelRadialDistortParam2 | 0.001235 |
CameraProfilesPerspectiveModelRadialDistortParam3 | 0.006312 |
CameraProfilesPerspectiveModelScaleFactor | 1.006723 |
CameraProfilesPerspectiveModelVersion | 2 |
CameraProfilesProfileName | Camera Settings |
CameraProfilesSensorFormatFactor | 1.002437 |
CameraProfilesUniqueCameraModel | Nikon Z 6 2 |
CFAPattern | [Red,Green][Green,Blue] |
CircleOfConfusion | 0.030 mm |
Clarity2012 | 0 |
ColorComponents | 3 |
ColorGradeBlending | 50 |
ColorGradeGlobalHue | 0 |
ColorGradeGlobalLum | 0 |
ColorGradeGlobalSat | 0 |
ColorGradeHighlightLum | 0 |
ColorGradeMidtoneHue | 0 |
ColorGradeMidtoneLum | 0 |
ColorGradeMidtoneSat | 0 |
ColorGradeShadowLum | 0 |
ColorNoiseReduction | 27 |
ColorNoiseReductionDetail | 50 |
ColorNoiseReductionSmoothness | 50 |
ColorSpace | sRGB |
ColorTransform | YCbCr |
CompatibleVersion | 251658240 |
Contrast (1) | +25 |
Contrast | Normal |
Contrast2012 | +5 |
ConvertToGrayscale | False |
Copyright | © Hans Jørgen Lindeløff 2023 |
CopyrightFlag | True |
CopyrightNotice | © Hans Jørgen Lindeløff 2023 |
CreateDate (1) | 2023:07:01 23:05:57.051+02:00 |
CreateDate | 2023:07:01 23:05:57 |
Creator | Hans Jørgen Lindeløff |
CreatorAddress | Bjørnevågveien 8 |
CreatorCity | Kråkerøy |
CreatorCountry | Norway |
CreatorPostalCode | 1676 |
CreatorTool | Adobe Photoshop Lightroom Classic 12.4 (Macintosh) |
CreatorWorkEmail | lundeli@mac.com |
CreatorWorkTelephone | +47 92049534 |
CreatorWorkURL | lundeliphoto.no |
CropAngle | 0 |
CropBottom | 0.909796 |
CropConstrainToWarp | 1 |
CropLeft | 0.012248 |
CropRight | 0.987752 |
CropTop | 0.08231 |
CurveRefineSaturation | 100 |
CustomRendered | Custom |
DateCreated (1) | 2023:07:01 |
DateCreated | 2023:07:01 23:05:56.46+02:00 |
DateTimeOriginal | 2023:07:01 23:05:57 |
DefringeGreenAmount | 0 |
DefringeGreenHueHi | 60 |
DefringeGreenHueLo | 40 |
DefringePurpleAmount | 0 |
DefringePurpleHueHi | 70 |
DefringePurpleHueLo | 30 |
Dehaze | 0 |
Exposure2012 | +0.45 |
ExposureCompensation | -2 |
ExposureMode | Manual |
ExposureProgram | Manual |
ExposureTime | 1/400 |
Flash | No Flash |
FNumber | 3.5 |
FocalLength | 20.0 mm |
FocalLength35efl | 20.0 mm (35 mm equivalent: 20.0 mm) |
FocalLengthIn35mmFormat | 20 mm |
Format | image/jpeg |
FOV | 84.0 deg |
GainControl | Low gain up |
GPSDateStamp | 2023:07:01 |
GPSDateTime | 2023:07:01 20:11:01.34Z |
GPSMapDatum | WGS-84 |
GPSSatellites | 00 |
GPSTimeStamp | 20:11:01.34 |
GrainAmount | 0 |
GreenHue | 0 |
GreenSaturation | 0 |
HasCrop | True |
HasExtendedXMP | B567E43765A560B2B5562D69D91E9C9A |
HasSettings | True |
Highlights2012 | -51 |
HueAdjustmentAqua | 0 |
HueAdjustmentBlue | 0 |
HueAdjustmentGreen | 0 |
HueAdjustmentMagenta | 0 |
HueAdjustmentOrange | 0 |
HueAdjustmentPurple | 0 |
HueAdjustmentRed | 0 |
HueAdjustmentYellow | 0 |
HyperfocalDistance | 3.80 m |
ImageHeight | 1152 |
ImageNumber | 14162 |
ImageSize | 2048x1152 |
ImageWidth | 2048 |
IncrementalTemperature | 0 |
IncrementalTint | 0 |
IsMergedHDR | True |
ISO | 2500 |
Keywords | Frankrike, Montmartre, Paris, lys, natt |
LateralChromaticAberrationCorrectionAlreadyApplied | True |
Lens | NIKKOR Z 20mm f/1.8 S |
LensInfo (1) | 20mm f/1.79999995231628 |
LensInfo | 20mm f/1.799999952 |
LensMake | NIKON |
LensManualDistortionAmount | 0 |
LensModel | NIKKOR Z 20mm f/1.8 S |
LensProfileEnable | 0 |
LensSerialNumber | 20023383 |
LightSource | Unknown |
LightValue | 7.6 |
LuminanceAdjustmentAqua | 0 |
LuminanceAdjustmentBlue | 0 |
LuminanceAdjustmentGreen | 0 |
LuminanceAdjustmentMagenta | 0 |
LuminanceAdjustmentOrange | 0 |
LuminanceAdjustmentPurple | 0 |
LuminanceAdjustmentRed | 0 |
LuminanceAdjustmentYellow | 0 |
LuminanceNoiseReductionContrast | 0 |
LuminanceNoiseReductionDetail | 50 |
LuminanceSmoothing | 27 |
Make | NIKON CORPORATION |
Marked | True |
Megapixels | 2.4 |
MeteringMode | Multi-segment |
Model | NIKON Z 6_2 |
ModifyDate (1) | 2023:07:04 02:05:58+02:00 |
ModifyDate | 2023:07:04 02:05:58 |
OverrideLookVignette | False |
ParametricDarks | 0 |
ParametricHighlights | 0 |
ParametricHighlightSplit | 75 |
ParametricLights | 0 |
ParametricMidtoneSplit | 50 |
ParametricShadows | 0 |
ParametricShadowSplit | 25 |
PerspectiveAspect | 0 |
PerspectiveHorizontal | 0 |
PerspectiveRotate | 0.0 |
PerspectiveScale | 100 |
PerspectiveUpright | 0 |
PerspectiveVertical | -9 |
PerspectiveX | 0.00 |
PerspectiveY | 0.00 |
PostCropVignetteAmount | -10 |
PostCropVignetteFeather | 50 |
PostCropVignetteHighlightContrast | 0 |
PostCropVignetteMidpoint | 50 |
PostCropVignetteRoundness | 0 |
PostCropVignetteStyle | 1 |
PreservedFileName | _Z624197.NEF |
ProcessVersion | 15.4 |
ProfileDescription | sRGB IEC61966-2.1 |
RangeMaskMapInfoRangeMaskMapInfoLabMax | 0.997726 0.730373 0.765209 |
RangeMaskMapInfoRangeMaskMapInfoLabMin | 0.002472 0.361624 0.258854 |
RangeMaskMapInfoRangeMaskMapInfoRGBMax | 0.284988 0.196286 0.124872 |
RangeMaskMapInfoRangeMaskMapInfoRGBMin | 0.000170 0.000132 0.000076 |
Rating | 5 |
RawFileName | _Z624196-HDR-Edit.tif |
RecommendedExposureIndex | 2500 |
RedHue | 0 |
RedSaturation | 0 |
Rights | © Hans Jørgen Lindeløff 2023 |
Saturation (1) | +2 |
Saturation | Normal |
SaturationAdjustmentAqua | 0 |
SaturationAdjustmentBlue | 0 |
SaturationAdjustmentGreen | 0 |
SaturationAdjustmentMagenta | 0 |
SaturationAdjustmentOrange | 0 |
SaturationAdjustmentPurple | 0 |
SaturationAdjustmentRed | 0 |
SaturationAdjustmentYellow | 0 |
ScaleFactor35efl | 1.0 |
SceneCaptureType | Landscape |
SceneType | Directly photographed |
SensingMethod | One-chip color area |
SensitivityType | Recommended Exposure Index |
SerialNumber | 6044707 |
Shadows | 5 |
Shadows2012 | +55 |
ShadowTint | 0 |
SharpenDetail | 25 |
SharpenEdgeMasking | 62 |
SharpenRadius | +1.0 |
Sharpness (1) | 61 |
Sharpness | Normal |
ShutterSpeed | 1/400 |
ShutterSpeedValue | 1/400 |
Software | Adobe Photoshop Lightroom Classic 12.4 (Macintosh) |
SplitToningBalance | 0 |
SplitToningHighlightHue | 0 |
SplitToningHighlightSaturation | 0 |
SplitToningShadowHue | 0 |
SplitToningShadowSaturation | 0 |
Subject | Frankrike, Montmartre, Paris, lys, natt |
SubjectDistanceRange | Unknown |
Texture | 0 |
ToneCurveName2012 | Custom |
ToneCurvePV2012 | 0, 0, 103, 114, 255, 255 |
ToneCurvePV2012Blue | 0, 0, 255, 255 |
ToneCurvePV2012Green | 0, 0, 255, 255 |
ToneCurvePV2012Red | 0, 0, 255, 255 |
UsageTerms | All rights reserved |
Version | 15.4 |
Vibrance | +11 |
VignetteAmount | 0 |
WeightedFlatSubject | Frankrike, Montmartre, Paris, natt, lys |
WhiteBalance (1) | As Shot |
WhiteBalance | Auto |
Whites2012 | +44 |