Felt | Verdi |
AlreadyApplied | True |
Aperture | 10.0 |
ApertureValue | 10.0 |
Artist | Hans Jørgen Lindeløff |
AutoLateralCA | 1 |
BitsPerSample | 8 |
Blacks2012 | -10 |
BlueHue | 0 |
BlueSaturation | 0 |
Brightness | +50 |
By-line | Hans Jørgen Lindeløff |
CameraProfile | Embedded |
CameraProfilesApertureValue | 6.643856 |
CameraProfilesAuthor | Adobe |
CameraProfilesAutoScale | False |
CameraProfilesCameraPrettyName | Nikon Z 6 2 |
CameraProfilesCameraRawProfile | True |
CameraProfilesFocalLength | 20 |
CameraProfilesFocusDistance | 10000 |
CameraProfilesLens | NIKKOR Z 20mm f/1.8 S |
CameraProfilesLensPrettyName | NIKKOR Z 20mm f/1.8 S |
CameraProfilesMake | NIKON CORPORATION |
CameraProfilesModel | NIKON Z 6_2 |
CameraProfilesPerspectiveModelImageXCenter | 0.500251 |
CameraProfilesPerspectiveModelImageYCenter | 0.503099 |
CameraProfilesPerspectiveModelRadialDistortParam1 | -0.03542 |
CameraProfilesPerspectiveModelRadialDistortParam2 | 0.001269 |
CameraProfilesPerspectiveModelRadialDistortParam3 | 0.006294 |
CameraProfilesPerspectiveModelScaleFactor | 1.006708 |
CameraProfilesPerspectiveModelVersion | 2 |
CameraProfilesProfileName | Camera Settings |
CameraProfilesSensorFormatFactor | 1.002437 |
CameraProfilesUniqueCameraModel | Nikon Z 6 2 |
CircleOfConfusion | 0.030 mm |
Clarity2012 | 0 |
ColorComponents | 3 |
ColorGradeBlending | 50 |
ColorGradeGlobalHue | 0 |
ColorGradeGlobalLum | 0 |
ColorGradeGlobalSat | 0 |
ColorGradeHighlightLum | 0 |
ColorGradeMidtoneHue | 0 |
ColorGradeMidtoneLum | 0 |
ColorGradeMidtoneSat | 0 |
ColorGradeShadowLum | 0 |
ColorNoiseReduction | 25 |
ColorNoiseReductionDetail | 50 |
ColorNoiseReductionSmoothness | 50 |
ColorSpace (1) | Uncalibrated |
ColorSpace | sRGB |
ColorTransform | YCbCr |
CompatibleVersion | 251658240 |
Contrast (1) | +25 |
Contrast | Normal |
Contrast2012 | +6 |
ConvertToGrayscale | False |
Copyright | © Hans Jørgen Lindeløff 2023 |
CopyrightFlag | True |
CopyrightNotice | © Hans Jørgen Lindeløff 2023 |
CreateDate (1) | 2023:06:29 23:23:21.931+02:00 |
CreateDate | 2023:06:29 23:23:21 |
Creator | Hans Jørgen Lindeløff |
CreatorAddress | Bjørnevågveien 8 |
CreatorCity | Kråkerøy |
CreatorCountry | Norway |
CreatorPostalCode | 1676 |
CreatorTool | Adobe Photoshop Lightroom Classic 12.4 (Macintosh) |
CreatorWorkEmail | lundeli@mac.com |
CreatorWorkTelephone | +47 92049534 |
CreatorWorkURL | lundeliphoto.no |
CropAngle | 0 |
CropBottom | 0.88664 |
CropConstrainToWarp | 1 |
CropLeft | 0 |
CropRight | 1 |
CropTop | 0.009474 |
CustomRendered | Custom |
DateCreated (1) | 2023:06:29 |
DateCreated | 2023:06:29 23:23:21.093+02:00 |
DateTimeOriginal | 2023:06:29 23:23:21 |
DefringeGreenAmount | 0 |
DefringeGreenHueHi | 60 |
DefringeGreenHueLo | 40 |
DefringePurpleAmount | 0 |
DefringePurpleHueHi | 70 |
DefringePurpleHueLo | 30 |
Dehaze | 0 |
DistortionCorrectionAlreadyApplied | True |
Exposure2012 | -0.15 |
ExposureCompensation | -2 |
ExposureMode | Manual |
ExposureProgram | Manual |
ExposureTime | 2 |
Flash | No Flash |
FNumber | 10.0 |
FocalLength | 20.0 mm |
FocalLength35efl | 20.0 mm (35 mm equivalent: 20.0 mm) |
FocalLengthIn35mmFormat | 20 mm |
Format | image/jpeg |
FOV | 84.0 deg |
GainControl | None |
GrainAmount | 0 |
GreenHue | 0 |
GreenSaturation | 0 |
HasCrop | True |
HasSettings | True |
Highlights2012 | -49 |
HueAdjustmentAqua | 0 |
HueAdjustmentBlue | 0 |
HueAdjustmentGreen | 0 |
HueAdjustmentMagenta | 0 |
HueAdjustmentOrange | 0 |
HueAdjustmentPurple | 0 |
HueAdjustmentRed | 0 |
HueAdjustmentYellow | 0 |
HyperfocalDistance | 1.33 m |
ImageHeight | 1194 |
ImageNumber | 13771 |
ImageSize | 2048x1194 |
ImageWidth | 2048 |
IncrementalTemperature | -7 |
IncrementalTint | +8 |
IsMergedHDR | True |
ISO | 125 |
Keywords | Frankrike, Paris, eiffeltårnet, kveld, lys, natt |
LateralChromaticAberrationCorrectionAlreadyApplied | True |
Lens | NIKKOR Z 20mm f/1.8 S |
LensInfo (2) | 20 |
LensInfo | 20mm f/1.8 |
LensMake | NIKON |
LensManualDistortionAmount | 0 |
LensModel | NIKKOR Z 20mm f/1.8 S |
LensProfileDistortionScale | 100 |
LensProfileEnable | 1 |
LensProfileIsEmbedded | True |
LensProfileName | Camera Settings |
LensProfileSetup | Custom |
LensProfileVignettingScale | 100 |
LensSerialNumber | 20023383 |
LightSource | Unknown |
LightValue | 5.3 |
LuminanceAdjustmentAqua | 0 |
LuminanceAdjustmentBlue | 0 |
LuminanceAdjustmentGreen | 0 |
LuminanceAdjustmentMagenta | 0 |
LuminanceAdjustmentOrange | 0 |
LuminanceAdjustmentPurple | 0 |
LuminanceAdjustmentRed | 0 |
LuminanceAdjustmentYellow | 0 |
LuminanceNoiseReductionContrast | 0 |
LuminanceNoiseReductionDetail | 50 |
LuminanceSmoothing | 21 |
Make | NIKON CORPORATION |
Marked | True |
Megapixels | 2.4 |
MeteringMode | Multi-segment |
Model | NIKON Z 6_2 |
ModifyDate (1) | 2023:08:09 01:41:30+02:00 |
ModifyDate | 2023:08:09 01:41:30 |
OverrideLookVignette | False |
ParametricDarks | 0 |
ParametricHighlights | 0 |
ParametricHighlightSplit | 75 |
ParametricLights | 0 |
ParametricMidtoneSplit | 50 |
ParametricShadows | 0 |
ParametricShadowSplit | 25 |
PerspectiveAspect | 0 |
PerspectiveHorizontal | 0 |
PerspectiveRotate | 0.0 |
PerspectiveScale | 100 |
PerspectiveUpright | 0 |
PerspectiveVertical | 0 |
PerspectiveX | 0.00 |
PerspectiveY | 0.00 |
PostCropVignetteAmount | -6 |
PostCropVignetteFeather | 50 |
PostCropVignetteHighlightContrast | 0 |
PostCropVignetteMidpoint | 50 |
PostCropVignetteRoundness | 0 |
PostCropVignetteStyle | 1 |
PreservedFileName | _Z623806.NEF |
ProcessVersion | 15.4 |
ProfileDescription | sRGB IEC61966-2.1 |
Rating | 5 |
RawFileName | _Z623807-HDR-Edit_2.tif |
RecommendedExposureIndex | 125 |
RedHue | 0 |
RedSaturation | 0 |
Rights | © Hans Jørgen Lindeløff 2023 |
Saturation (1) | 0 |
Saturation | Normal |
SaturationAdjustmentAqua | 0 |
SaturationAdjustmentBlue | 0 |
SaturationAdjustmentGreen | 0 |
SaturationAdjustmentMagenta | 0 |
SaturationAdjustmentOrange | 0 |
SaturationAdjustmentPurple | 0 |
SaturationAdjustmentRed | 0 |
SaturationAdjustmentYellow | 0 |
ScaleFactor35efl | 1.0 |
SceneCaptureType | Landscape |
SceneType | Directly photographed |
SensingMethod | One-chip color area |
SensitivityType | Recommended Exposure Index |
SerialNumber | 6044707 |
Shadows | 5 |
Shadows2012 | +61 |
ShadowTint | 0 |
SharpenDetail | 25 |
SharpenEdgeMasking | 54 |
SharpenRadius | +1.0 |
Sharpness (1) | 50 |
Sharpness | Normal |
ShutterSpeed | 2 |
ShutterSpeedValue | 2 |
Software | Adobe Photoshop Lightroom Classic 12.4 (Macintosh) |
SplitToningBalance | 0 |
SplitToningHighlightHue | 0 |
SplitToningHighlightSaturation | 0 |
SplitToningShadowHue | 0 |
SplitToningShadowSaturation | 0 |
Subject | Frankrike, Paris, eiffeltårnet, kveld, lys, natt |
SubjectDistanceRange | Unknown |
Texture | 0 |
ToneCurveName2012 | Linear |
ToneCurvePV2012 | 0, 0, 255, 255 |
ToneCurvePV2012Blue | 0, 0, 255, 255 |
ToneCurvePV2012Green | 0, 0, 255, 255 |
ToneCurvePV2012Red | 0, 0, 255, 255 |
Transformation | Perspective |
UsageTerms | All rights reserved |
Version | 15.4 |
Vibrance | +13 |
VignetteAmount | 0 |
VirtualFocalLength | 0.554729 |
VirtualImageXCenter | 0.499917 |
VirtualImageYCenter | 0.332176 |
WeightedFlatSubject | eiffeltårnet, natt, lys, Frankrike, Paris, kveld |
WhiteBalance (1) | Custom |
WhiteBalance | Auto |
Whites2012 | +27 |