Felt | Verdi |
AlreadyApplied | True |
Aperture | 2.8 |
ApertureValue | 2.8 |
Artist | SINDRE_NEDREVAG |
AutoLateralCA | 0 |
BitsPerSample | 8 |
Blacks2012 | 0 |
BlueHue | 0 |
BlueSaturation | 0 |
By-line | SINDRE_NEDREVAG |
CameraProfile | Embedded |
CameraProfilesApertureValue | 2.970854 |
CameraProfilesAuthor | Adobe |
CameraProfilesAutoScale | False |
CameraProfilesCameraPrettyName | Nikon Z 9 |
CameraProfilesCameraRawProfile | True |
CameraProfilesFocalLength | 105 |
CameraProfilesFocusDistance | 10000 |
CameraProfilesLens | VR 70-200mm f/2.8G |
CameraProfilesLensPrettyName | VR 70-200mm f/2.8G |
CameraProfilesMake | NIKON CORPORATION |
CameraProfilesModel | NIKON Z 9 |
CameraProfilesPerspectiveModelRadialDistortParam1 | 0.402598 |
CameraProfilesPerspectiveModelRadialDistortParam2 | 0.462967 |
CameraProfilesPerspectiveModelRadialDistortParam3 | -0.24728 |
CameraProfilesPerspectiveModelScaleFactor | 0.982535 |
CameraProfilesPerspectiveModelVersion | 2 |
CameraProfilesPerspectiveModelVignetteModelVignetteModelParam1 | 1 |
CameraProfilesProfileName | Camera Settings |
CameraProfilesSensorFormatFactor | 1.003485 |
CameraProfilesUniqueCameraModel | Nikon Z 9 |
CFAPattern | [Red,Green][Green,Blue] |
CircleOfConfusion | 0.030 mm |
Clarity2012 | 0 |
ColorComponents | 3 |
ColorGradeBlending | 50 |
ColorGradeGlobalHue | 0 |
ColorGradeGlobalLum | 0 |
ColorGradeGlobalSat | 0 |
ColorGradeHighlightLum | 0 |
ColorGradeMidtoneHue | 0 |
ColorGradeMidtoneLum | 0 |
ColorGradeMidtoneSat | 0 |
ColorGradeShadowLum | 0 |
ColorNoiseReduction | 0 |
ColorSpace | sRGB |
CompatibleVersion | 234881024 |
Contrast | Normal |
Contrast2012 | 0 |
ConvertToGrayscale | False |
Copyright | SINDRE_N_PHOTOGRAPHY |
CopyrightNotice | SINDRE_N_PHOTOGRAPHY |
CreateDate (1) | 2023:08:17 17:38:37.89+02:00 |
CreateDate | 2023:08:17 17:38:37 |
Creator | SINDRE_NEDREVAG |
CreatorTool | Adobe Photoshop Lightroom Classic 12.5 (Windows) |
CropAngle | 0 |
CropBottom | 1 |
CropConstrainToWarp | 0 |
CropLeft | 0 |
CropRight | 0.981797 |
CropTop | 0.057872 |
CustomRendered | Custom |
DateCreated (1) | 2023:08:17 |
DateCreated | 2023:08:17 17:38:37.89+02:00 |
DateTimeOriginal | 2023:08:17 17:38:37 |
DefringeGreenAmount | 0 |
DefringeGreenHueHi | 60 |
DefringeGreenHueLo | 40 |
DefringePurpleAmount | 0 |
DefringePurpleHueHi | 70 |
DefringePurpleHueLo | 30 |
Dehaze | 0 |
DistortionCorrectionAlreadyApplied | True |
Exposure2012 | 0.00 |
ExposureCompensation | 0 |
ExposureMode | Manual |
ExposureProgram | Manual |
ExposureTime | 1/16000 |
Flash | No Flash |
FNumber | 2.8 |
FocalLength | 105.0 mm |
FocalLength35efl | 105.0 mm (35 mm equivalent: 105.0 mm) |
FocalLengthIn35mmFormat | 105 mm |
Format | image/jpeg |
FOV | 19.5 deg |
GainControl | Low gain up |
GrainAmount | 0 |
GreenHue | 0 |
GreenSaturation | 0 |
HasCrop | True |
HasSettings | True |
Highlights2012 | 0 |
HueAdjustmentAqua | 0 |
HueAdjustmentBlue | 0 |
HueAdjustmentGreen | 0 |
HueAdjustmentMagenta | 0 |
HueAdjustmentOrange | 0 |
HueAdjustmentPurple | 0 |
HueAdjustmentRed | 0 |
HueAdjustmentYellow | 0 |
HyperfocalDistance | 131.05 m |
ImageHeight | 1642 |
ImageNumber | 36219 |
ImageSize | 2560x1642 |
ImageWidth | 2560 |
IncrementalTemperature | 0 |
IncrementalTint | 0 |
ISO | 1250 |
LateralChromaticAberrationCorrectionAlreadyApplied | True |
Lens | VR 70-200mm f/2.8G |
LensInfo | 70-200mm f/2.8 |
LensManualDistortionAmount | 0 |
LensModel | VR 70-200mm f/2.8G |
LensProfileEnable | 0 |
LightSource | Unknown |
LightValue | 13.3 |
LuminanceAdjustmentAqua | 0 |
LuminanceAdjustmentBlue | 0 |
LuminanceAdjustmentGreen | 0 |
LuminanceAdjustmentMagenta | 0 |
LuminanceAdjustmentOrange | 0 |
LuminanceAdjustmentPurple | 0 |
LuminanceAdjustmentRed | 0 |
LuminanceAdjustmentYellow | 0 |
LuminanceNoiseReductionContrast | 0 |
LuminanceNoiseReductionDetail | 50 |
LuminanceSmoothing | 2 |
Make | NIKON CORPORATION |
Megapixels | 4.2 |
MeteringMode | Spot |
Model | NIKON Z 9 |
ModifyDate (1) | 2023:08:23 21:40:35+02:00 |
ModifyDate | 2023:08:23 21:40:35 |
Orientation | Horizontal (normal) |
OverrideLookVignette | False |
ParametricDarks | 0 |
ParametricHighlights | 0 |
ParametricHighlightSplit | 75 |
ParametricLights | +10 |
ParametricMidtoneSplit | 50 |
ParametricShadows | 0 |
ParametricShadowSplit | 25 |
PerspectiveAspect | 0 |
PerspectiveHorizontal | 0 |
PerspectiveRotate | 0.0 |
PerspectiveScale | 100 |
PerspectiveUpright | 0 |
PerspectiveVertical | 0 |
PerspectiveX | 0.00 |
PerspectiveY | 0.00 |
PostCropVignetteAmount | 0 |
PreservedFileName | DSC_6236.NEF |
ProcessVersion | 15.4 |
ProfileDescription | sRGB IEC61966-2.1 |
RawFileName | DSC_6236-Rediger.tif |
RecommendedExposureIndex | 1250 |
RedHue | 0 |
RedSaturation | 0 |
Rights | SINDRE_N_PHOTOGRAPHY |
Saturation (1) | 0 |
Saturation | Normal |
SaturationAdjustmentAqua | 0 |
SaturationAdjustmentBlue | 0 |
SaturationAdjustmentGreen | 0 |
SaturationAdjustmentMagenta | 0 |
SaturationAdjustmentOrange | 0 |
SaturationAdjustmentPurple | 0 |
SaturationAdjustmentRed | 0 |
SaturationAdjustmentYellow | 0 |
ScaleFactor35efl | 1.0 |
SceneCaptureType | Standard |
SceneType | Directly photographed |
SensingMethod | One-chip color area |
SensitivityType | Recommended Exposure Index |
SerialNumber | 6025745 |
Shadows2012 | 0 |
ShadowTint | 0 |
Sharpness (1) | 0 |
Sharpness | Normal |
ShutterSpeed | 1/16000 |
ShutterSpeedValue | 1/16000 |
Software | Adobe Photoshop Lightroom Classic 12.5 (Windows) |
SplitToningBalance | 0 |
SplitToningHighlightHue | 0 |
SplitToningHighlightSaturation | 0 |
SplitToningShadowHue | 0 |
SplitToningShadowSaturation | 0 |
SubjectDistanceRange | Unknown |
Texture | 0 |
ToneCurveName2012 | Linear |
ToneCurvePV2012 | 0, 0, 255, 255 |
ToneCurvePV2012Blue | 0, 0, 255, 255 |
ToneCurvePV2012Green | 0, 0, 255, 255 |
ToneCurvePV2012Red | 0, 0, 255, 255 |
Version | 15.5 |
Vibrance | 0 |
VignetteAmount | 0 |
VignetteCorrectionAlreadyApplied | True |
WhiteBalance (1) | As Shot |
WhiteBalance | Auto |
Whites2012 | 0 |