Felt | Verdi |
AlreadyApplied | True |
Aperture | 8.0 |
ApertureValue | 8.0 |
AuthorsPosition | |
BitsPerSample | 8 |
BlueHue | 0 |
BlueSaturation | 0 |
Brightness | +61 |
By-line | Runar DamgŒrd |
CameraProfile | ACR 2.4 |
ChromaticAberrationB | 0 |
ChromaticAberrationR | 0 |
CircleOfConfusion | 0.019 mm |
ColorComponents | 3 |
ColorNoiseReduction | 25 |
ColorTemperature | 5650 |
Contrast | +79 |
ConvertToGrayscale | False |
CreateDate | 2005:08:07 13:04:58 |
Creator | Runar Damgård |
CreatorAddress | Alvestien 5 |
CreatorCity | Kristiansand |
CreatorCountry | Norway |
CreatorPostalCode | 4638 |
CreatorTool | Adobe Photoshop Lightroom |
CreatorWorkEmail | |
CreatorWorkTelephone | +47 971 56 533 |
CreatorWorkURL | |
CropAngle | 0 |
CropBottom | 0.937132 |
CropHeight | 709 |
CropLeft | 0.107766 |
CropRight | 0.732521 |
CropTop | 0 |
CropUnit | pixels |
CropWidth | 709 |
CustomRendered | Normal |
DateTimeDigitized | 2005:08:07 13:04:58+02:00 |
DateTimeOriginal (1) | 2005:08:07 13:04:58+02:00 |
DateTimeOriginal | 2005:08:07 13:04:58 |
Exposure | -0.17 |
ExposureCompensation | -2/3 |
ExposureMode | Auto |
ExposureProgram | Program AE |
ExposureTime | 1/60 |
FillLight | 0 |
Firmware | 1.1.0 |
Flash | Off, Did not fire |
FlashCompensation | 0 |
FlashFired | False |
FlashFunction | False |
FlashMode | Off |
FlashRedEyeMode | False |
FlashReturn | No return detection |
FNumber | 8.0 |
FocalLength | 28.0 mm |
FocalLength35efl | 28.0 mm (35 mm equivalent: 44.8 mm) |
FOV | 43.7 deg |
GreenHue | 0 |
GreenSaturation | 0 |
HasCrop | True |
HasSettings | True |
HighlightRecovery | 0 |
HueAdjustmentAqua | 0 |
HueAdjustmentBlue | 0 |
HueAdjustmentGreen | 0 |
HueAdjustmentMagenta | 0 |
HueAdjustmentOrange | 0 |
HueAdjustmentPurple | 0 |
HueAdjustmentRed | 0 |
HueAdjustmentYellow | 0 |
HyperfocalDistance | 5.22 m |
ImageHeight | 709 |
ImageNumber | 62 |
ImageSize | 709x709 |
ImageWidth | 709 |
ISO | 100 |
Keywords | B&W, Coledale Horseshoe, England, Fototeknikk, Motiv, Omgivelse, Steder, Storbritania, slandskap |
Label | Green |
Lens | 28.0-70.0 mm |
LensInfo | 28-70mm f/? |
LightValue | 11.9 |
LuminanceAdjustmentAqua | 0 |
LuminanceAdjustmentBlue | 0 |
LuminanceAdjustmentGreen | 0 |
LuminanceAdjustmentMagenta | 0 |
LuminanceAdjustmentOrange | 0 |
LuminanceAdjustmentPurple | 0 |
LuminanceAdjustmentRed | 0 |
LuminanceAdjustmentYellow | 0 |
LuminanceSmoothing | 0 |
Make | Canon |
MaxApertureValue | 2.8 |
Megapixels | 0.503 |
MeteringMode | Multi-segment |
Model | Canon EOS 20D |
ModifyDate (1) | 2007:05:08 21:21:29+02:00 |
ModifyDate | 2007:05:08 21:21:29 |
OwnerName | Runar DamgÂrd |
ParametricDarks | -9 |
ParametricHighlights | -9 |
ParametricHighlightSplit | 75 |
ParametricLights | +15 |
ParametricMidtoneSplit | 50 |
ParametricShadows | -26 |
ParametricShadowSplit | 25 |
ProfileDescription | Adobe RGB (1998) |
Rating | 4 |
RedHue | 0 |
RedSaturation | 0 |
Saturation | 0 |
SaturationAdjustmentAqua | 0 |
SaturationAdjustmentBlue | 0 |
SaturationAdjustmentGreen | 0 |
SaturationAdjustmentMagenta | 0 |
SaturationAdjustmentOrange | 0 |
SaturationAdjustmentPurple | 0 |
SaturationAdjustmentRed | 0 |
SaturationAdjustmentYellow | 0 |
ScaleFactor35efl | 1.6 |
SceneCaptureType | Standard |
SerialNumber | 330120642 |
Shadows | 0 |
ShadowTint | 0 |
Sharpness | 25 |
ShutterSpeed | 1/60 |
ShutterSpeedValue | 1/60 |
SplitToningBalance | 0 |
SplitToningHighlightHue | 0 |
SplitToningHighlightSaturation | 0 |
SplitToningShadowHue | 0 |
SplitToningShadowSaturation | 0 |
Subject | B&W, Coledale Horseshoe, England, Fototeknikk, Motiv, Omgivelse, Steder, Storbritania, Åslandskap |
Tint | -5 |
ToneCurve | 0, 0, 32, 22, 64, 56, 128, 128, 192, 196, 255, 255 |
ToneCurveName | Medium Contrast |
Version | 1.0 |
Vibrance | +15 |
VignetteAmount | 0 |
WhiteBalance (2) | Custom |
WhiteBalance | Auto |