Felt | Verdi |
AlreadyApplied | True |
Aperture | 5.6 |
ApertureValue | 5.6 |
Artist | Bj¯rn-Tore AlmÂs |
BitsPerSample | 8 |
BlueHue | 0 |
BlueSaturation | 0 |
Brightness | -19 |
By-line | Bj¯rn-Tore AlmÂs |
CameraProfile | Embedded |
CaptionWriter | Bjørn-Tore Almås |
ChromaticAberrationB | 0 |
ChromaticAberrationR | 0 |
CircleOfConfusion | 0.019 mm |
Clarity | 53 |
ColorComponents | 3 |
ColorMode | RGB |
ColorNoiseReduction | 0 |
ColorSpace | sRGB |
Contrast | +52 |
ConvertToGrayscale | False |
Copyright | Bjørn-Tore Almås |
CopyrightFlag | False |
CopyrightNotice | Bjørn-Tore Almås |
CreateDate (1) | 2007:04:05 15:21:50+02:00 |
CreateDate | 2007:04:05 15:21:50 |
Creator | Bj¯rn-Tore AlmÂs |
CreatorTool | Adobe Photoshop CS3 Windows |
CropAngle | 0 |
CropBottom | 1 |
CropHeight | 1000 |
CropLeft | 0.158358 |
CropRight | 0.856305 |
CropTop | 0 |
CropUnit | pixels |
CropWidth | 1047 |
CustomRendered | Normal |
DateTimeDigitized | 2007:04:05 15:21:50+02:00 |
DateTimeOriginal (1) | 2007:04:05 15:21:50+02:00 |
DateTimeOriginal | 2007:04:05 15:21:50 |
Defringe | 0 |
ExifImageHeight | 768 |
ExifImageWidth | 804 |
Exposure | 0.00 |
ExposureCompensation | 0 |
ExposureMode | Manual |
ExposureProgram | Manual |
ExposureTime | 1/40 |
FillLight | 20 |
Firmware | 1.0.3 |
Flash | Off, Did not fire |
FlashCompensation | 0 |
FlashFired | False |
FlashFunction | False |
FlashMode | Off |
FlashRedEyeMode | False |
FlashReturn | No return detection |
FNumber | 5.6 |
FocalLength | 49.0 mm |
FocalLength35efl | 49.0 mm (35 mm equivalent: 79.5 mm) |
Format | image/jpeg |
FOV | 25.5 deg |
GreenHue | 0 |
GreenSaturation | 0 |
HasCrop | True |
HasSettings | True |
HighlightRecovery | 0 |
HueAdjustmentAqua | 0 |
HueAdjustmentBlue | 0 |
HueAdjustmentGreen | 0 |
HueAdjustmentMagenta | 0 |
HueAdjustmentOrange | 0 |
HueAdjustmentPurple | 0 |
HueAdjustmentRed | 0 |
HueAdjustmentYellow | 0 |
HyperfocalDistance | 23.15 m |
ICCProfileName | sRGB IEC61966-2.1 |
ImageHeight (1) | 1000 |
ImageHeight | 768 |
ImageNumber | 101 |
ImageSize | 804x768 |
ImageWidth (1) | 1047 |
ImageWidth | 804 |
IncrementalTemperature | 0 |
IncrementalTint | 0 |
ISO | 200 |
Keywords | Egg, Ferie, dekor, gul, gull, helligdag, jesus, påske |
Lens | 18.0-55.0 mm |
LensInfo | 18-55mm f/? |
LightValue | 9.3 |
LuminanceAdjustmentAqua | 0 |
LuminanceAdjustmentBlue | 0 |
LuminanceAdjustmentGreen | 0 |
LuminanceAdjustmentMagenta | 0 |
LuminanceAdjustmentOrange | 0 |
LuminanceAdjustmentPurple | 0 |
LuminanceAdjustmentRed | 0 |
LuminanceAdjustmentYellow | 0 |
LuminanceSmoothing | 0 |
Make | Canon |
MaxApertureValue | 5.6 |
Megapixels | 0.617 |
MeteringMode | Multi-segment |
Model | Canon EOS 350D DIGITAL |
ModifyDate (1) | 2007:11:01 00:28:32+01:00 |
ModifyDate | 2007:11:01 00:28:32 |
Orientation | Horizontal (normal) |
OwnerName | Bjørn-Tore Almås |
ParametricDarks | 0 |
ParametricHighlights | 0 |
ParametricHighlightSplit | 75 |
ParametricLights | 0 |
ParametricMidtoneSplit | 50 |
ParametricShadows | 0 |
ParametricShadowSplit | 25 |
ProfileDescription | sRGB IEC61966-2.1 |
RedHue | 0 |
RedSaturation | 0 |
Rights | Bjørn-Tore Almås |
Saturation | -60 |
SaturationAdjustmentAqua | 0 |
SaturationAdjustmentBlue | 0 |
SaturationAdjustmentGreen | 0 |
SaturationAdjustmentMagenta | 0 |
SaturationAdjustmentOrange | 0 |
SaturationAdjustmentPurple | 0 |
SaturationAdjustmentRed | 0 |
SaturationAdjustmentYellow | 0 |
ScaleFactor35efl | 1.6 |
SceneCaptureType | Standard |
SerialNumber | 630545312 |
Shadows | 6 |
ShadowTint | 0 |
SharpenDetail | 25 |
SharpenEdgeMasking | 0 |
SharpenRadius | +1.0 |
Sharpness | 0 |
ShutterSpeed | 1/40 |
ShutterSpeedValue | 1/40 |
Software | Adobe Photoshop CS3 Windows |
SplitToningBalance | 0 |
SplitToningHighlightHue | 0 |
SplitToningHighlightSaturation | 0 |
SplitToningShadowHue | 0 |
SplitToningShadowSaturation | 0 |
Subject | Egg, Ferie, dekor, gul, gull, helligdag, jesus, påske |
ToneCurve | 0, 0, 255, 255 |
ToneCurveName | Linear |
URL | http://www.limekex.no/photocopyright.html |
URL_List | |
UsageTerms | http://www.limekex.no/photorightusage.html |
Version | 1.0 |
Vibrance | 0 |
VignetteAmount | 0 |
WebStatement | http://www.limekex.no/photocopyright.html |
WhiteBalance (2) | As Shot |
WhiteBalance | Manual |
Writer-Editor | Bjørn-Tore Almås |