Felt | Verdi |
AlreadyApplied | True |
Aperture | 4.5 |
ApertureValue | 4.5 |
Artist | unknown |
BitsPerSample | 8 |
BlueHue | 0 |
BlueSaturation | 0 |
Brightness | -6 |
By-line | unknown |
CameraProfile | ACR 3.4 |
ChromaticAberrationB | -100 |
ChromaticAberrationR | -100 |
CircleOfConfusion | 0.019 mm |
ColorComponents | 3 |
ColorMode | RGB |
ColorSpace (1) | Unknown (-1) |
ColorSpace | Uncalibrated |
ColorTemperature | 2000 |
Contrast | +49 |
ConvertToGrayscale | True |
CopyrightFlag | False |
CreateDate (1) | 2008:02:08 23:32:22+01:00 |
CreateDate | 2007:11:13 00:41:07 |
Creator | unknown |
CreatorTool | Adobe Photoshop CS3 Macintosh |
CropAngle | 0 |
CropBottom | 1 |
CropLeft | 0.133429 |
CropRight | 0.889527 |
CropTop | 0 |
CustomRendered | Normal |
DateTimeDigitized | 2007:11:13 00:41:07+01:00 |
DateTimeOriginal (1) | 2007:11:13 00:41:07+01:00 |
DateTimeOriginal | 2007:11:13 00:41:07 |
ExifImageHeight | 650 |
ExifImageWidth | 720 |
Exposure | +3.85 |
ExposureCompensation | 0 |
ExposureMode | Manual |
ExposureProgram | Manual |
ExposureTime | 30 |
FillLight | 87 |
Firmware | 1.0.5 |
Flash | Off, Did not fire |
FlashCompensation | 0 |
FlashFired | False |
FlashFunction | False |
FlashMode | Off |
FlashRedEyeMode | False |
FlashReturn | No return detection |
FNumber | 4.5 |
FocalLength | 28.0 mm |
FocalLength35efl | 28.0 mm (35 mm equivalent: 44.8 mm) |
Format | image/jpeg |
FOV | 43.7 deg |
GrayMixerAqua | -18 |
GrayMixerBlue | +17 |
GrayMixerGreen | -30 |
GrayMixerMagenta | +10 |
GrayMixerOrange | -21 |
GrayMixerPurple | +25 |
GrayMixerRed | -9 |
GrayMixerYellow | -26 |
GreenHue | 0 |
GreenSaturation | 0 |
HasCrop | True |
HasSettings | True |
HighlightRecovery | 98 |
HyperfocalDistance | 9.29 m |
ICCProfileName | Adobe RGB (1998) |
ImageHeight | 650 |
ImageNumber | 160 |
ImageSize | 720x650 |
ImageWidth | 720 |
ISO | 200 |
Lens | EF28-90mm f/4-5.6 |
LensInfo | 28-90mm f/? |
LightValue | -1.6 |
LuminanceSmoothing | 100 |
Make | Canon |
MaxApertureValue | 3.5 |
Megapixels | 0.468 |
MeteringMode | Spot |
Model | Canon EOS 30D |
ModifyDate (1) | 2008:02:08 23:32:22+01:00 |
ModifyDate | 2008:02:08 23:32:22 |
Orientation | Horizontal (normal) |
OwnerName | unknown |
ParametricDarks | -41 |
ParametricHighlights | +100 |
ParametricHighlightSplit | 75 |
ParametricLights | +100 |
ParametricMidtoneSplit | 50 |
ParametricShadows | +7 |
ParametricShadowSplit | 25 |
ProfileDescription | Adobe RGB (1998) |
Rating | 0 |
RawFileName | _MG_2666.CR2 |
RedHue | 0 |
RedSaturation | 0 |
ScaleFactor35efl | 1.6 |
SceneCaptureType | Standard |
SerialNumber | 1830910365 |
Shadows | 5 |
ShadowTint | 0 |
Sharpness | 94 |
ShutterSpeed | 30 |
ShutterSpeedValue | 30 |
SidecarForExtension | CR2 |
Software | Adobe Photoshop CS3 Macintosh |
SplitToningBalance | -43 |
SplitToningHighlightHue | 12 |
SplitToningHighlightSaturation | 19 |
SplitToningShadowHue | 0 |
SplitToningShadowSaturation | 0 |
TimeZoneOffset | 1 1 |
Tint | +98 |
ToneCurve | 0, 0, 32, 22, 64, 56, 128, 128, 192, 196, 255, 255 |
ToneCurveName | Medium Contrast |
URL_List | |
Version | 4.0 |
VignetteAmount | -100 |
VignetteMidpoint | 0 |
WhiteBalance (2) | Custom |
WhiteBalance | Auto |