Felt | Verdi |
ApertureValue | 14.0 |
Artist | unknown |
BitsPerSample | 8 |
Brightness | +50 |
By-line | unknown |
ChromaticAberrationB | 0 |
CircleOfConfusion | 0.019 mm |
Clarity | 35 |
ColorComponents | 3 |
ColorNoiseReduction | 25 |
ColorSpace (1) | sRGB |
ColorSpace | Uncalibrated |
ColorTemperature | 5700 |
Contrast | -13 |
CopyrightFlag | False |
CreateDate | 2008:05:06 22:29:49 |
Creator | unknown |
CreatorTool | Adobe Photoshop Elements 6.0 |
CustomRendered | Normal |
DateTimeDigitized | 2008:05:06 22:29:49+02:00 |
DateTimeOriginal | 2008:05:06 22:29:49 |
Defringe | 0 |
ExifImageWidth (1) | 3155 |
ExifImageWidth | 1024 |
ExposureCompensation | 0 |
ExposureMode | Auto |
ExposureTime | 5 |
FillLight | 43 |
Flash | Off, Did not fire |
FlashCompensation | 0 |
FlashFired | False |
FlashMode | Off |
FlashReturn | No return detection |
FNumber | 14.0 |
FocalLength (1) | 35.0 mm |
FocalLength35efl | 35.0 mm (35 mm equivalent: 56.8 mm) |
Format | application/vnd.adobe.photoshop |
GreenHue | 0 |
GreenSaturation | 0 |
HasSettings | True |
HighlightRecovery | 32 |
HueAdjustmentBlue | 0 |
HueAdjustmentGreen | 0 |
HueAdjustmentMagenta | 0 |
HueAdjustmentOrange | 0 |
HueAdjustmentPurple | 0 |
HueAdjustmentRed | 0 |
HyperfocalDistance | 4.72 m |
ICCProfileName | sRGB IEC61966-2.1 |
ImageNumber | 203 |
ImageSize | 1024x700 |
ImageWidth | 1024 |
ISO | 100 |
LightValue | 5.3 |
LuminanceAdjustmentAqua | 0 |
LuminanceAdjustmentBlue | 0 |
LuminanceAdjustmentGreen | 0 |
LuminanceAdjustmentMagenta | 0 |
LuminanceAdjustmentOrange | 0 |
LuminanceAdjustmentRed | 0 |
LuminanceSmoothing | 0 |
Make | Canon |
MaxApertureValue | 2.0 |
MeteringMode | Multi-segment |
Model | Canon EOS 350D DIGITAL |
ModifyDate (1) | 2008:05:09 23:12:07+02:00 |
ModifyDate | 2008:05:14 21:22:47 |
Orientation | Horizontal (normal) |
ParametricHighlights | 0 |
ParametricLights | 0 |
ParametricShadows | 0 |
ParametricShadowSplit | 25 |
ProfileDescription | sRGB IEC61966-2.1 |
Rating | 5 |
RawFileName | _MG_6603.CR2 |
RedHue | 0 |
SaturationAdjustmentAqua | 0 |
SaturationAdjustmentGreen | 0 |
SaturationAdjustmentMagenta | 0 |
SaturationAdjustmentRed | 0 |
ScaleFactor35efl | 1.6 |
SceneCaptureType | Standard |
SerialNumber | 1030620983 |
ShadowTint | 0 |
SharpenDetail | 25 |
SharpenEdgeMasking | 0 |
SharpenRadius | +1.0 |
Sharpness | 25 |
ShutterSpeedValue | 5 |
SidecarForExtension | CR2 |
SplitToningBalance | 0 |
SplitToningHighlightHue | 0 |
SplitToningHighlightSaturation | 0 |
Tint | -8 |
ToneCurve | 0, 0, 32, 22, 64, 56, 128, 128, 192, 196, 255, 255 |
ToneCurveName | Medium Contrast |
URL_List | |
Version | 4.2 |
Vibrance | +36 |
VignetteAmount | 0 |
WhiteBalance | Auto |