Felt | Verdi |
AlreadyApplied | True |
Aperture | 9.0 |
ApertureValue | 9.0 |
BitsPerSample | 8 |
BlueHue | 0 |
BlueSaturation | 0 |
Brightness | +54 |
By-line | Arnold Hoddevik |
CameraProfile | ACR 4.4 |
CFAPattern | [Red,Green][Green,Blue] |
ChromaticAberrationB | 0 |
ChromaticAberrationR | 0 |
CircleOfConfusion | 0.020 mm |
Clarity | 55 |
ColorComponents | 3 |
ColorNoiseReduction | 25 |
ColorTemperature | 5000 |
Contrast (2) | +32 |
Contrast | Normal |
ConvertToGrayscale | False |
CreateDate | 2008:06:15 09:55:54 |
Creator | Arnold Hoddevik |
CreatorAddress | Fylling |
CreatorCity | Skodje |
CreatorCountry | Norway |
CreatorPostalCode | 6260 |
CreatorTool | Adobe Photoshop Lightroom |
CreatorWorkEmail | skrue2ah@adsl.no |
CreatorWorkTelephone | +4770275621 |
CreatorWorkURL | www.evyogarnold.no |
CropAngle | 0 |
CropBottom | 0.654655 |
CropHeight | 600 |
CropLeft | 0.265469 |
CropRight | 0.636727 |
CropTop | 0.228228 |
CropUnit | pixels |
CropWidth | 786 |
CustomRendered | Normal |
DateTimeDigitized | 2008:06:15 09:55:54.45+02:00 |
DateTimeOriginal (1) | 2008:06:15 09:55:54.45+02:00 |
DateTimeOriginal | 2008:06:15 09:55:54 |
Defringe | 0 |
DigitalZoomRatio | 1 |
Exposure | -0.48 |
ExposureCompensation | +2/3 |
ExposureMode | Auto |
ExposureProgram | Aperture-priority AE |
ExposureTime | 1/500 |
FillLight | 0 |
Flash | No Flash |
FlashFired | False |
FlashFunction | False |
FlashMode | Unknown |
FlashRedEyeMode | False |
FlashReturn | No return detection |
FNumber | 9.0 |
FocalLength | 105.0 mm |
FocalLength35efl | 105.0 mm (35 mm equivalent: 157.0 mm) |
FocalLengthIn35mmFormat | 157 mm |
FOV | 13.1 deg |
GainControl | Low gain up |
GreenHue | 0 |
GreenSaturation | 0 |
HasCrop | True |
HasSettings | True |
HighlightRecovery | 64 |
HueAdjustmentAqua | 0 |
HueAdjustmentBlue | 0 |
HueAdjustmentGreen | 0 |
HueAdjustmentMagenta | 0 |
HueAdjustmentOrange | 0 |
HueAdjustmentPurple | 0 |
HueAdjustmentRed | 0 |
HueAdjustmentYellow | 0 |
HyperfocalDistance | 60.96 m |
ImageHeight | 600 |
ImageNumber | 7950 |
ImageSize | 786x600 |
ImageWidth | 786 |
ISO | 400 |
Keywords | insekt |
Lens | 105.0 mm f/2.8 |
LensInfo | 105mm f/2.8 |
LightSource | Fine Weather |
LightValue | 13.3 |
LuminanceAdjustmentAqua | 0 |
LuminanceAdjustmentBlue | 0 |
LuminanceAdjustmentGreen | 0 |
LuminanceAdjustmentMagenta | 0 |
LuminanceAdjustmentOrange | 0 |
LuminanceAdjustmentPurple | 0 |
LuminanceAdjustmentRed | 0 |
LuminanceAdjustmentYellow | 0 |
LuminanceSmoothing | 0 |
Make | NIKON CORPORATION |
Marked | True |
MaxApertureValue | 3.5 |
Megapixels | 0.472 |
MeteringMode | Center-weighted average |
Model | NIKON D300 |
ModifyDate (1) | 2008:06:24 22:54:23+02:00 |
ModifyDate | 2008:06:24 22:54:23 |
ParametricDarks | 0 |
ParametricHighlights | -5 |
ParametricHighlightSplit | 75 |
ParametricLights | 0 |
ParametricMidtoneSplit | 50 |
ParametricShadows | 0 |
ParametricShadowSplit | 25 |
ProfileDescription | sRGB IEC61966-2.1 |
RatingPercent | 99 |
RedHue | 0 |
RedSaturation | 0 |
Saturation (2) | +7 |
Saturation | Normal |
SaturationAdjustmentAqua | 0 |
SaturationAdjustmentBlue | 0 |
SaturationAdjustmentGreen | 0 |
SaturationAdjustmentMagenta | 0 |
SaturationAdjustmentOrange | 0 |
SaturationAdjustmentPurple | 0 |
SaturationAdjustmentRed | 0 |
SaturationAdjustmentYellow | 0 |
ScaleFactor35efl | 1.5 |
SceneCaptureType | Standard |
SceneType | Directly photographed |
SensingMethod | One-chip color area |
Shadows | 0 |
ShadowTint | 0 |
SharpenDetail | 6 |
SharpenEdgeMasking | 8 |
SharpenRadius | +0.6 |
Sharpness (2) | 36 |
Sharpness | Normal |
ShutterSpeed | 1/500 |
ShutterSpeedValue | 1/500 |
Software | Nikon Transfer 1.0 W |
SplitToningBalance | 0 |
SplitToningHighlightHue | 0 |
SplitToningHighlightSaturation | 0 |
SplitToningShadowHue | 0 |
SplitToningShadowSaturation | 0 |
Subject | insekt |
SubjectDistanceRange | Unknown |
Tint | +1 |
ToneCurve | 0, 0, 32, 22, 64, 56, 128, 128, 192, 196, 255, 255 |
ToneCurveName | Medium Contrast |
Version | 4.4.1 |
Vibrance | +7 |
VignetteAmount | 0 |
WhiteBalance (2) | As Shot |
WhiteBalance | Manual |