Felt | Verdi |
2008-07-01T23:57:04+02:00 File IMG_2990.psd saved
2008-07-02T00:00:54+02:00 File foto IMG_2990.jpg saved
AlreadyApplied | True |
Aperture | 5.0 |
ApertureValue | 5.0 |
Artist | unknown |
BitsPerSample | 8 |
BlueHue | 0 |
BlueSaturation | 0 |
Brightness | +40 |
By-line | unknown |
CameraProfile | ACR 3.4 |
ChromaticAberrationB | 0 |
ChromaticAberrationR | 0 |
CircleOfConfusion | 0.019 mm |
ColorComponents | 3 |
ColorMode | RGB |
ColorNoiseReduction | 25 |
ColorSpace | sRGB |
ColorTemperature | 4350 |
Contrast | +20 |
ConvertToGrayscale | False |
CopyrightFlag | False |
CreateDate (1) | 2008:07:02 00:00:54+02:00 |
CreateDate | 2008:06:09 03:46:11 |
Creator | unknown |
CreatorTool | Adobe Photoshop CS3 Macintosh |
CustomRendered | Normal |
DateTimeDigitized | 2008:06:09 03:46:11+02:00 |
DateTimeOriginal (1) | 2008:06:09 03:46:11+02:00 |
DateTimeOriginal | 2008:06:09 03:46:11 |
ExifImageHeight | 700 |
ExifImageWidth | 1050 |
Exposure | +0.05 |
ExposureCompensation | 0 |
ExposureMode | Auto |
ExposureProgram | Program AE |
ExposureTime | 1/400 |
FillLight | 0 |
Firmware | 1.0.6 |
Flash | Off, Did not fire |
FlashCompensation | 0 |
FlashFired | False |
FlashFunction | False |
FlashMode | Off |
FlashRedEyeMode | False |
FlashReturn | No return detection |
FNumber | 5.0 |
FocalLength | 300.0 mm |
FocalLength35efl | 300.0 mm (35 mm equivalent: 480.4 mm) |
Format | image/jpeg |
FOV | 4.3 deg |
GreenHue | 0 |
GreenSaturation | 0 |
HasCrop | False |
HasSettings | True |
HighlightRecovery | 40 |
HueAdjustmentAqua | 0 |
HueAdjustmentBlue | 0 |
HueAdjustmentGreen | 0 |
HueAdjustmentMagenta | 0 |
HueAdjustmentOrange | 0 |
HueAdjustmentPurple | 0 |
HueAdjustmentRed | 0 |
HueAdjustmentYellow | 0 |
HyperfocalDistance | 959.42 m |
ICCProfileName | sRGB IEC61966-2.1 |
ImageHeight | 700 |
ImageNumber | 224 |
ImageSize | 1050x700 |
ImageWidth | 1050 |
ISO | 320 |
Lens | EF300mm f/4L IS USM |
LensInfo | 300mm f/? |
LightValue | 11.6 |
LuminanceAdjustmentAqua | 0 |
LuminanceAdjustmentBlue | 0 |
LuminanceAdjustmentGreen | 0 |
LuminanceAdjustmentMagenta | 0 |
LuminanceAdjustmentOrange | 0 |
LuminanceAdjustmentPurple | 0 |
LuminanceAdjustmentRed | 0 |
LuminanceAdjustmentYellow | 0 |
LuminanceSmoothing | 0 |
Make | Canon |
MaxApertureValue | 4.0 |
Megapixels | 0.735 |
MeteringMode | Multi-segment |
Model | Canon EOS 30D |
ModifyDate (1) | 2008:07:02 00:00:54+02:00 |
ModifyDate | 2008:07:02 00:00:54 |
Orientation | Horizontal (normal) |
OwnerName | unknown |
ParametricDarks | 0 |
ParametricHighlights | 0 |
ParametricHighlightSplit | 75 |
ParametricLights | 0 |
ParametricMidtoneSplit | 50 |
ParametricShadows | 0 |
ParametricShadowSplit | 25 |
ProfileDescription | sRGB IEC61966-2.1 |
Rating | 0 |
RawFileName | IMG_2990.CR2 |
RedHue | 0 |
RedSaturation | 0 |
Saturation | 0 |
SaturationAdjustmentAqua | 0 |
SaturationAdjustmentBlue | 0 |
SaturationAdjustmentGreen | 0 |
SaturationAdjustmentMagenta | 0 |
SaturationAdjustmentOrange | 0 |
SaturationAdjustmentPurple | 0 |
SaturationAdjustmentRed | 0 |
SaturationAdjustmentYellow | 0 |
ScaleFactor35efl | 1.6 |
SceneCaptureType | Standard |
SerialNumber | 930610347 |
Shadows | 43 |
ShadowTint | 0 |
Sharpness | 25 |
ShutterSpeed | 1/400 |
ShutterSpeedValue | 1/400 |
SidecarForExtension | CR2 |
Software | Adobe Photoshop CS3 Macintosh |
SplitToningBalance | 0 |
SplitToningHighlightHue | 0 |
SplitToningHighlightSaturation | 0 |
SplitToningShadowHue | 0 |
SplitToningShadowSaturation | 0 |
TimeZoneOffset | 2 2 |
Tint | -10 |
ToneCurve | 0, 0, 32, 22, 64, 56, 128, 128, 192, 196, 255, 255 |
ToneCurveName | Medium Contrast |
URL_List | |
Version | 4.0 |
Vibrance | 0 |
VignetteAmount | 0 |
WhiteBalance (2) | As Shot |
WhiteBalance | Auto |