Felt | Verdi |
AlreadyApplied | True |
Aperture | 3.5 |
ApertureValue | 3.5 |
Artist | Meek, Tore |
AuthorsPosition | STR |
BitsPerSample | 8 |
BlueHue | 0 |
BlueSaturation | 0 |
Brightness | +50 |
By-line | Meek, Tore |
By-lineTitle | STR |
CameraProfile | ACR 3.3 |
Caption-Abstract | MYKLAND, AUST-AGDER 20080612:Mannskaper fra Heimevernet tok seg ut i skogen et par kilometer utenfor Mykland sentrum i Froland kommune torsdag, for å bistå i slukkingsarbeidet under skogbrannen som i flere dager har herjet i området. Heimevernssoldater legger ut slanger. I bakgrunnen et helikopter med vanntank.Foto: Tore Meek / SCANPIX |
CaptionWriter | PK |
Category | INN |
ChromaticAberrationB | 0 |
ChromaticAberrationR | 0 |
CircleOfConfusion | 0.030 mm |
City | MYKLAND |
ColorComponents | 3 |
ColorMode | RGB |
ColorNoiseReduction | 25 |
ColorSpace | sRGB |
ColorTemperature | 5500 |
Contrast | +25 |
ConvertToGrayscale | False |
CopyrightFlag | False |
Country | NORGE / NORWAY |
Country-PrimaryLocationName | NORGE / NORWAY |
CreateDate (1) | 2008:07:06 17:36:52+02:00 |
CreateDate | 2008:06:12 15:09:30 |
Creator | Meek, Tore |
CreatorTool | Adobe Photoshop CS2 Macintosh |
Credit | SCANPIX |
CustomRendered | Normal |
DateCreated | 2008-06- |
DateTimeDigitized | 2008:06:12 15:09:30+02:00 |
DateTimeOriginal (1) | 2008:06:12 15:09:30+02:00 |
DateTimeOriginal | 2008:06:12 15:09:30 |
Description | MYKLAND, AUST-AGDER 20080612:Mannskaper fra Heimevernet tok seg ut i skogen et par kilometer utenfor Mykland sentrum i Froland kommune torsdag, for  bist i slukkingsarbeidet under skogbrannen som i flere dager har herjet i omrÂdet. Heimevernssoldater legger ut slanger. I bakgrunnen et helikopter med vanntank.Foto: Tore Meek / SCANPIX |
ExifImageHeight | 591 |
ExifImageWidth | 1000 |
Exposure | -1.05 |
ExposureCompensation | +1/3 |
ExposureMode | Auto |
ExposureProgram | Aperture-priority AE |
ExposureTime | 1/2000 |
FillLight | 0 |
Firmware | 1.1.0 |
Flash | Off, Did not fire |
FlashCompensation | 0 |
FlashFired | False |
FlashFunction | False |
FlashMode | Off |
FlashRedEyeMode | False |
FlashReturn | No return detection |
FNumber | 3.5 |
FocalLength | 32.0 mm |
FocalLength35efl | 32.0 mm (35 mm equivalent: 32.1 mm) |
Format | image/jpeg |
FOV | 58.6 deg |
GreenHue | 0 |
GreenSaturation | 0 |
HasCrop | False |
HasSettings | True |
Headline | BRANN |
HighlightRecovery | 47 |
HueAdjustmentAqua | 0 |
HueAdjustmentBlue | 0 |
HueAdjustmentGreen | 0 |
HueAdjustmentMagenta | 0 |
HueAdjustmentOrange | 0 |
HueAdjustmentPurple | 0 |
HueAdjustmentRed | 0 |
HueAdjustmentYellow | 0 |
HyperfocalDistance | 9.76 m |
ICCProfileName | sRGB IEC61966-2.1 |
ImageDescription | MYKLAND, AUST-AGDER 20080612:Mannskaper fra Heimevernet tok seg ut i skogen et par kilometer utenfor Mykland sentrum i Froland kommune torsdag, for  bist i slukkingsarbeidet under skogbrannen som i flere dager har herjet i omrÂdet. Heimevernssoldater legger ut slanger. I bakgrunnen et helikopter med vanntank.Foto: Tore Meek / SCANPIX |
ImageHeight | 591 |
ImageNumber | 11 |
ImageSize | 1000x591 |
ImageWidth | 1000 |
ISO | 200 |
Lens | EF24-70mm f/2.8L USM |
LensInfo | 24-70mm f/? |
LightValue | 13.6 |
LuminanceAdjustmentAqua | 0 |
LuminanceAdjustmentBlue | 0 |
LuminanceAdjustmentGreen | 0 |
LuminanceAdjustmentMagenta | 0 |
LuminanceAdjustmentOrange | 0 |
LuminanceAdjustmentPurple | 0 |
LuminanceAdjustmentRed | 0 |
LuminanceAdjustmentYellow | 0 |
LuminanceSmoothing | 0 |
Make | Canon |
MaxApertureValue | 2.8 |
Megapixels | 0.591 |
MeteringMode | Multi-segment |
Model | Canon EOS 5D |
ModifyDate (1) | 2008:07:06 17:36:52+02:00 |
ModifyDate | 2008:07:06 17:36:52 |
ObjectName | SKOGBRANN |
Orientation | Horizontal (normal) |
ParametricDarks | +57 |
ParametricHighlights | 0 |
ParametricHighlightSplit | 75 |
ParametricLights | 0 |
ParametricMidtoneSplit | 50 |
ParametricShadows | -8 |
ParametricShadowSplit | 25 |
ProfileDescription | sRGB IEC61966-2.1 |
Province-State | |
Rating | 0 |
RawFileName | IMG_4410.CR2 |
RedHue | 0 |
RedSaturation | 0 |
Saturation | 0 |
SaturationAdjustmentAqua | 0 |
SaturationAdjustmentBlue | 0 |
SaturationAdjustmentGreen | 0 |
SaturationAdjustmentMagenta | 0 |
SaturationAdjustmentOrange | 0 |
SaturationAdjustmentPurple | 0 |
SaturationAdjustmentRed | 0 |
SaturationAdjustmentYellow | 0 |
ScaleFactor35efl | 1.0 |
SceneCaptureType | Standard |
SerialNumber | 1931202265 |
Shadows | 10 |
ShadowTint | 0 |
Sharpness | 25 |
ShutterSpeed | 1/2000 |
ShutterSpeedValue | 1/2000 |
SidecarForExtension | CR2 |
Software | Adobe Photoshop CS2 Macintosh |
Source | SCANPIX |
SplitToningBalance | 0 |
SplitToningHighlightHue | 0 |
SplitToningHighlightSaturation | 0 |
SplitToningShadowHue | 0 |
SplitToningShadowSaturation | 0 |
State | |
SupplementalCategories | BILDER |
TimeZoneOffset | 2 2 |
Tint | +8 |
Title | SKOGBRANN |
ToneCurve | 0, 0, 32, 22, 64, 56, 128, 128, 192, 196, 255, 255 |
ToneCurveName | Medium Contrast |
URL_List | |
Version | 4.0 |
Vibrance | 0 |
VignetteAmount | 0 |
WhiteBalance (2) | As Shot |
WhiteBalance | Auto |
Writer-Editor | PK |