Felt | Verdi |
AlreadyApplied | True |
Aperture | 9.9 |
ApertureValue | 9.9 |
BitsPerSample | 8 |
BlackClip | 0.000000 |
BlueHue | 0 |
BlueSaturation | 0 |
Brightness | 0 |
By-line | Jan Erik Arud |
CameraProfile | Embedded |
ChromaticAberrationB | 0 |
ChromaticAberrationR | -40 |
Clarity | 0 |
ColorComponents | 3 |
ColorNoiseReduction | 12 |
ColorSaturation | 68 |
ColorTemperature | 0 |
Contrast | +25 |
ConvertToGrayscale | False |
Copyright | Jan Erik Arud |
CopyrightFlag | True |
CopyrightNotice | Jan Erik Arud |
CreateDate | 2008:10:09 06:46:52+02:00 |
Creator | Jan Erik Arud |
CreatorTool | Adobe Photoshop Lightroom |
CreatorWorkEmail | arud@bluezone.no |
CreatorWorkURL | http://www.flickr.com/photos/jarud/ |
CropAngle | 0.271593 |
CropBottom | 1 |
CropHeight | 852 |
CropLeft | 0.005103 |
CropRight | 0.994897 |
CropTop | 0 |
CropUnit | pixels |
CropWidth | 1280 |
DateTimeOriginal (1) | 2008:10:09 06:46:52+02:00 |
DateTimeOriginal | 2008:10:09 06:46:52 |
Defringe | 2 |
ExifImageHeight | 852 |
ExifImageWidth | 1280 |
Exposure | -1.43 |
ExposureTime | 1/20 |
FillLight | 0 |
FNumber | 9.9 |
FocalLength | 17.0 mm |
FocalLength35efl | 17.0 mm |
Gamma | 1.000000 |
GreenHue | 0 |
GreenSaturation | 0 |
HasCrop | True |
HasSettings | True |
HighlightRecovery | 51 |
HighlightsSmoothing | 0 |
HueAdjustmentAqua | 0 |
HueAdjustmentBlue | 0 |
HueAdjustmentGreen | 0 |
HueAdjustmentMagenta | 0 |
HueAdjustmentOrange | 0 |
HueAdjustmentPurple | 0 |
HueAdjustmentRed | 0 |
HueAdjustmentYellow | 0 |
ImageHeight | 852 |
ImageSize | 1280x852 |
ImageWidth | 1280 |
IncrementalTemperature | 0 |
IncrementalTint | 0 |
ISO | 100 |
Keywords | norway |
LightValue | 10.9 |
LuminanceAdjustmentAqua | 0 |
LuminanceAdjustmentBlue | 0 |
LuminanceAdjustmentGreen | 0 |
LuminanceAdjustmentMagenta | 0 |
LuminanceAdjustmentOrange | 0 |
LuminanceAdjustmentPurple | 0 |
LuminanceAdjustmentRed | 0 |
LuminanceAdjustmentYellow | 0 |
LuminanceSmoothing | 12 |
Luminosity | -3 |
Marked | True |
Megapixels | 1.1 |
Method | Details Enhancer |
Microcontrast | 0 |
Microsmoothing | 2 |
Model | Canon EOS-1D Mark III |
ModifyDate (1) | 2008:10:09 19:33:52+02:00 |
ModifyDate | 2008:10:09 19:33:52 |
ParametricDarks | 0 |
ParametricHighlights | 0 |
ParametricHighlightSplit | 75 |
ParametricLights | 0 |
ParametricMidtoneSplit | 50 |
ParametricShadows | 0 |
ParametricShadowSplit | 25 |
PostCropVignetteAmount | 0 |
ProfileDescription | sRGB IEC61966-2.1 |
Rating | 1 |
RedHue | 0 |
RedSaturation | 0 |
Rights | Jan Erik Arud |
Saturation | 0 |
SaturationAdjustmentAqua | 0 |
SaturationAdjustmentBlue | 0 |
SaturationAdjustmentGreen | 0 |
SaturationAdjustmentMagenta | 0 |
SaturationAdjustmentOrange | 0 |
SaturationAdjustmentPurple | 0 |
SaturationAdjustmentRed | 0 |
SaturationAdjustmentYellow | 0 |
SaturationHighlights | 0 |
SaturationShadows | 0 |
Shadows | 8 |
ShadowsClipping | 0 |
ShadowsSmoothing | 0 |
ShadowTint | 0 |
SharpenDetail | 73 |
SharpenEdgeMasking | 0 |
SharpenRadius | +1.0 |
Sharpness | 36 |
ShutterSpeed | 1/20 |
ShutterSpeedValue | 1/20 |
Smoothing | Very High |
SplitToningBalance | 0 |
SplitToningHighlightHue | 0 |
SplitToningHighlightSaturation | 0 |
SplitToningShadowHue | 0 |
SplitToningShadowSaturation | 0 |
Strength | 40 |
Subject | norway |
ToneCurve | 0, 0, 255, 255 |
ToneCurveName | Linear |
Version (1) | 2.5 |
Version | 4.6 |
Vibrance | +2 |
VignetteAmount | +21 |
VignetteMidpoint | 62 |
WhiteBalance | As Shot |
WhiteClip | 0.249450 |