Felt | Verdi |
AlreadyApplied | True |
Aperture | 4.0 |
ApertureValue | 4.0 |
Artist | Kristian |
BitsPerSample | 8 |
BlueHue | 0 |
BlueSaturation | 0 |
Brightness | 0 |
By-line | Kristian |
CameraProfile | ACR 4.4 |
ChromaticAberrationB | 0 |
ChromaticAberrationR | 0 |
CircleOfConfusion | 0.019 mm |
Clarity | -60 |
ColorComponents | 3 |
ColorNoiseReduction | 0 |
Contrast | +48 |
ConvertToGrayscale | True |
Copyright | (C) K Korsvik |
CopyrightFlag | True |
CopyrightNotice | © K Korsvik |
CreateDate (1) | 2009:01:13 20:47:55.00+01:00 |
CreateDate | 2009:01:13 20:47:55 |
Creator | Kristian |
CreatorTool | Adobe Photoshop Lightroom |
CustomRendered | Normal |
DateTimeDigitized | 2009:01:13 20:47:55.00+01:00 |
DateTimeOriginal (1) | 2009:01:13 20:47:55.00+01:00 |
DateTimeOriginal | 2009:01:13 20:47:55 |
Defringe | 0 |
ExifImageHeight | 827 |
ExifImageWidth | 1240 |
Exposure | 0.00 |
ExposureCompensation | 0 |
ExposureMode | Auto |
ExposureProgram | Shutter speed priority AE |
ExposureTime | 1/100 |
FillLight | 27 |
Firmware | 1.0.8 |
Flash | On, Fired |
FlashCompensation | 0 |
FlashFired | True |
FlashFunction | False |
FlashMode | On |
FlashRedEyeMode | False |
FlashReturn | No return detection |
FNumber | 4.0 |
FocalLength | 73.0 mm |
FocalLength35efl | 73.0 mm (35 mm equivalent: 118.2 mm) |
FOV | 17.3 deg |
GradientBasedCorrActive | true |
GradientBasedCorrAmount | 1.000000 |
GradientBasedCorrBrightness | 0.000000 |
GradientBasedCorrClarity | 0.000000 |
GradientBasedCorrContrast (1) | 0.450000 |
GradientBasedCorrContrast (2) | 0.650000 |
GradientBasedCorrContrast | 0.000000 |
GradientBasedCorrExposure (1) | -0.075000 |
GradientBasedCorrExposure (2) | -0.200000 |
GradientBasedCorrExposure | 0.000000 |
GradientBasedCorrHue (1) | 46.000000 |
GradientBasedCorrHue (2) | 55.000000 |
GradientBasedCorrHue | 201.000000 |
GradientBasedCorrMaskFullX (1) | 0.955936 |
GradientBasedCorrMaskFullX (2) | 0.000000 |
GradientBasedCorrMaskFullX | 1.005160 |
GradientBasedCorrMaskFullY (1) | 0.049724 |
GradientBasedCorrMaskFullY (2) | 0.062615 |
GradientBasedCorrMaskFullY | 0.176796 |
GradientBasedCorrMaskValue | 1.000000 |
GradientBasedCorrMaskWhat | Mask/Gradient |
GradientBasedCorrMaskZeroX (1) | 0.339045 |
GradientBasedCorrMaskZeroX (2) | 0.542228 |
GradientBasedCorrMaskZeroX | -0.577320 |
GradientBasedCorrMaskZeroY (1) | 0.488029 |
GradientBasedCorrMaskZeroY (2) | 0.375691 |
GradientBasedCorrMaskZeroY | 0.534070 |
GradientBasedCorrSaturation (2) | 0.020000 |
GradientBasedCorrSaturation (4) | 0.010000 |
GradientBasedCorrSaturation (5) | 0.000000 |
GradientBasedCorrSaturation | 0.035000 |
GradientBasedCorrSharpness | 0.000000 |
GradientBasedCorrWhat | Correction |
GrayMixerAqua | -19 |
GrayMixerBlue | +6 |
GrayMixerGreen | -23 |
GrayMixerMagenta | +4 |
GrayMixerOrange | -15 |
GrayMixerPurple | +12 |
GrayMixerRed | -7 |
GrayMixerYellow | -18 |
GreenHue | 0 |
GreenSaturation | 0 |
HasCrop | False |
HasSettings | True |
HighlightRecovery | 0 |
HyperfocalDistance | 71.78 m |
ImageHeight | 827 |
ImageNumber | 0 |
ImageSize | 1240x827 |
ImageWidth | 1240 |
IncrementalTemperature | +24 |
IncrementalTint | -28 |
ISO | 400 |
Keywords | Personer, William |
Lens | EF24-105mm f/4L IS USM |
LensInfo | 24-105mm f/? |
LightValue | 8.6 |
LuminanceSmoothing | 0 |
Make | Canon |
Marked | True |
MaxApertureValue | 4.0 |
Megapixels | 1.0 |
MeteringMode | Center-weighted average |
Model | Canon EOS 40D |
ModifyDate (1) | 2009:01:30 20:58:48+01:00 |
ModifyDate | 2009:01:30 20:58:48 |
OwnerName | Kristian |
ParametricDarks | -7 |
ParametricHighlights | 0 |
ParametricHighlightSplit | 75 |
ParametricLights | +17 |
ParametricMidtoneSplit | 50 |
ParametricShadows | -52 |
ParametricShadowSplit | 25 |
PostCropVignetteAmount | 0 |
ProfileDescription | sRGB IEC61966-2.1 |
Rating | 5 |
RedHue | 0 |
RedSaturation | 0 |
Rights | © K Korsvik |
ScaleFactor35efl | 1.6 |
SceneCaptureType | Standard |
SerialNumber | 430114965 |
Shadows | 4 |
ShadowTint | 0 |
SharpenDetail | 20 |
SharpenEdgeMasking | 70 |
SharpenRadius | +1.2 |
Sharpness | 35 |
ShutterSpeed | 1/100 |
ShutterSpeedValue | 1/100 |
SplitToningBalance | 0 |
SplitToningHighlightHue | 57 |
SplitToningHighlightSaturation | 20 |
SplitToningShadowHue | 215 |
SplitToningShadowSaturation | 12 |
Subject | Personer, William |
ToneCurve | 0, 0, 255, 255 |
ToneCurveName | Linear |
Version | 5.2 |
VignetteAmount | -71 |
VignetteMidpoint | 32 |
WhiteBalance (2) | Custom |
WhiteBalance | Auto |