Felt | Verdi |
AlreadyApplied | True |
Aperture | 3.2 |
ApertureValue | 3.2 |
BitsPerSample | 8 |
BlueHue | 0 |
BlueSaturation | 0 |
Brightness | +6 |
BrightnessValue | 5 |
By-line | Herman Str¿m |
CameraProfile | Embedded |
Caption-Abstract | Exif_JPEG_PICTURE |
ChromaticAberrationB | 0 |
ChromaticAberrationR | 0 |
City | Pushkar |
Clarity | +54 |
ColorComponents | 1 |
ColorNoiseReduction | 0 |
Contrast | 0 |
ConvertToGrayscale | True |
Copyright | Herman Strom |
CopyrightNotice | Herman Str¿m |
Country | India |
Country-PrimaryLocationName | India |
CreateDate (1) | 2007:11:25 13:16:54+06:00 |
CreateDate | 2007:11:25 13:16:54 |
Creator | Herman Strøm |
CreatorAddress | Håkonsgate 22 |
CreatorCity | Oslo |
CreatorCountry | Norway |
CreatorPostalCode | 0652 |
CreatorTool | Adobe Photoshop Lightroom |
CreatorWorkEmail | stromh@gmail.com |
CreatorWorkTelephone | +47 41687121 |
DateTimeDigitized | 2007:11:25 13:16:54+06:00 |
DateTimeOriginal (1) | 2007:11:25 13:16:54+06:00 |
DateTimeOriginal | 2007:11:25 13:16:54 |
Defringe | 0 |
Description | Exif_JPEG_PICTURE |
ExifImageHeight | 960 |
ExifImageWidth | 1280 |
Exposure | +0.22 |
ExposureCompensation | -0.3 |
ExposureMode | Auto |
ExposureProgram | Program AE |
ExposureTime | 1/125 |
FillLight | 22 |
Flash | Off, Did not fire |
FlashFired | False |
FlashFunction | False |
FlashMode | Off |
FlashRedEyeMode | False |
FlashReturn | No return detection |
FNumber | 3.2 |
FocalLength | 5.1 mm |
FocalLength35efl | 5.1 mm |
GrayMixerAqua | -18 |
GrayMixerBlue | +9 |
GrayMixerGreen | -27 |
GrayMixerMagenta | +4 |
GrayMixerOrange | -19 |
GrayMixerPurple | +15 |
GrayMixerRed | -10 |
GrayMixerYellow | -23 |
GreenHue | 0 |
GreenSaturation | 0 |
HasCrop | False |
HasSettings | True |
HighlightRecovery | 11 |
ImageDescription | Exif_JPEG_PICTURE |
ImageHeight | 960 |
ImageSize | 1280x960 |
ImageWidth | 1280 |
IncrementalTemperature | 0 |
IncrementalTint | 0 |
ISO | 80 |
LightSource | Unknown |
LightValue | 10.6 |
LuminanceSmoothing | 0 |
Make | RICOH |
MaxApertureValue | 2.4 |
Megapixels | 1.2 |
MeteringMode | Multi-segment |
Model | Caplio GX100 |
ModifyDate (1) | 2009:04:22 21:14:50+02:00 |
ModifyDate | 2009:04:22 21:14:50 |
ParametricDarks | -29 |
ParametricHighlights | 0 |
ParametricHighlightSplit | 75 |
ParametricLights | +33 |
ParametricMidtoneSplit | 50 |
ParametricShadows | 0 |
ParametricShadowSplit | 25 |
PostCropVignetteAmount | 0 |
ProfileDescription | sRGB IEC61966-2.1 |
Province-State | Rajasthan |
RedHue | 0 |
RedSaturation | 0 |
Rights | Herman Strøm |
SceneCaptureType | Standard |
Shadows | 6 |
ShadowTint | 0 |
SharpenDetail | 100 |
SharpenEdgeMasking | 0 |
SharpenRadius | +1.0 |
Sharpness (2) | 98 |
Sharpness | Normal |
ShutterSpeed | 1/125 |
ShutterSpeedValue | 1/125 |
SplitToningBalance | 0 |
SplitToningHighlightHue | 0 |
SplitToningHighlightSaturation | 0 |
SplitToningShadowHue | 0 |
SplitToningShadowSaturation | 0 |
State | Rajasthan |
ToneCurve | 0, 0, 255, 255 |
ToneCurveName | Linear |
Version | 5.3 |
VignetteAmount | 0 |
WhiteBalance (2) | As Shot |
WhiteBalance | Auto |