Felt | Verdi |
AlreadyApplied | True |
Aperture | 6.7 |
ApertureValue | 6.7 |
BitsPerSample | 8 |
BlueHue | 0 |
BlueSaturation | 0 |
Brightness | -4 |
By-line | Reidar Løvaas |
CameraProfile | Embedded |
ChromaticAberrationB | 0 |
ChromaticAberrationR | 0 |
CircleOfConfusion | 0.019 mm |
Clarity | 0 |
ColorComponents | 3 |
ColorNoiseReduction | 0 |
Contrast | 0 |
ConvertToGrayscale | False |
Copyright | Reidar Lovaas |
CopyrightFlag | True |
CopyrightNotice | Reidar Løvaas |
CreateDate (1) | 2009:05:21 14:12:35.86+02:00 |
CreateDate | 2009:05:21 14:12:35 |
Creator | Reidar Løvaas |
CreatorCity | Bergen |
CreatorRegion | Norway |
CreatorTool | Adobe Photoshop Lightroom |
Creatortool | Microsoft Windows Live Photo Gallery14.0.8064.206 |
CustomRendered | Normal |
DateTimeDigitized | 2009:05:21 14:12:35.86+02:00 |
DateTimeOriginal (1) | 2009:05:21 14:12:35.86+02:00 |
DateTimeOriginal | 2009:05:21 14:12:35 |
Defringe | 0 |
ExifImageHeight | 4272 |
ExifImageWidth | 2848 |
Exposure | +0.29 |
ExposureCompensation | 0 |
ExposureMode | Auto |
ExposureProgram | Program AE |
ExposureTime | 1/90 |
FillLight | 26 |
Flash | Off, Did not fire |
FlashFired | False |
FlashFunction | False |
FlashMode | Off |
FlashRedEyeMode | False |
FlashReturn | No return detection |
FNumber | 6.7 |
FocalLength | 55.0 mm |
FocalLength35efl | 55.0 mm (35 mm equivalent: 88.8 mm) |
FOV | 22.9 deg |
GreenHue | 0 |
GreenSaturation | 0 |
HasCrop | False |
HasSettings | True |
HighlightRecovery | 67 |
HueAdjustmentAqua | 0 |
HueAdjustmentBlue | 0 |
HueAdjustmentGreen | 0 |
HueAdjustmentMagenta | 0 |
HueAdjustmentOrange | 0 |
HueAdjustmentPurple | 0 |
HueAdjustmentRed | 0 |
HueAdjustmentYellow | 0 |
HyperfocalDistance | 24.27 m |
ImageHeight | 4272 |
ImageSize | 2848x4272 |
ImageWidth | 2848 |
IncrementalTemperature | 0 |
IncrementalTint | -5 |
ISO | 200 |
LightValue | 11.0 |
LuminanceAdjustmentAqua | 0 |
LuminanceAdjustmentBlue | 0 |
LuminanceAdjustmentGreen | 0 |
LuminanceAdjustmentMagenta | 0 |
LuminanceAdjustmentOrange | 0 |
LuminanceAdjustmentPurple | 0 |
LuminanceAdjustmentRed | 0 |
LuminanceAdjustmentYellow | 0 |
LuminanceSmoothing | 0 |
Make | Canon |
Marked | True |
Megapixels | 12.2 |
MeteringMode | Multi-segment |
Model | Canon EOS 450D |
ModifyDate (1) | 2009:05:23 16:25:21+02:00 |
ModifyDate | 2009:05:23 16:25:21 |
ParametricDarks | 0 |
ParametricHighlights | 0 |
ParametricHighlightSplit | 75 |
ParametricLights | 0 |
ParametricMidtoneSplit | 50 |
ParametricShadows | 0 |
ParametricShadowSplit | 25 |
PostCropVignetteAmount | 0 |
ProfileDescription | sRGB IEC61966-2.1 |
RedHue | 0 |
RedSaturation | 0 |
Rights | Reidar Løvaas |
Saturation | +5 |
SaturationAdjustmentAqua | 0 |
SaturationAdjustmentBlue | 0 |
SaturationAdjustmentGreen | 0 |
SaturationAdjustmentMagenta | 0 |
SaturationAdjustmentOrange | 0 |
SaturationAdjustmentPurple | 0 |
SaturationAdjustmentRed | 0 |
SaturationAdjustmentYellow | 0 |
ScaleFactor35efl | 1.6 |
SceneCaptureType | Standard |
Shadows | 10 |
ShadowTint | 0 |
SharpenDetail | 52 |
SharpenEdgeMasking | 54 |
SharpenRadius | +2.1 |
Sharpness | 89 |
ShutterSpeed | 1/90 |
ShutterSpeedValue | 1/90 |
Software | Microsoft Windows Live Photo Gallery14.0.8064.206 |
SplitToningBalance | 0 |
SplitToningHighlightHue | 0 |
SplitToningHighlightSaturation | 0 |
SplitToningShadowHue | 0 |
SplitToningShadowSaturation | 0 |
ToneCurve | 0, 0, 255, 255 |
ToneCurveName | Linear |
Version | 5.3 |
Vibrance | 0 |
VignetteAmount | 0 |
WhiteBalance (2) | Custom |
WhiteBalance | Auto |