Felt | Verdi |
AlreadyApplied | True |
Aperture | 11.0 |
ApertureValue | 11.0 |
BitsPerSample | 8 |
BlueHue | 0 |
BlueSaturation | 0 |
Brightness | +50 |
CameraProfile | Adobe Standard |
CFAPattern | [Red,Green][Green,Blue] |
ChromaticAberrationB | 0 |
ChromaticAberrationR | 0 |
CircleOfConfusion | 0.030 mm |
Clarity | +67 |
ColorComponents | 1 |
ColorNoiseReduction | 25 |
ColorTemperature | 4650 |
Contrast (2) | +25 |
Contrast | Normal |
ConvertToGrayscale | True |
CreateDate (1) | 2009:04:05 10:26:18.25+02:00 |
CreateDate | 2009:04:05 10:26:18 |
CreatorTool | Adobe Photoshop Lightroom |
CropAngle | -0.108046 |
CropBottom | 0.883503 |
CropHeight | 618 |
CropLeft | 0.002844 |
CropRight | 0.95089 |
CropTop | 0.027032 |
CropUnit | pixels |
CropWidth | 1024 |
CustomRendered | Normal |
DateTimeDigitized | 2009:04:05 10:26:18.25+02:00 |
DateTimeOriginal (1) | 2009:04:05 10:26:18.25+02:00 |
DateTimeOriginal | 2009:04:05 10:26:18 |
Defringe | 0 |
DigitalZoomRatio | 1 |
ExifImageHeight | 618 |
ExifImageWidth | 1024 |
Exposure | +0.38 |
ExposureCompensation | +1/3 |
ExposureMode | Auto |
ExposureProgram | Aperture-priority AE |
ExposureTime | 1/250 |
FillLight | 0 |
Flash | No Flash |
FlashFired | False |
FlashFunction | False |
FlashMode | Unknown |
FlashRedEyeMode | False |
FlashReturn | No return detection |
FNumber | 11.0 |
FocalLength | 50.0 mm |
FocalLength35efl | 50.0 mm (35 mm equivalent: 50.0 mm) |
FocalLengthIn35mmFormat | 50 mm |
FOV | 39.6 deg |
GainControl | Low gain up |
GradientBasedCorrActive | true |
GradientBasedCorrAmount | 1.000000 |
GradientBasedCorrBrightness | 0.000000 |
GradientBasedCorrClarity | 0.400000 |
GradientBasedCorrContrast | -1.000000 |
GradientBasedCorrExposure | -0.500000 |
GradientBasedCorrHue | 0.000000 |
GradientBasedCorrMaskFullX | 0.412124 |
GradientBasedCorrMaskFullY | 0.106658 |
GradientBasedCorrMaskValue | 1.000000 |
GradientBasedCorrMaskWhat | Mask/Gradient |
GradientBasedCorrMaskZeroX | 0.413650 |
GradientBasedCorrMaskZeroY | 0.602318 |
GradientBasedCorrSaturation | 0.000000 |
GradientBasedCorrSharpness | 0.000000 |
GradientBasedCorrWhat | Correction |
GrayMixerAqua | -14 |
GrayMixerBlue | +20 |
GrayMixerGreen | -30 |
GrayMixerMagenta | +5 |
GrayMixerOrange | -71 |
GrayMixerPurple | +23 |
GrayMixerRed | -13 |
GrayMixerYellow | -88 |
GreenHue | 0 |
GreenSaturation | 0 |
HasCrop | True |
HasSettings | True |
HighlightRecovery | 0 |
HyperfocalDistance | 7.56 m |
ImageHeight | 618 |
ImageNumber | 3603 |
ImageSize | 1024x618 |
ImageWidth | 1024 |
ISO | 560 |
Keywords | tur til hornborgasjøen |
Label | Red |
Lens | 50.0 mm f/1.4 |
LensInfo | 50mm f/1.4 |
LightSource | Unknown |
LightValue | 12.4 |
LuminanceSmoothing | 0 |
Make | NIKON CORPORATION |
MaxApertureValue | 1.4 |
Megapixels | 0.633 |
MeteringMode | Multi-segment |
Model | NIKON D700 |
ModifyDate (1) | 2009:05:23 22:45:53+02:00 |
ModifyDate | 2009:05:23 22:45:53 |
ParametricDarks | -81 |
ParametricHighlights | +36 |
ParametricHighlightSplit | 75 |
ParametricLights | -43 |
ParametricMidtoneSplit | 50 |
ParametricShadows | 0 |
ParametricShadowSplit | 25 |
PostCropVignetteAmount | 0 |
ProfileDescription | sRGB IEC61966-2.1 |
RedHue | 0 |
RedSaturation | 0 |
Saturation | Normal |
ScaleFactor35efl | 1.0 |
SceneCaptureType | Standard |
SceneType | Directly photographed |
SensingMethod | One-chip color area |
SerialNumber | 2005283 |
Shadows | 5 |
ShadowTint | 0 |
SharpenDetail | 25 |
SharpenEdgeMasking | 0 |
SharpenRadius | +1.0 |
Sharpness (2) | 73 |
Sharpness | Normal |
ShutterSpeed | 1/250 |
ShutterSpeedValue | 1/250 |
Software | Ver.1.00 |
SplitToningBalance | 0 |
SplitToningHighlightHue | 0 |
SplitToningHighlightSaturation | 0 |
SplitToningShadowHue | 0 |
SplitToningShadowSaturation | 0 |
Subject | tur til hornborgasjøen |
SubjectDistanceRange | Unknown |
Tint | -2 |
ToneCurve | 0, 0, 32, 22, 64, 56, 128, 128, 192, 196, 255, 255 |
ToneCurveName | Medium Contrast |
Version | 5.3 |
VignetteAmount | 0 |
WhiteBalance (2) | As Shot |
WhiteBalance | Auto |