Felt | Verdi |
AlreadyApplied | True |
Aperture | 10.0 |
ApertureValue | 10.0 |
Artist | wenche@roro.no |
BitsPerSample | 8 |
BlueHue | 0 |
BlueSaturation | 0 |
Brightness | +44 |
By-line | wenche@roro.no |
CameraProfile | Adobe Standard |
Caption-Abstract | Test pŒ rŒfil |
CFAPattern | [Red,Green][Green,Blue] |
ChromaticAberrationB | 0 |
ChromaticAberrationR | 0 |
CircleOfConfusion | 0.030 mm |
Clarity | +50 |
ColorComponents | 3 |
ColorMode | RGB |
ColorNoiseReduction | 25 |
ColorSpace | sRGB |
ColorTemperature | 5050 |
Contrast (2) | +25 |
Contrast | Normal |
ConvertToGrayscale | False |
Copyright | Venche Jensen |
CopyrightFlag | True |
CopyrightNotice | Venche Jensen |
CreateDate (1) | 2009:06:01 14:30:12.36+02:00 |
CreateDate | 2009:06:01 14:30:12 |
Creator | wenche@roro.no |
CreatorTool | Ver.2.01 |
CropAngle | -0.698694 |
CropBottom | 0.987857 |
CropLeft | 0.005665 |
CropRight | 0.675561 |
CropTop | 0.098238 |
CustomRendered | Normal |
DateTimeDigitized | 2009:06:01 14:30:12.36+02:00 |
DateTimeOriginal (1) | 2009:06:01 14:30:12.36+02:00 |
DateTimeOriginal | 2009:06:01 14:30:12 |
Defringe | 0 |
Description | Test på råfil |
DigitalZoomRatio | 1 |
ExifImageHeight | 894 |
ExifImageWidth | 930 |
Exposure | 0.00 |
ExposureCompensation | -1/3 |
ExposureMode | Auto |
ExposureProgram | Aperture-priority AE |
ExposureTime | 1/80 |
FillLight | 42 |
Flash | No Flash |
FlashFired | False |
FlashFunction | False |
FlashMode | Unknown |
FlashRedEyeMode | False |
FlashReturn | No return detection |
FNumber | 10.0 |
FocalLength | 70.0 mm |
FocalLength35efl | 70.0 mm (35 mm equivalent: 70.0 mm) |
FocalLengthIn35mmFormat | 70 mm |
Format | image/jpeg |
FOV | 28.8 deg |
GainControl | None |
GreenHue | 0 |
GreenSaturation | 0 |
HasCrop | True |
HasSettings | True |
HighlightRecovery | 62 |
HueAdjustmentAqua | 0 |
HueAdjustmentBlue | 0 |
HueAdjustmentGreen | 0 |
HueAdjustmentMagenta | 0 |
HueAdjustmentOrange | 0 |
HueAdjustmentPurple | 0 |
HueAdjustmentRed | 0 |
HueAdjustmentYellow | 0 |
HyperfocalDistance | 16.31 m |
ICCProfileName | sRGB IEC61966-2.1 |
ImageDescription | Test på råfil |
ImageHeight (1) | 2883 |
ImageHeight | 894 |
ImageNumber | 18209 |
ImageSize | 930x894 |
ImageWidth (1) | 4290 |
ImageWidth | 930 |
ISO | 200 |
Keywords | Tester D-Lux 4 |
Lens | 24.0-70.0 mm f/2.8 |
LensInfo | 24-70mm f/2.8 |
LightSource | Unknown |
LightValue | 12.0 |
LuminanceAdjustmentAqua | 0 |
LuminanceAdjustmentBlue | 0 |
LuminanceAdjustmentGreen | 0 |
LuminanceAdjustmentMagenta | 0 |
LuminanceAdjustmentOrange | 0 |
LuminanceAdjustmentPurple | 0 |
LuminanceAdjustmentRed | 0 |
LuminanceAdjustmentYellow | 0 |
LuminanceSmoothing | 0 |
Make | NIKON CORPORATION |
Marked | True |
MaxApertureValue | 2.8 |
Megapixels | 0.831 |
MeteringMode | Spot |
Model | NIKON D3 |
ModifyDate (1) | 2009:06:06 15:43:44+02:00 |
ModifyDate | 2009:06:06 15:43:44 |
Orientation | Horizontal (normal) |
ParametricDarks | 0 |
ParametricHighlights | -18 |
ParametricHighlightSplit | 75 |
ParametricLights | -12 |
ParametricMidtoneSplit | 50 |
ParametricShadows | 0 |
ParametricShadowSplit | 25 |
PostCropVignetteAmount | 0 |
ProfileDescription | sRGB IEC61966-2.1 |
Rating | 0 |
RawFileName | _VEJ8062.NEF |
RedHue | 0 |
RedSaturation | 0 |
Rights | Venche Jensen |
Saturation (2) | 0 |
Saturation | Normal |
SaturationAdjustmentAqua | 0 |
SaturationAdjustmentBlue | 0 |
SaturationAdjustmentGreen | 0 |
SaturationAdjustmentMagenta | 0 |
SaturationAdjustmentOrange | 0 |
SaturationAdjustmentPurple | 0 |
SaturationAdjustmentRed | 0 |
SaturationAdjustmentYellow | 0 |
ScaleFactor35efl | 1.0 |
SceneCaptureType | Standard |
SceneType | Directly photographed |
SensingMethod | One-chip color area |
SerialNumber | 2037256 |
Shadows | 5 |
ShadowTint | 0 |
SharpenDetail | 25 |
SharpenEdgeMasking | 0 |
SharpenRadius | +1.0 |
Sharpness (2) | 25 |
Sharpness | Normal |
ShutterSpeed | 1/80 |
ShutterSpeedValue | 1/80 |
Software | Adobe Photoshop CS4 Macintosh |
SplitToningBalance | 0 |
SplitToningHighlightHue | 0 |
SplitToningHighlightSaturation | 0 |
SplitToningShadowHue | 0 |
SplitToningShadowSaturation | 0 |
Subject | Tester D-Lux 4 |
SubjectDistanceRange | Unknown |
Tint | -5 |
ToneCurve | 0, 0, 32, 22, 64, 56, 128, 128, 192, 196, 255, 255 |
ToneCurveName | Medium Contrast |
URL | www.venche.no |
URL_List | |
Version | 5.3 |
Vibrance | 0 |
VignetteAmount | 0 |
WebStatement | www.venche.no |
WhiteBalance (2) | Custom |
WhiteBalance | Manual |