Felt | Verdi |
AlreadyApplied | True |
Aperture | 7.1 |
ApertureValue | 7.1 |
Artist | Photographer: Sverre Olesen |
BitsPerSample | 8 |
BlueHue | 0 |
BlueSaturation | 0 |
Brightness | +11 |
By-line | Sverre Olesen |
CameraProfile | Adobe Standard |
ChromaticAberrationB | 0 |
ChromaticAberrationR | 0 |
CircleOfConfusion | 0.019 mm |
Clarity | 0 |
ColorComponents | 3 |
ColorNoiseReduction | 25 |
ColorTemperature | 6500 |
Contrast | +50 |
ConvertToGrayscale | False |
Copyright | Sverre Olesen |
CopyrightFlag | True |
CopyrightNotice | Sverre Olesen |
CreateDate (1) | 2009:06:20 20:14:36.97+02:00 |
CreateDate | 2009:06:20 20:14:36 |
Creator | Sverre Olesen |
CreatorAddress | Åslia 23 |
CreatorCity | Askim |
CreatorCountry | Norway |
CreatorPostalCode | 1808 |
CreatorTool | Adobe Photoshop Lightroom |
CreatorWorkEmail | sverre.olesen@gmail.com |
CreatorWorkTelephone | +47 913 91 482 |
CreatorWorkURL | http://solesen.homeserver.com/ |
CustomRendered | Normal |
DateTimeDigitized | 2009:06:20 20:14:36.97+02:00 |
DateTimeOriginal (1) | 2009:06:20 20:14:36.97+02:00 |
DateTimeOriginal | 2009:06:20 20:14:36 |
Defringe | 0 |
ExifImageHeight | 1267 |
ExifImageWidth | 1901 |
Exposure | +0.57 |
ExposureCompensation | 0 |
ExposureMode | Auto |
ExposureProgram | Aperture-priority AE |
ExposureTime | 1/50 |
FillLight | 15 |
Firmware | 1.0.3 |
Flash | Off, Did not fire |
FlashCompensation | 0 |
FlashFired | False |
FlashFunction | False |
FlashMode | Off |
FlashRedEyeMode | False |
FlashReturn | No return detection |
FNumber | 7.1 |
FocalLength | 70.0 mm |
FocalLength35efl | 70.0 mm (35 mm equivalent: 110.9 mm) |
FOV | 18.4 deg |
GreenHue | 0 |
GreenSaturation | 0 |
HasCrop | False |
HasSettings | True |
HighlightRecovery | 31 |
HueAdjustmentAqua | 0 |
HueAdjustmentBlue | 0 |
HueAdjustmentGreen | 0 |
HueAdjustmentMagenta | 0 |
HueAdjustmentOrange | 0 |
HueAdjustmentPurple | 0 |
HueAdjustmentRed | 0 |
HueAdjustmentYellow | 0 |
HyperfocalDistance | 36.40 m |
ImageHeight | 1267 |
ImageNumber | 0 |
ImageSize | 1901x1267 |
ImageWidth | 1901 |
ISO | 200 |
Keywords | Duenes |
Lens | EF70-300mm f/4.5-5.6 DO IS USM |
LensInfo | 70-300mm f/? |
LightValue | 10.3 |
LuminanceAdjustmentAqua | 0 |
LuminanceAdjustmentBlue | 0 |
LuminanceAdjustmentGreen | 0 |
LuminanceAdjustmentMagenta | 0 |
LuminanceAdjustmentOrange | 0 |
LuminanceAdjustmentPurple | 0 |
LuminanceAdjustmentRed | 0 |
LuminanceAdjustmentYellow | 0 |
LuminanceSmoothing | 21 |
Make | Canon |
Marked | True |
MaxApertureValue | 4.6 |
Megapixels | 2.4 |
MeteringMode | Multi-segment |
Model | Canon EOS 50D |
ModifyDate (1) | 2009:07:20 19:25:38+02:00 |
ModifyDate | 2009:07:20 19:25:38 |
OwnerName | Sverre Olesen |
ParametricDarks | 0 |
ParametricHighlights | 0 |
ParametricHighlightSplit | 75 |
ParametricLights | 0 |
ParametricMidtoneSplit | 50 |
ParametricShadows | 0 |
ParametricShadowSplit | 25 |
PostCropVignetteAmount | 0 |
ProfileDescription | sRGB IEC61966-2.1 |
RedHue | 0 |
RedSaturation | 0 |
Rights | Sverre Olesen |
Saturation | 0 |
SaturationAdjustmentAqua | 0 |
SaturationAdjustmentBlue | 0 |
SaturationAdjustmentGreen | 0 |
SaturationAdjustmentMagenta | 0 |
SaturationAdjustmentOrange | 0 |
SaturationAdjustmentPurple | 0 |
SaturationAdjustmentRed | 0 |
SaturationAdjustmentYellow | 0 |
ScaleFactor35efl | 1.6 |
SceneCaptureType | Standard |
SerialNumber | 430353767 |
Shadows | 15 |
ShadowTint | 0 |
SharpenDetail | 44 |
SharpenEdgeMasking | 73 |
SharpenRadius | +1.0 |
Sharpness | 95 |
ShutterSpeed | 1/50 |
ShutterSpeedValue | 1/50 |
SplitToningBalance | 0 |
SplitToningHighlightHue | 0 |
SplitToningHighlightSaturation | 0 |
SplitToningShadowHue | 0 |
SplitToningShadowSaturation | 0 |
Subject | Duenes |
Tint | +10 |
ToneCurve | 0, 0, 32, 22, 64, 56, 128, 128, 192, 196, 255, 255 |
ToneCurveName | Medium Contrast |
URL | http://solesen.homeserver.com/copyright |
Version | 5.4 |
Vibrance | 0 |
VignetteAmount | 0 |
WebStatement | http://solesen.homeserver.com/copyright |
WhiteBalance (2) | Cloudy |
WhiteBalance | Auto |