Felt | Verdi |
AlreadyApplied | True |
Aperture | 4.5 |
ApertureValue | 4.5 |
Artist | Jan Erik Arud |
BitsPerSample | 8 |
BlackClip | 0.909250 |
BlueHue | 0 |
BlueSaturation | 0 |
Brightness | 0 |
By-line | Jan Erik Arud |
CameraProfile | Embedded |
ChromaticAberrationB | 0 |
ChromaticAberrationR | 0 |
Clarity | 0 |
ColorComponents | 3 |
ColorNoiseReduction | 67 |
ColorSaturation | 42 |
ColorTemperature | 0 |
Contrast | 0 |
ConvertToGrayscale | False |
Copyright | Jan Erik Arud |
CopyrightFlag | True |
CopyrightNotice | Jan Erik Arud |
CreateDate | 2009:10:04 19:54:09+02:00 |
Creator | Jan Erik Arud |
CreatorTool | Adobe Photoshop Lightroom |
CreatorWorkEmail | arud@bluezone.no |
CreatorWorkURL | http://www.flickr.com/photos/jarud/ |
CropAngle | -1.35309 |
CropBottom | 0.889717 |
CropHeight | 785 |
CropLeft | 0 |
CropRight | 0.981517 |
CropTop | 0.034279 |
CropUnit | pixels |
CropWidth | 1280 |
DateTimeOriginal (1) | 2009:10:04 19:54:09+02:00 |
DateTimeOriginal | 2009:10:04 19:54:09 |
Defringe | 2 |
ExifImageHeight | 785 |
ExifImageWidth | 1280 |
Exposure | +0.24 |
ExposureTime | 6 |
FillLight | 0 |
FNumber | 4.5 |
FocalLength | 24.0 mm |
FocalLength35efl | 24.0 mm |
Gamma | 1.536875 |
GradientBasedCorrActive | true |
GradientBasedCorrAmount | 1.000000 |
GradientBasedCorrBrightness (1) | 0.025000 |
GradientBasedCorrBrightness | -0.149425 |
GradientBasedCorrClarity (1) | -0.655172 |
GradientBasedCorrClarity | 0.816092 |
GradientBasedCorrContrast (1) | -0.149425 |
GradientBasedCorrContrast | 0.126437 |
GradientBasedCorrExposure (1) | -0.241379 |
GradientBasedCorrExposure | 0.000000 |
GradientBasedCorrHue (1) | 232.000000 |
GradientBasedCorrHue | 225.000000 |
GradientBasedCorrMaskFullX (1) | 0.463821 |
GradientBasedCorrMaskFullX | 0.097444 |
GradientBasedCorrMaskFullY (1) | 0.012979 |
GradientBasedCorrMaskFullY | 0.938495 |
GradientBasedCorrMaskValue | 1.000000 |
GradientBasedCorrMaskWhat | Mask/Gradient |
GradientBasedCorrMaskZeroX (1) | 0.474034 |
GradientBasedCorrMaskZeroX | 0.165715 |
GradientBasedCorrMaskZeroY (1) | 0.947177 |
GradientBasedCorrMaskZeroY | 0.444646 |
GradientBasedCorrSaturation (1) | -0.075000 |
GradientBasedCorrSaturation (2) | 0.350000 |
GradientBasedCorrSaturation (3) | 0.241379 |
GradientBasedCorrSaturation | 0.430000 |
GradientBasedCorrSharpness (1) | -0.150000 |
GradientBasedCorrSharpness | 0.000000 |
GradientBasedCorrWhat | Correction |
GreenHue | 0 |
GreenSaturation | 0 |
HasCrop | True |
HasSettings | True |
HighlightRecovery | 0 |
HighlightsSmoothing | 0 |
HueAdjustmentAqua | 0 |
HueAdjustmentBlue | 0 |
HueAdjustmentGreen | 0 |
HueAdjustmentMagenta | 0 |
HueAdjustmentOrange | 0 |
HueAdjustmentPurple | 0 |
HueAdjustmentRed | 0 |
HueAdjustmentYellow | 0 |
ImageHeight | 785 |
ImageSize | 1280x785 |
ImageWidth | 1280 |
IncrementalTemperature | -2 |
IncrementalTint | 0 |
ISO | 320 |
LightValue | 0.1 |
LuminanceAdjustmentAqua | 0 |
LuminanceAdjustmentBlue | -100 |
LuminanceAdjustmentGreen | 0 |
LuminanceAdjustmentMagenta | 0 |
LuminanceAdjustmentOrange | +3 |
LuminanceAdjustmentPurple | -100 |
LuminanceAdjustmentRed | +43 |
LuminanceAdjustmentYellow | 0 |
LuminanceSmoothing | 61 |
Luminosity | 0 |
Marked | True |
Megapixels | 1.0 |
Method | Details Enhancer |
Microcontrast | 7 |
Microsmoothing | 30 |
Model | Canon EOS-1D Mark III |
ModifyDate (1) | 2009:10:09 09:56:10+02:00 |
ModifyDate | 2009:10:09 09:56:10 |
PaintCorrectionActive | true |
PaintCorrectionAmount | 1.000000 |
PaintCorrectionBrightness | 0.150000 |
PaintCorrectionClarity | -1.000000 |
PaintCorrectionContrast | 0.000000 |
PaintCorrectionExposure | 0.000000 |
PaintCorrectionHue | 42.000000 |
PaintCorrectionMaskCenterWeight (1) | 0.042275 |
PaintCorrectionMaskCenterWeight | 0.879181 |
PaintCorrectionMaskFlow (1) | 1.000000 |
PaintCorrectionMaskFlow | 0.864000 |
PaintCorrectionMaskRadius (2) | 0.152071 |
PaintCorrectionMaskRadius | 0.181888 |
PaintCorrectionMaskValue (2) | 1.000000 |
PaintCorrectionMaskValue | 0.000000 |
PaintCorrectionMaskWhat | Mask/Paint |
PaintCorrectionSaturation (1) | -0.600000 |
PaintCorrectionSaturation | 0.740000 |
PaintCorrectionSharpness | 0.000000 |
PaintCorrectionWhat | Correction |
ParametricDarks | -20 |
ParametricHighlights | 0 |
ParametricHighlightSplit | 75 |
ParametricLights | +22 |
ParametricMidtoneSplit | 50 |
ParametricShadows | +19 |
ParametricShadowSplit | 25 |
PostCropVignetteAmount | -10 |
PostCropVignetteFeather | 50 |
PostCropVignetteMidpoint | 50 |
PostCropVignetteRoundness | 0 |
ProfileDescription | sRGB IEC61966-2.1 |
Rating | 1 |
RedHue | 0 |
RedSaturation | 0 |
Rights | Jan Erik Arud |
Saturation | +5 |
SaturationAdjustmentAqua | 0 |
SaturationAdjustmentBlue | 0 |
SaturationAdjustmentGreen | 0 |
SaturationAdjustmentMagenta | 0 |
SaturationAdjustmentOrange | 0 |
SaturationAdjustmentPurple | 0 |
SaturationAdjustmentRed | 0 |
SaturationAdjustmentYellow | 0 |
SaturationHighlights | 2 |
SaturationShadows | 0 |
Shadows | 5 |
ShadowsClipping | 0 |
ShadowsSmoothing | 0 |
ShadowTint | 0 |
SharpenDetail | 92 |
SharpenEdgeMasking | 0 |
SharpenRadius | +1.0 |
Sharpness | 21 |
ShutterSpeed | 6 |
ShutterSpeedValue | 6 |
Smoothing | Very High |
SplitToningBalance | 0 |
SplitToningHighlightHue | 184 |
SplitToningHighlightSaturation | 17 |
SplitToningShadowHue | 227 |
SplitToningShadowSaturation | 12 |
Strength | 53 |
ToneCurve | 0, 0, 32, 22, 64, 56, 128, 128, 192, 196, 255, 255 |
ToneCurveName | Medium Contrast |
Version (1) | 3.1 |
Version | 5.5 |
Vibrance | +5 |
VignetteAmount | 0 |
WhiteBalance | Custom |
WhiteClip | 1.833550 |