Felt | Verdi |
AlreadyApplied | True |
Aperture | 13.0 |
ApertureValue | 13.0 |
BitsPerSample | 8 |
BlueHue | 0 |
BlueSaturation | +31 |
Brightness | +50 |
CameraProfile | Adobe Standard |
CFAPattern | [Green,Blue][Red,Green] |
ChromaticAberrationB | +6 |
ChromaticAberrationR | +4 |
CircleOfConfusion | 0.020 mm |
Clarity | +75 |
ColorComponents | 3 |
ColorNoiseReduction | 25 |
ColorTemperature | 3350 |
Contrast (2) | +27 |
Contrast | Normal |
ConvertToGrayscale | False |
Copyright | Knut Sigurd Raberg - All Rights Reserved |
CopyrightFlag | True |
CopyrightNotice | Knut Sigurd RŒberg - All Rights Reserved |
CreateDate (1) | 2009:10:01 19:42:09.10+02:00 |
CreateDate | 2009:10:01 19:42:09 |
CreatorTool | Adobe Photoshop Lightroom |
CropAngle | 0 |
CropBottom | 0.829876 |
CropHeight | 569 |
CropLeft | 0 |
CropRight | 1 |
CropTop | 0.165975 |
CropUnit | pixels |
CropWidth | 1280 |
CustomRendered | Normal |
DateTimeDigitized | 2009:10:01 19:42:09.10+02:00 |
DateTimeOriginal (1) | 2009:10:01 19:42:09.10+02:00 |
DateTimeOriginal | 2009:10:01 19:42:09 |
Defringe | 0 |
DigitalZoomRatio | 1 |
ExifImageHeight | 569 |
ExifImageWidth | 1280 |
Exposure | +1.10 |
ExposureCompensation | 0 |
ExposureMode | Manual |
ExposureProgram | Manual |
ExposureTime | 30 |
FillLight | 13 |
Flash | No Flash |
FlashFired | False |
FlashFunction | False |
FlashMode | Unknown |
FlashRedEyeMode | False |
FlashReturn | No return detection |
FNumber | 13.0 |
FocalLength | 50.0 mm |
FocalLength35efl | 50.0 mm (35 mm equivalent: 75.0 mm) |
FocalLengthIn35mmFormat | 75 mm |
FOV | 27.0 deg |
GainControl | None |
GreenHue | 0 |
GreenSaturation | -33 |
HasCrop | True |
HasSettings | True |
HighlightRecovery | 7 |
HueAdjustmentAqua | -2 |
HueAdjustmentBlue | +13 |
HueAdjustmentGreen | -15 |
HueAdjustmentMagenta | -33 |
HueAdjustmentOrange | +4 |
HueAdjustmentPurple | +10 |
HueAdjustmentRed | -15 |
HueAdjustmentYellow | +17 |
HyperfocalDistance | 9.60 m |
ImageHeight | 569 |
ImageNumber | 4490 |
ImageSize | 1280x569 |
ImageWidth | 1280 |
ISO | 100 |
Keywords | ARKITEKTUR 1 |
Lens | 50.0 mm f/1.8 |
LensInfo | 50mm f/1.8 |
LightSource | Unknown |
LightValue | 2.5 |
LuminanceAdjustmentAqua | -17 |
LuminanceAdjustmentBlue | -100 |
LuminanceAdjustmentGreen | -13 |
LuminanceAdjustmentMagenta | 0 |
LuminanceAdjustmentOrange | +23 |
LuminanceAdjustmentPurple | -19 |
LuminanceAdjustmentRed | -52 |
LuminanceAdjustmentYellow | -21 |
LuminanceSmoothing | 0 |
Make | NIKON CORPORATION |
Marked | True |
MaxApertureValue | 1.7 |
Megapixels | 0.728 |
MeteringMode | Multi-segment |
Model | NIKON D80 |
ModifyDate (1) | 2009:11:01 22:32:27+01:00 |
ModifyDate | 2009:11:01 22:32:27 |
ParametricDarks | 0 |
ParametricHighlights | 0 |
ParametricHighlightSplit | 75 |
ParametricLights | 0 |
ParametricMidtoneSplit | 50 |
ParametricShadows | 0 |
ParametricShadowSplit | 25 |
PostCropVignetteAmount | 0 |
ProfileDescription | sRGB IEC61966-2.1 |
RedHue | 0 |
RedSaturation | +13 |
Rights | Knut Sigurd Råberg - All Rights Reserved |
Saturation (2) | -2 |
Saturation | Normal |
SaturationAdjustmentAqua | -17 |
SaturationAdjustmentBlue | -4 |
SaturationAdjustmentGreen | +2 |
SaturationAdjustmentMagenta | -15 |
SaturationAdjustmentOrange | +13 |
SaturationAdjustmentPurple | 0 |
SaturationAdjustmentRed | +71 |
SaturationAdjustmentYellow | +15 |
ScaleFactor35efl | 1.5 |
SceneCaptureType | Standard |
SceneType | Directly photographed |
SensingMethod | One-chip color area |
SerialNumber | 4455452 |
Shadows | 2 |
ShadowTint | 0 |
SharpenDetail | 25 |
SharpenEdgeMasking | 0 |
SharpenRadius | +1.0 |
Sharpness (2) | 25 |
Sharpness | Normal |
ShutterSpeed | 30 |
ShutterSpeedValue | 30 |
Software | Ver.1.10 |
SplitToningBalance | 0 |
SplitToningHighlightHue | 0 |
SplitToningHighlightSaturation | 0 |
SplitToningShadowHue | 0 |
SplitToningShadowSaturation | 0 |
Subject | ARKITEKTUR 1 |
SubjectDistanceRange | Unknown |
Tint | +16 |
ToneCurve | 0, 0, 32, 22, 64, 56, 128, 128, 192, 196, 255, 255 |
ToneCurveName | Medium Contrast |
URL | Contact: E-mail: knut.raberg@gmail.com |
UsageTerms | Usage subject to license and written agreement. All violation will be prosecuted. Unlawful usage will be charged triple amount of current usage fee and a fine which amount will be set individually. |
Version | 5.2 |
Vibrance | +52 |
VignetteAmount | 0 |
WebStatement | Contact: E-mail: knut.raberg@gmail.com |
WhiteBalance (2) | Custom |
WhiteBalance | Auto |