Felt | Verdi |
AlreadyApplied | True |
Aperture | 1.4 |
ApertureValue | 1.4 |
BitsPerSample | 8 |
BlueHue | 0 |
BlueSaturation | 0 |
Brightness | +50 |
By-line | Størker Moe |
CameraProfile | Camera Standard |
Caption-Abstract | Levanger-cup/KM januar 2010 |
CFAPattern | [Red,Green][Green,Blue] |
ChromaticAberrationB | 0 |
ChromaticAberrationR | 0 |
CircleOfConfusion | 0.020 mm |
City | Levanger |
Clarity | +25 |
ColorComponents | 1 |
ColorNoiseReduction | 10 |
ColorTemperature | 2800 |
Contrast (2) | +35 |
Contrast | Normal |
ConvertToGrayscale | True |
Copyright | Storker Moe |
CopyrightNotice | Størker Moe |
Country | Norway |
Country-PrimaryLocationCode | NOR |
Country-PrimaryLocationName | Norway |
CountryCode | NOR |
CreateDate (1) | 2010:01:30 14:03:01.84+01:00 |
CreateDate | 2010:01:30 14:03:01 |
Creator | Størker Moe |
CreatorCountry | Norway |
CreatorTool | Adobe Photoshop Lightroom |
CropAngle | 0.993518 |
CropBottom | 0.85271 |
CropHeight | 683 |
CropLeft | 0.217476 |
CropRight | 0.756287 |
CropTop | 0.291322 |
CropUnit | pixels |
CropWidth | 1024 |
CustomRendered | Normal |
DateTimeDigitized | 2010:01:30 14:03:01.84+01:00 |
DateTimeOriginal (1) | 2010:01:30 14:03:01.84+01:00 |
DateTimeOriginal | 2010:01:30 14:03:01 |
Defringe | 0 |
Description | Levanger-cup/KM januar 2010 |
DigitalZoomRatio | 1 |
ExifImageHeight | 683 |
ExifImageWidth | 1024 |
Exposure | 0.00 |
ExposureCompensation | +2/3 |
ExposureMode | Auto |
ExposureProgram | Shutter speed priority AE |
ExposureTime | 1/250 |
FillLight | 0 |
Flash | No Flash |
FlashFired | False |
FlashFunction | False |
FlashMode | Unknown |
FlashRedEyeMode | False |
FlashReturn | No return detection |
FNumber | 1.4 |
FocalLength | 50.0 mm |
FocalLength35efl | 50.0 mm (35 mm equivalent: 75.0 mm) |
FocalLengthIn35mmFormat | 75 mm |
FOV | 27.0 deg |
GainControl | Low gain up |
GrayMixerAqua | -20 |
GrayMixerBlue | -20 |
GrayMixerGreen | +50 |
GrayMixerMagenta | 0 |
GrayMixerOrange | -20 |
GrayMixerPurple | 0 |
GrayMixerRed | +20 |
GrayMixerYellow | -29 |
GreenHue | 0 |
GreenSaturation | 0 |
HasCrop | True |
HasSettings | True |
HierarchicalSubject | _MOTIVTYP|Sport og konkurranser|Judo |
HighlightRecovery | 19 |
HyperfocalDistance | 89.15 m |
ImageDescription | Levanger-cup/KM januar 2010 |
ImageHeight | 683 |
ImageNumber | 3462 |
ImageSize | 1024x683 |
ImageWidth | 1024 |
ISO | 400 |
Keywords | Judo, Sport og konkurranser, _MOTIVTYP |
Lens | 50.0 mm f/1.4 |
LensInfo | 50mm f/1.4 |
LightSource | Unknown |
LightValue | 6.9 |
Location | Levanger |
LuminanceSmoothing | 0 |
Make | NIKON CORPORATION |
MaxApertureValue | 1.4 |
Megapixels | 0.699 |
MeteringMode | Multi-segment |
Model | NIKON D300 |
ModifyDate (1) | 2010:02:01 20:18:19+01:00 |
ModifyDate | 2010:02:01 20:18:19 |
ParametricDarks | -15 |
ParametricHighlights | +10 |
ParametricHighlightSplit | 75 |
ParametricLights | +15 |
ParametricMidtoneSplit | 50 |
ParametricShadows | -10 |
ParametricShadowSplit | 25 |
PostCropVignetteAmount | 0 |
ProfileDescription | sRGB IEC61966-2.1 |
Province-State | Nord-Trøndelag |
Rating | 4 |
RedHue | 0 |
RedSaturation | 0 |
Rights | Størker Moe |
Saturation | Normal |
ScaleFactor35efl | 1.5 |
SceneCaptureType | Standard |
SceneType | Directly photographed |
SensingMethod | One-chip color area |
SerialNumber | 4123049 |
Shadows | 5 |
ShadowTint | 0 |
SharpenDetail | 50 |
SharpenEdgeMasking | 87 |
SharpenRadius | +0.8 |
Sharpness (2) | 50 |
Sharpness | Normal |
ShutterSpeed | 1/250 |
ShutterSpeedValue | 1/250 |
Software | Ver.1.10 |
SplitToningBalance | 0 |
SplitToningHighlightHue | 0 |
SplitToningHighlightSaturation | 0 |
SplitToningShadowHue | 0 |
SplitToningShadowSaturation | 0 |
State | Nord-Trøndelag |
Sub-location | Levanger |
Subject | Judo, Sport og konkurranser, _MOTIVTYP |
SubjectDistanceRange | Unknown |
Tint | +6 |
ToneCurve | 0, 0, 32, 16, 64, 50, 128, 128, 192, 202, 255, 255 |
ToneCurveName | Strong Contrast |
Version | 5.3 |
VignetteAmount | 0 |
WhiteBalance (2) | Custom |
WhiteBalance | Auto |