Felt | Verdi |
AlreadyApplied | True |
Aperture | 3.5 |
ApertureValue | 3.5 |
Artist | © V.Tilrem, At.82-28, Br.sund |
BitsPerSample | 8 |
BlueHue | 0 |
BlueSaturation | 0 |
Brightness | +56 |
By-line | © V.Tilrem, At.82-28, Br.sund |
CameraProfile | Adobe Standard |
ChromaticAberrationB | 0 |
ChromaticAberrationR | 0 |
CircleOfConfusion | 0.006 mm |
Clarity | +30 |
ColorComponents | 3 |
ColorMode | RGB |
ColorNoiseReduction | 25 |
ColorSpace | sRGB |
ColorTemperature | 6650 |
Contrast | +49 |
ConvertToGrayscale | False |
CreateDate (1) | 2010:02:04 22:50:51+01:00 |
CreateDate | 2010:02:04 22:50:51 |
Creator | © V.Tilrem, At.82-28, Br.sund |
CustomRendered | Normal |
DateTimeDigitized | 2010:02:04 22:50:51+01:00 |
DateTimeOriginal (1) | 2010:02:04 22:50:51+01:00 |
DateTimeOriginal | 2010:02:04 22:50:51 |
Defringe | 0 |
DigitalZoomRatio | 1 |
ExifImageHeight | 450 |
ExifImageWidth | 600 |
Exposure | +2.10 |
ExposureCompensation | 0 |
ExposureMode | Auto |
ExposureTime | 1/60 |
FillLight | 25 |
Firmware | 1.00 |
Flash | On, Red-eye reduction |
FlashCompensation | 0 |
FlashFired | True |
FlashFunction | False |
FlashMode | On |
FlashRedEyeMode | True |
FlashReturn | No return detection |
FNumber | 3.5 |
FocalLength | 15.7 mm |
FocalLength35efl | 15.7 mm (35 mm equivalent: 73.1 mm) |
Format | image/jpeg |
FOV | 27.7 deg |
GreenHue | 0 |
GreenSaturation | 0 |
HasCrop | False |
HasSettings | True |
HighlightRecovery | 0 |
HueAdjustmentAqua | 0 |
HueAdjustmentBlue | 0 |
HueAdjustmentGreen | 0 |
HueAdjustmentMagenta | 0 |
HueAdjustmentOrange | 0 |
HueAdjustmentPurple | 0 |
HueAdjustmentRed | 0 |
HueAdjustmentYellow | 0 |
HyperfocalDistance | 10.90 m |
ICCProfileName | sRGB IEC61966-2.1 |
ImageHeight | 450 |
ImageSize | 600x450 |
ImageWidth | 600 |
ISO | 200 |
Lens | 6.1-30.5 mm |
LensInfo | 6.1-30.5mm f/? |
LightValue | 8.5 |
LuminanceAdjustmentAqua | 0 |
LuminanceAdjustmentBlue | 0 |
LuminanceAdjustmentGreen | 0 |
LuminanceAdjustmentMagenta | 0 |
LuminanceAdjustmentOrange | 0 |
LuminanceAdjustmentPurple | 0 |
LuminanceAdjustmentRed | 0 |
LuminanceAdjustmentYellow | 0 |
LuminanceSmoothing | 0 |
Make | Canon |
MaxApertureValue | 3.5 |
Megapixels | 0.270 |
MeteringMode | Multi-segment |
Model | Canon PowerShot G10 |
ModifyDate (1) | 2010:02:04 23:15:47+01:00 |
ModifyDate | 2010:02:04 23:15:47 |
Orientation | Horizontal (normal) |
OwnerName | © V.Tilrem, At.82-28, Br.sund |
ParametricDarks | 0 |
ParametricHighlights | 0 |
ParametricHighlightSplit | 75 |
ParametricLights | 0 |
ParametricMidtoneSplit | 50 |
ParametricShadows | 0 |
ParametricShadowSplit | 25 |
PostCropVignetteAmount | 0 |
ProfileDescription | sRGB IEC61966-2.1 |
Rating | 0 |
RawFileName | IMG_0146.CR2 |
RedHue | 0 |
RedSaturation | 0 |
Saturation | 0 |
SaturationAdjustmentAqua | 0 |
SaturationAdjustmentBlue | 0 |
SaturationAdjustmentGreen | 0 |
SaturationAdjustmentMagenta | 0 |
SaturationAdjustmentOrange | 0 |
SaturationAdjustmentPurple | 0 |
SaturationAdjustmentRed | 0 |
SaturationAdjustmentYellow | 0 |
ScaleFactor35efl | 4.7 |
SceneCaptureType | Standard |
SensingMethod | One-chip color area |
Shadows | 5 |
ShadowTint | 0 |
SharpenDetail | 25 |
SharpenEdgeMasking | 0 |
SharpenRadius | +1.0 |
Sharpness | 0 |
ShutterSpeed | 1/60 |
ShutterSpeedValue | 1/60 |
Software | Adobe Photoshop CS4 Windows |
SplitToningBalance | 0 |
SplitToningHighlightHue | 0 |
SplitToningHighlightSaturation | 0 |
SplitToningShadowHue | 0 |
SplitToningShadowSaturation | 0 |
Tint | +6 |
ToneCurve | 0, 0, 32, 22, 64, 56, 128, 128, 192, 196, 255, 255 |
ToneCurveName | Medium Contrast |
URL_List | |
Version | 5.5 |
Vibrance | 0 |
VignetteAmount | 0 |
WhiteBalance (2) | Custom |
WhiteBalance | Auto |