Felt | Verdi |
AlreadyApplied | True |
BitsPerSample | 8 |
BlueHue | 0 |
BlueSaturation | 0 |
Brightness | 0 |
CameraProfile | Embedded |
ChromaticAberrationB | 0 |
ChromaticAberrationR | 0 |
Clarity | +57 |
ColorComponents | 1 |
ColorNoiseReduction | 0 |
Contrast | +18 |
ConvertToGrayscale | True |
Copyright | Tarjei Mandt Larsen |
CopyrightFlag | True |
CopyrightNotice | Tarjei Mandt Larsen |
CreateDate | 2009:08:27 13:08:20 |
CreatorTool | Adobe Photoshop Lightroom |
DateTimeDigitized | 2009:08:27 13:08:20+02:00 |
Defringe | 0 |
ExifImageHeight | 2433 |
ExifImageWidth | 2433 |
Exposure | +0.19 |
FillLight | 21 |
GrayMixerAqua | -18 |
GrayMixerBlue | +10 |
GrayMixerGreen | -27 |
GrayMixerMagenta | +4 |
GrayMixerOrange | -19 |
GrayMixerPurple | +16 |
GrayMixerRed | -7 |
GrayMixerYellow | -23 |
GreenHue | 0 |
GreenSaturation | 0 |
HasCrop | False |
HasSettings | True |
HighlightRecovery | 0 |
ImageHeight | 2433 |
ImageSize | 2433x2433 |
ImageWidth | 2433 |
IncrementalTemperature | 0 |
IncrementalTint | 0 |
LuminanceSmoothing | 0 |
Make | FUJI PHOTO FILM CO., LTD. |
Marked | True |
Megapixels | 5.9 |
Model | SP-3000 |
ModifyDate (1) | 2010:02:07 22:37:18+01:00 |
ModifyDate | 2010:02:07 22:37:18 |
ParametricDarks | -18 |
ParametricHighlights | +30 |
ParametricHighlightSplit | 75 |
ParametricLights | -24 |
ParametricMidtoneSplit | 50 |
ParametricShadows | 0 |
ParametricShadowSplit | 25 |
PostCropVignetteAmount | 0 |
ProfileDescription | sRGB IEC61966-2.1 |
RedHue | 0 |
RedSaturation | 0 |
Rights | Tarjei Mandt Larsen |
SceneType | Directly photographed |
Shadows | 11 |
ShadowTint | 0 |
SharpenDetail | 25 |
SharpenEdgeMasking | 0 |
SharpenRadius | +1.0 |
Sharpness | 80 |
Software | FDi V4.5 / FRONTIER355/375-1.8-0E-007 |
SplitToningBalance | 0 |
SplitToningHighlightHue | 0 |
SplitToningHighlightSaturation | 0 |
SplitToningShadowHue | 0 |
SplitToningShadowSaturation | 0 |
ToneCurve | 0, 0, 32, 22, 64, 56, 128, 128, 192, 196, 255, 255 |
ToneCurveName | Medium Contrast |
Version | 5.6 |
VignetteAmount | 0 |
WhiteBalance | As Shot |