Felt | Verdi |
AlreadyApplied | True |
Aperture | 8.0 |
ApertureValue | 8.0 |
BitsPerSample | 8 |
BlueHue | 0 |
BlueSaturation | 0 |
Brightness | 0 |
By-line | Størker Moe |
CameraProfile | Embedded |
ChromaticAberrationB | 0 |
ChromaticAberrationR | 0 |
CircleOfConfusion | 0.030 mm |
City | Lofoten |
Clarity | +30 |
ColorComponents | 3 |
ColorNoiseReduction | 0 |
ColorSpace | Unknown (-1) |
Contrast | 0 |
ConvertToGrayscale | False |
Copyright | Storker Moe |
CopyrightNotice | Størker Moe |
Country | Norway |
Country-PrimaryLocationCode | NOR |
Country-PrimaryLocationName | Norway |
CountryCode | NOR |
CreateDate | 2009:07:03 09:39:00 |
Creator | Størker Moe |
CreatorCountry | Norway |
CreatorTool | Adobe Photoshop Lightroom |
CropAngle | 0 |
CropBottom | 0.973856 |
CropHeight | 1024 |
CropLeft | 0.11667 |
CropRight | 0.760162 |
CropTop | 0.017429 |
CropUnit | pixels |
CropWidth | 1024 |
DateTimeDigitized | 2009:07:03 09:39:00 |
DateTimeOriginal | 2009:07:03 09:39:00 |
Defringe | 0 |
ExifImageHeight | 1024 |
ExifImageWidth | 1024 |
Exposure | +0.25 |
FillLight | 0 |
Flash | No Flash |
FlashFired | False |
FlashFunction | False |
FlashMode | Unknown |
FlashRedEyeMode | False |
FlashReturn | No return detection |
FNumber | 8.0 |
FocalLength | 35.0 mm |
FocalLength35efl | 35.0 mm (35 mm equivalent: 35.0 mm) |
FocalLengthIn35mmFormat | 35 mm |
Format | image/tiff |
FOV | 54.4 deg |
GPSAltitude (2) | 0 m |
GPSAltitude | 0 m Above Sea Level |
GPSAltitudeRef | Above Sea Level |
GPSDateStamp | 2009:07:03 |
GPSDateTime | 2009:07:03 07:39:00Z |
GPSLatitude (2) | 68 deg 4' 57.90" |
GPSLatitude | 68 deg 4' 57.90" N |
GPSLatitudeRef | North |
GPSLongitude (2) | 13 deg 10' 1.74" |
GPSLongitude | 13 deg 10' 1.74" E |
GPSLongitudeRef | East |
GPSMapDatum | WGS-84 |
GPSPosition | 68 deg 4' 57.90" N, 13 deg 10' 1.74" E |
GPSSatellites | 0 |
GPSTimeStamp | 07:39:00 |
GPSVersionID | 2.2.0.0 |
GreenHue | 0 |
GreenSaturation | 0 |
HasCrop | True |
HasSettings | True |
HighlightRecovery | 0 |
HueAdjustmentAqua | 0 |
HueAdjustmentBlue | 0 |
HueAdjustmentGreen | 0 |
HueAdjustmentMagenta | 0 |
HueAdjustmentOrange | 0 |
HueAdjustmentPurple | 0 |
HueAdjustmentRed | 0 |
HueAdjustmentYellow | 0 |
HyperfocalDistance | 5.10 m |
ImageHeight | 1024 |
ImageSize | 1024x1024 |
ImageWidth | 1024 |
IncrementalTemperature | -5 |
IncrementalTint | 0 |
ISO | 100 |
Keywords | Bygninger, Menneskeskapt |
Location | Fredvang |
LuminanceAdjustmentAqua | 0 |
LuminanceAdjustmentBlue | 0 |
LuminanceAdjustmentGreen | 0 |
LuminanceAdjustmentMagenta | 0 |
LuminanceAdjustmentOrange | 0 |
LuminanceAdjustmentPurple | 0 |
LuminanceAdjustmentRed | 0 |
LuminanceAdjustmentYellow | 0 |
LuminanceSmoothing | 0 |
Make | Nikon |
MaxApertureValue | 2.8 |
Megapixels | 1.0 |
Model | Nikon Coolscan V / Fuji Reala |
ModifyDate (1) | 2010:02:21 17:17:15+01:00 |
ModifyDate | 2010:02:21 17:17:15 |
ParametricDarks | 0 |
ParametricHighlights | 0 |
ParametricHighlightSplit | 75 |
ParametricLights | 0 |
ParametricMidtoneSplit | 50 |
ParametricShadows | 0 |
ParametricShadowSplit | 25 |
PostCropVignetteAmount | 0 |
ProfileDescription | sRGB IEC61966-2.1 |
Province-State | Nordland |
RedHue | 0 |
RedSaturation | 0 |
Rights | Størker Moe |
Saturation | 0 |
SaturationAdjustmentAqua | 0 |
SaturationAdjustmentBlue | 0 |
SaturationAdjustmentGreen | 0 |
SaturationAdjustmentMagenta | 0 |
SaturationAdjustmentOrange | 0 |
SaturationAdjustmentPurple | 0 |
SaturationAdjustmentRed | 0 |
SaturationAdjustmentYellow | 0 |
ScaleFactor35efl | 1.0 |
Shadows | 8 |
ShadowTint | 0 |
SharpenDetail | 65 |
SharpenEdgeMasking | 20 |
SharpenRadius | +1.0 |
Sharpness | 90 |
Software | Adobe Photoshop CS3 Windows |
SplitToningBalance | 0 |
SplitToningHighlightHue | 0 |
SplitToningHighlightSaturation | 0 |
SplitToningShadowHue | 0 |
SplitToningShadowSaturation | 0 |
State | Nordland |
Sub-location | Fredvang |
Subject | Bygninger, Menneskeskapt |
ToneCurve | 0, 0, 32, 22, 64, 56, 128, 128, 192, 196, 255, 255 |
ToneCurveName | Medium Contrast |
UserComment | © Storker Moe |
Version | 5.3 |
Vibrance | +10 |
VignetteAmount | 0 |
WhiteBalance | Custom |