Felt | Verdi |
AlreadyApplied | True |
Aperture | 4.0 |
ApertureValue | 4.0 |
Artist | Christer Hansen Eriksen |
BitsPerSample | 8 |
BlueHue | -86 |
BlueSaturation | -36 |
Brightness | +50 |
By-line | Christer Hansen Eriksen |
CameraProfile | ACR 4.4 |
ChromaticAberrationB | 0 |
ChromaticAberrationR | 0 |
CircleOfConfusion | 0.019 mm |
Clarity | +19 |
ColorComponents | 3 |
ColorNoiseReduction | 25 |
ColorTemperature | 2000 |
Contrast | +30 |
ConvertToGrayscale | False |
Copyright | Chreriksen |
CopyrightFlag | True |
CopyrightNotice | Chreriksen |
CreateDate (1) | 2010:03:02 17:48:40.86+01:00 |
CreateDate | 2010:03:02 17:48:40 |
Creator | Christer Hansen Eriksen |
CreatorTool | Adobe Photoshop Lightroom |
CreatorWorkEmail | chreriksen@me.com |
CreatorWorkURL | flickr.com/chreriksen |
CropAngle | 0 |
CropBottom | 0.959317 |
CropHeight | 2732 |
CropLeft | 0 |
CropRight | 0.959317 |
CropTop | 0 |
CropUnit | pixels |
CropWidth | 4098 |
CustomRendered | Normal |
DateTimeDigitized | 2010:03:02 17:48:40.86+01:00 |
DateTimeOriginal (1) | 2010:03:02 17:48:40.86+01:00 |
DateTimeOriginal | 2010:03:02 17:48:40 |
Defringe | 0 |
DOF | inf (3.44 m - inf) |
ExifImageHeight | 2732 |
ExifImageWidth | 4098 |
Exposure | +0.42 |
ExposureCompensation | 0 |
ExposureMode | Manual |
ExposureProgram | Manual |
ExposureTime | 1/125 |
FillLight | 14 |
Firmware | 1.1.0 |
Flash | Off, Did not fire |
FlashCompensation | 0 |
FlashFired | False |
FlashFunction | False |
FlashMode | Off |
FlashRedEyeMode | False |
FlashReturn | No return detection |
FNumber | 4.0 |
FocalLength | 16.0 mm |
FocalLength35efl | 16.0 mm (35 mm equivalent: 25.8 mm) |
FOV | 69.7 deg |
GreenHue | -60 |
GreenSaturation | -100 |
HasCrop | True |
HasSettings | True |
HierarchicalSubject | B&W, Bergen, Monochrome, Nature, Nordås, Snow, Trees |
HighlightRecovery | 100 |
HueAdjustmentAqua | 0 |
HueAdjustmentBlue | 0 |
HueAdjustmentGreen | 0 |
HueAdjustmentMagenta | 0 |
HueAdjustmentOrange | +29 |
HueAdjustmentPurple | 0 |
HueAdjustmentRed | +81 |
HueAdjustmentYellow | +5 |
HyperfocalDistance | 3.44 m |
ImageHeight | 2732 |
ImageNumber | 0 |
ImageSize | 4098x2732 |
ImageWidth | 4098 |
ISO | 400 |
Keywords | B&W, Bergen, Monochrome, Nature, NordŒs, Snow, Trees |
Lens | EF-S10-22mm f/3.5-4.5 USM |
LensID (1) | 235 |
LensID | Canon EF-S 10-22mm f/3.5-4.5 USM |
LensInfo | 10-22mm f/? |
LightValue | 9.0 |
LuminanceAdjustmentAqua | -100 |
LuminanceAdjustmentBlue | 0 |
LuminanceAdjustmentGreen | +100 |
LuminanceAdjustmentMagenta | 0 |
LuminanceAdjustmentOrange | +100 |
LuminanceAdjustmentPurple | 0 |
LuminanceAdjustmentRed | +100 |
LuminanceAdjustmentYellow | +95 |
LuminanceSmoothing | 15 |
Make | Canon |
Marked | True |
MaxApertureValue | 4.0 |
Megapixels | 11.2 |
MeteringMode | Multi-segment |
Model | Canon EOS 450D |
ModifyDate (1) | 2010:03:05 10:32:42+01:00 |
ModifyDate | 2010:03:05 10:32:42 |
OwnerName | Christer Hansen Eriksen |
ParametricDarks | 0 |
ParametricHighlights | 0 |
ParametricHighlightSplit | 75 |
ParametricLights | +40 |
ParametricMidtoneSplit | 50 |
ParametricShadows | 0 |
ParametricShadowSplit | 25 |
PostCropVignetteAmount | 0 |
ProfileDescription | sRGB IEC61966-2.1 |
RedHue | -43 |
RedSaturation | -100 |
Rights | Chreriksen |
Saturation | -100 |
SaturationAdjustmentAqua | -76 |
SaturationAdjustmentBlue | -31 |
SaturationAdjustmentGreen | +45 |
SaturationAdjustmentMagenta | -100 |
SaturationAdjustmentOrange | +26 |
SaturationAdjustmentPurple | -100 |
SaturationAdjustmentRed | -100 |
SaturationAdjustmentYellow | +36 |
ScaleFactor35efl | 1.6 |
SceneCaptureType | Standard |
SerialNumber | 1380330704 |
Shadows | 15 |
ShadowTint | +43 |
SharpenDetail | 25 |
SharpenEdgeMasking | 0 |
SharpenRadius | +1.0 |
Sharpness | 15 |
ShutterSpeed | 1/125 |
ShutterSpeedValue | 1/125 |
SplitToningBalance | 0 |
SplitToningHighlightHue | 47 |
SplitToningHighlightSaturation | 10 |
SplitToningShadowHue | 231 |
SplitToningShadowSaturation | 10 |
Subject | B&W, Bergen, Monochrome, Nature, Nordås, Snow, Trees |
SubjectDistance | 4294967295 m |
Tint | +11 |
ToneCurve | 0, 0, 32, 22, 64, 56, 128, 128, 192, 196, 255, 255 |
ToneCurveName | Medium Contrast |
Version | 5.6 |
Vibrance | -100 |
VignetteAmount | +26 |
VignetteMidpoint | 67 |
WhiteBalance (2) | Custom |
WhiteBalance | Auto |