Felt | Verdi |
AlreadyApplied | True |
Aperture | 5.0 |
ApertureValue | 5.0 |
BitsPerSample | 8 |
BlueHue | 0 |
BlueSaturation | 0 |
Brightness | +50 |
CameraProfile | Adobe Standard |
CFAPattern | [Green,Red][Blue,Green] |
ChromaticAberrationB | 0 |
ChromaticAberrationR | 0 |
CircleOfConfusion | 0.020 mm |
Clarity | 0 |
ColorComponents | 3 |
ColorNoiseReduction | 32 |
ColorTemperature | 7500 |
Contrast (2) | +25 |
Contrast | Low |
ConvertToGrayscale | False |
Copyright | Espen Seierstad |
CopyrightFlag | True |
CopyrightNotice | Espen Seierstad |
CreateDate (1) | 2010:02:20 11:05:46.57+01:00 |
CreateDate | 2010:02:20 11:05:46 |
CreatorTool | Adobe Photoshop Lightroom |
CropAngle | 0 |
CropBottom | 0.960784 |
CropHeight | 2249 |
CropLeft | 0.17596 |
CropRight | 0.901987 |
CropTop | 0.093137 |
CropUnit | pixels |
CropWidth | 2811 |
CustomRendered | Normal |
DateTimeDigitized | 2010:02:20 11:05:46.57+01:00 |
DateTimeOriginal (1) | 2010:02:20 11:05:46.57+01:00 |
DateTimeOriginal | 2010:02:20 11:05:46 |
Defringe | 0 |
DigitalZoomRatio | 1 |
DOF | inf (3020.34 m - inf) |
ExifImageHeight | 2249 |
ExifImageWidth | 2811 |
Exposure | +1.62 |
ExposureCompensation | -1 |
ExposureMode | Auto |
ExposureProgram | Program AE |
ExposureTime | 1/1500 |
FillLight | 0 |
Flash | No Flash |
FlashFired | False |
FlashFunction | False |
FlashMode | Unknown |
FlashRedEyeMode | False |
FlashReturn | No return detection |
FNumber | 5.0 |
FocalLength | 550.0 mm |
FocalLength35efl | 550.0 mm (35 mm equivalent: 825.0 mm) |
FocalLengthIn35mmFormat | 825 mm |
FOV | 2.5 deg |
GainControl | None |
GradientBasedCorrActive | true |
GradientBasedCorrAmount | 1.000000 |
GradientBasedCorrBrightness | 0.000000 |
GradientBasedCorrClarity (1) | 0.000000 |
GradientBasedCorrClarity | -1.000000 |
GradientBasedCorrContrast (1) | 0.275000 |
GradientBasedCorrContrast (3) | 0.000000 |
GradientBasedCorrContrast | -0.975000 |
GradientBasedCorrExposure (1) | 0.200000 |
GradientBasedCorrExposure (2) | 0.100000 |
GradientBasedCorrExposure (3) | 0.425000 |
GradientBasedCorrExposure | 0.175000 |
GradientBasedCorrHue | 116.000000 |
GradientBasedCorrMaskFullX (1) | 0.524153 |
GradientBasedCorrMaskFullX (2) | 0.492327 |
GradientBasedCorrMaskFullX (3) | 0.904834 |
GradientBasedCorrMaskFullX | 0.168842 |
GradientBasedCorrMaskFullY (1) | 0.144005 |
GradientBasedCorrMaskFullY (2) | 0.123847 |
GradientBasedCorrMaskFullY (3) | 0.082504 |
GradientBasedCorrMaskFullY | 0.971417 |
GradientBasedCorrMaskValue | 1.000000 |
GradientBasedCorrMaskWhat | Mask/Gradient |
GradientBasedCorrMaskZeroX (1) | 0.627394 |
GradientBasedCorrMaskZeroX (2) | 0.499445 |
GradientBasedCorrMaskZeroX (3) | 0.848043 |
GradientBasedCorrMaskZeroX | 0.254561 |
GradientBasedCorrMaskZeroY (1) | 1.170830 |
GradientBasedCorrMaskZeroY (2) | 0.534278 |
GradientBasedCorrMaskZeroY (3) | 0.421848 |
GradientBasedCorrMaskZeroY | 0.716808 |
GradientBasedCorrSaturation | 0.000000 |
GradientBasedCorrSharpness (2) | 0.000000 |
GradientBasedCorrSharpness | -0.850000 |
GradientBasedCorrWhat | Correction |
GreenHue | 0 |
GreenSaturation | 0 |
HasCrop | True |
HasSettings | True |
HighlightRecovery | 0 |
HueAdjustmentAqua | 0 |
HueAdjustmentBlue | 0 |
HueAdjustmentGreen | 0 |
HueAdjustmentMagenta | 0 |
HueAdjustmentOrange | 0 |
HueAdjustmentPurple | 0 |
HueAdjustmentRed | 0 |
HueAdjustmentYellow | 0 |
HyperfocalDistance | 3020.34 m |
ImageHeight | 2249 |
ImageNumber | 17581 |
ImageSize | 2811x2249 |
ImageWidth | 2811 |
ISO | 200 |
Keywords | Animals, Cold, Deer, Dovre, Europe, Mammal, Mammals, Muskox, Nordic, Norway, Oppland, Ovibos moschatus, Scandinavia, Winter |
Label | Green |
Lens | 400.0 mm f/2.8 |
LensID (1) | 150 |
LensID | AF-S VR Nikkor 400mm f/2.8G ED |
LensInfo | 400mm f/2.8 |
LightSource | Unknown |
LightValue | 14.2 |
LuminanceAdjustmentAqua | 0 |
LuminanceAdjustmentBlue | 0 |
LuminanceAdjustmentGreen | 0 |
LuminanceAdjustmentMagenta | 0 |
LuminanceAdjustmentOrange | 0 |
LuminanceAdjustmentPurple | 0 |
LuminanceAdjustmentRed | 0 |
LuminanceAdjustmentYellow | 0 |
LuminanceSmoothing | 58 |
Make | NIKON CORPORATION |
Marked | True |
MaxApertureValue | 4.0 |
Megapixels | 6.3 |
MeteringMode | Multi-segment |
Model | NIKON D200 |
ModifyDate (1) | 2010:03:16 18:57:23+01:00 |
ModifyDate | 2010:03:16 18:57:23 |
ParametricDarks | -17 |
ParametricHighlights | +43 |
ParametricHighlightSplit | 75 |
ParametricLights | +17 |
ParametricMidtoneSplit | 50 |
ParametricShadows | -14 |
ParametricShadowSplit | 25 |
PostCropVignetteAmount | 0 |
ProfileDescription | sRGB IEC61966-2.1 |
Rating | 2 |
RedHue | 0 |
RedSaturation | 0 |
Rights | Espen Seierstad |
Saturation (2) | 0 |
Saturation | Normal |
SaturationAdjustmentAqua | 0 |
SaturationAdjustmentBlue | 0 |
SaturationAdjustmentGreen | 0 |
SaturationAdjustmentMagenta | 0 |
SaturationAdjustmentOrange | 0 |
SaturationAdjustmentPurple | 0 |
SaturationAdjustmentRed | 0 |
SaturationAdjustmentYellow | 0 |
ScaleFactor35efl | 1.5 |
SceneCaptureType | Standard |
SceneType | Directly photographed |
SensingMethod | One-chip color area |
Shadows | 5 |
ShadowTint | 0 |
SharpenDetail | 0 |
SharpenEdgeMasking | 32 |
SharpenRadius | +0.9 |
Sharpness (2) | 82 |
Sharpness | Hard |
ShutterSpeed | 1/1500 |
ShutterSpeedValue | 1/1500 |
Software | Ver.2.00 |
SplitToningBalance | 0 |
SplitToningHighlightHue | 0 |
SplitToningHighlightSaturation | 0 |
SplitToningShadowHue | 0 |
SplitToningShadowSaturation | 0 |
Subject | Animals, Cold, Deer, Dovre, Europe, Mammal, Mammals, Muskox, Nordic, Norway, Oppland, Ovibos moschatus, Scandinavia, Winter |
SubjectDistance | 4294967295 m |
SubjectDistanceRange | Unknown |
Tint | 0 |
ToneCurve | 0, 0, 32, 22, 64, 56, 128, 128, 192, 196, 255, 255 |
ToneCurveName | Medium Contrast |
UserComment | Espen Seierstad |
Version | 5.6 |
Vibrance | 0 |
VignetteAmount | +43 |
VignetteMidpoint | 50 |
WhiteBalance | Auto |