Felt | Verdi |
AlreadyApplied | True |
Aperture | 29.0 |
ApertureValue | 29.0 |
BitsPerSample | 8 |
BlueHue | 0 |
BlueSaturation | 0 |
Brightness | +50 |
CameraProfile | Adobe Standard |
CFAPattern | [Green,Red][Blue,Green] |
ChromaticAberrationB | 0 |
ChromaticAberrationR | 0 |
CircleOfConfusion | 0.020 mm |
Clarity | +50 |
ColorComponents | 3 |
ColorNoiseReduction | 25 |
ColorTemperature | 7500 |
Contrast (2) | +25 |
Contrast | Low |
ConvertToGrayscale | False |
Copyright | Espen Seierstad |
CopyrightFlag | True |
CopyrightNotice | Espen Seierstad |
CreateDate (1) | 2007:11:10 14:13:52.49+01:00 |
CreateDate | 2007:11:10 14:13:52 |
CreatorTool | Adobe Photoshop Lightroom |
CropAngle | 0 |
CropBottom | 0.941691 |
CropHeight | 600 |
CropLeft | 0 |
CropRight | 0.941691 |
CropTop | 0 |
CropUnit | pixels |
CropWidth | 896 |
CustomRendered | Normal |
DateTimeDigitized | 2007:11:10 14:13:52.49+01:00 |
DateTimeOriginal (1) | 2007:11:10 14:13:52.49+01:00 |
DateTimeOriginal | 2007:11:10 14:13:52 |
Defringe | 0 |
DigitalZoomRatio | 1 |
DOF | inf (7.49 m - inf) |
ExifImageHeight | 600 |
ExifImageWidth | 896 |
Exposure | 0.00 |
ExposureCompensation | 0 |
ExposureMode | Auto |
ExposureProgram | Program AE |
ExposureTime | 1.5 |
FillLight | 0 |
Flash | No Flash |
FlashFired | False |
FlashFunction | False |
FlashMode | Unknown |
FlashRedEyeMode | False |
FlashReturn | No return detection |
FNumber | 29.0 |
FocalLength | 82.0 mm |
FocalLength35efl | 82.0 mm (35 mm equivalent: 123.0 mm) |
FocalLengthIn35mmFormat | 123 mm |
FOV | 16.7 deg |
GainControl | None |
GradientBasedCorrActive | true |
GradientBasedCorrAmount | 1.000000 |
GradientBasedCorrBrightness | 0.000000 |
GradientBasedCorrClarity (1) | 0.650000 |
GradientBasedCorrClarity (2) | 1.000000 |
GradientBasedCorrClarity | 0.000000 |
GradientBasedCorrContrast (1) | 0.975000 |
GradientBasedCorrContrast (2) | 1.000000 |
GradientBasedCorrContrast | 0.000000 |
GradientBasedCorrExposure (1) | -0.400000 |
GradientBasedCorrExposure (2) | -0.150000 |
GradientBasedCorrExposure | -0.125000 |
GradientBasedCorrHue | 116.000000 |
GradientBasedCorrMaskFullX (1) | 0.508746 |
GradientBasedCorrMaskFullX (2) | 0.468526 |
GradientBasedCorrMaskFullX (3) | -0.019181 |
GradientBasedCorrMaskFullX | 0.960872 |
GradientBasedCorrMaskFullY (1) | -0.010893 |
GradientBasedCorrMaskFullY (2) | 0.948615 |
GradientBasedCorrMaskFullY (3) | 0.503600 |
GradientBasedCorrMaskFullY | 0.454468 |
GradientBasedCorrMaskValue | 1.000000 |
GradientBasedCorrMaskWhat | Mask/Gradient |
GradientBasedCorrMaskZeroX (1) | 0.507289 |
GradientBasedCorrMaskZeroX (2) | 0.471619 |
GradientBasedCorrMaskZeroX (3) | 0.292280 |
GradientBasedCorrMaskZeroX | 0.703741 |
GradientBasedCorrMaskZeroY (1) | 0.762527 |
GradientBasedCorrMaskZeroY (2) | 0.343902 |
GradientBasedCorrMaskZeroY (3) | 0.503600 |
GradientBasedCorrMaskZeroY | 0.460064 |
GradientBasedCorrSaturation (1) | -0.725000 |
GradientBasedCorrSaturation (3) | -0.225000 |
GradientBasedCorrSaturation | 0.000000 |
GradientBasedCorrSharpness (1) | 0.025000 |
GradientBasedCorrSharpness | 0.000000 |
GradientBasedCorrWhat | Correction |
GreenHue | 0 |
GreenSaturation | 0 |
HasCrop | True |
HasSettings | True |
HighlightRecovery | 0 |
HueAdjustmentAqua | 0 |
HueAdjustmentBlue | 0 |
HueAdjustmentGreen | 0 |
HueAdjustmentMagenta | 0 |
HueAdjustmentOrange | 0 |
HueAdjustmentPurple | 0 |
HueAdjustmentRed | 0 |
HueAdjustmentYellow | 0 |
HyperfocalDistance | 11.58 m |
ImageHeight | 600 |
ImageNumber | 7247 |
ImageSize | 896x600 |
ImageWidth | 896 |
ISO | 100 |
Keywords | Beach, Coast, Europe, Landscape, Lofoten, Nature, Nordic, Nordland, Norway, Ocean, Scandinavia, Sea, Stone, Uttakleiv, Vestvagoy, Water, Waves, Winter |
Label | Green |
Lens | 18.0-200.0 mm f/3.5-5.6 |
LensInfo | 18-200mm f/3.5-5.6 |
LightSource | Unknown |
LightValue | 9.1 |
LuminanceAdjustmentAqua | 0 |
LuminanceAdjustmentBlue | 0 |
LuminanceAdjustmentGreen | 0 |
LuminanceAdjustmentMagenta | 0 |
LuminanceAdjustmentOrange | 0 |
LuminanceAdjustmentPurple | 0 |
LuminanceAdjustmentRed | 0 |
LuminanceAdjustmentYellow | 0 |
LuminanceSmoothing | 0 |
Make | NIKON CORPORATION |
Marked | True |
MaxApertureValue | 5.1 |
Megapixels | 0.538 |
MeteringMode | Multi-segment |
Model | NIKON D200 |
ModifyDate (1) | 2010:04:12 18:40:32+02:00 |
ModifyDate | 2010:04:12 18:40:32 |
ParametricDarks | 0 |
ParametricHighlights | +36 |
ParametricHighlightSplit | 75 |
ParametricLights | -5 |
ParametricMidtoneSplit | 50 |
ParametricShadows | -31 |
ParametricShadowSplit | 25 |
PostCropVignetteAmount | 0 |
ProfileDescription | sRGB IEC61966-2.1 |
Rating | 4 |
RedHue | 0 |
RedSaturation | 0 |
Rights | Espen Seierstad |
Saturation (2) | 0 |
Saturation | Normal |
SaturationAdjustmentAqua | 0 |
SaturationAdjustmentBlue | 0 |
SaturationAdjustmentGreen | 0 |
SaturationAdjustmentMagenta | 0 |
SaturationAdjustmentOrange | 0 |
SaturationAdjustmentPurple | 0 |
SaturationAdjustmentRed | 0 |
SaturationAdjustmentYellow | 0 |
ScaleFactor35efl | 1.5 |
SceneCaptureType | Standard |
SceneType | Directly photographed |
SensingMethod | One-chip color area |
Shadows | 5 |
ShadowTint | 0 |
SharpenDetail | 25 |
SharpenEdgeMasking | 0 |
SharpenRadius | +1.0 |
Sharpness (2) | 70 |
Sharpness | Hard |
ShutterSpeed | 1.5 |
ShutterSpeedValue | 1.5 |
Software | Ver.2.00 |
SplitToningBalance | 0 |
SplitToningHighlightHue | 0 |
SplitToningHighlightSaturation | 0 |
SplitToningShadowHue | 0 |
SplitToningShadowSaturation | 0 |
Subject | Beach, Coast, Europe, Landscape, Lofoten, Nature, Nordic, Nordland, Norway, Ocean, Scandinavia, Sea, Stone, Uttakleiv, Vestvagoy, Water, Waves, Winter |
SubjectDistance | 21.1 m |
SubjectDistanceRange | Unknown |
Tint | +1 |
ToneCurve | 0, 0, 32, 22, 64, 56, 128, 128, 192, 196, 255, 255 |
ToneCurveName | Medium Contrast |
UserComment | Espen Seierstad |
Version | 5.6 |
Vibrance | +25 |
VignetteAmount | 0 |
WhiteBalance | Auto |