Felt | Verdi |
AlreadyApplied | True |
Aperture | 2.8 |
ApertureValue | 2.8 |
Artist | Lars-Alexander Erevik Riise |
BitsPerSample | 8 |
BlueHue | 0 |
BlueSaturation | +50 |
Brightness | +43 |
By-line | Lars-Alexander Erevik Riise |
CameraProfile | ACR 4.4 |
CFAPattern | [Red,Green][Green,Blue] |
ChromaticAberrationB | 0 |
ChromaticAberrationR | 0 |
CircleOfConfusion | 0.020 mm |
Clarity | 0 |
ColorComponents | 1 |
ColorNoiseReduction | 42 |
ColorTemperature | 4850 |
Contrast (2) | +100 |
Contrast | Normal |
ConvertToGrayscale | True |
Copyright | LAR |
CopyrightNotice | LAR |
CreateDate (1) | 2010:02:23 12:49:58.72+01:00 |
CreateDate | 2010:02:23 12:49:58 |
Creator | Lars-Alexander Erevik Riise |
CreatorTool | Adobe Photoshop Lightroom |
CropAngle | 0 |
CropBottom | 1 |
CropHeight | 1715 |
CropLeft | 0 |
CropRight | 0.582255 |
CropTop | 0.397774 |
CropUnit | pixels |
CropWidth | 2497 |
CustomRendered | Normal |
DateTimeDigitized | 2010:02:23 12:49:58.72+01:00 |
DateTimeOriginal (1) | 2010:02:23 12:49:58.72+01:00 |
DateTimeOriginal | 2010:02:23 12:49:58 |
Defringe | 0 |
DigitalZoomRatio | 1 |
ExifImageHeight | 1715 |
ExifImageWidth | 2497 |
Exposure | +0.19 |
ExposureCompensation | +1 |
ExposureMode | Manual |
ExposureProgram | Manual |
ExposureTime | 1/1600 |
FillLight | 25 |
Flash | No Flash |
FlashFired | False |
FlashFunction | False |
FlashMode | Unknown |
FlashRedEyeMode | False |
FlashReturn | No return detection |
FNumber | 2.8 |
FocalLength | 200.0 mm |
FocalLength35efl | 200.0 mm (35 mm equivalent: 300.0 mm) |
FocalLengthIn35mmFormat | 300 mm |
FOV | 6.9 deg |
GainControl | None |
GrayMixerAqua | -15 |
GrayMixerBlue | +19 |
GrayMixerGreen | -29 |
GrayMixerMagenta | +5 |
GrayMixerOrange | -22 |
GrayMixerPurple | +22 |
GrayMixerRed | -12 |
GrayMixerYellow | -27 |
GreenHue | 0 |
GreenSaturation | +26 |
HasCrop | True |
HasSettings | True |
HighlightRecovery | 0 |
HyperfocalDistance | 713.19 m |
ImageHeight | 1715 |
ImageNumber | 9941 |
ImageSize | 2497x1715 |
ImageWidth | 2497 |
ISO | 320 |
Lens | 80.0-200.0 mm f/2.8 |
LensInfo | 80-200mm f/2.8 |
LightSource | Unknown |
LightValue | 11.9 |
LuminanceSmoothing | 83 |
Make | NIKON CORPORATION |
MaxApertureValue | 2.8 |
Megapixels | 4.3 |
MeteringMode | Multi-segment |
Model | NIKON D300 |
ModifyDate (1) | 2010:02:23 23:40:41+01:00 |
ModifyDate | 2010:02:23 23:40:41 |
ParametricDarks | +7 |
ParametricHighlights | 0 |
ParametricHighlightSplit | 75 |
ParametricLights | 0 |
ParametricMidtoneSplit | 50 |
ParametricShadows | -5 |
ParametricShadowSplit | 25 |
PostCropVignetteAmount | 0 |
ProfileDescription | sRGB IEC61966-2.1 |
RedHue | 0 |
RedSaturation | +24 |
Rights | LAR |
Saturation | Normal |
ScaleFactor35efl | 1.5 |
SceneCaptureType | Standard |
SceneType | Directly photographed |
SensingMethod | One-chip color area |
SerialNumber | 4145049 |
Shadows | 6 |
ShadowTint | 0 |
SharpenDetail | 100 |
SharpenEdgeMasking | 100 |
SharpenRadius | +3.0 |
Sharpness (2) | 150 |
Sharpness | Hard |
ShutterSpeed | 1/1600 |
ShutterSpeedValue | 1/1600 |
Software | Ver.1.10 |
SplitToningBalance | 0 |
SplitToningHighlightHue | 0 |
SplitToningHighlightSaturation | 0 |
SplitToningShadowHue | 0 |
SplitToningShadowSaturation | 0 |
SubjectDistanceRange | Unknown |
Tint | 0 |
ToneCurve | 0, 0, 32, 22, 64, 56, 128, 128, 192, 196, 255, 255 |
ToneCurveName | Medium Contrast |
Version | 4.6 |
VignetteAmount | 0 |
WhiteBalance (2) | As Shot |
WhiteBalance | Auto |