Felt | Verdi |
AlreadyApplied | True |
BitsPerSample | 8 |
BlueHue | 0 |
BlueSaturation | 0 |
Brightness | -2 |
CameraProfile | Embedded |
ChromaticAberrationB | 0 |
ChromaticAberrationR | 0 |
Clarity | +38 |
ColorComponents | 3 |
ColorNoiseReduction | 0 |
Contrast | +9 |
ConvertToGrayscale | False |
CreatorTool | Adobe Photoshop Lightroom 3.3 |
CropAngle | -1.7 |
CropBottom | 0.957424 |
CropConstrainToWarp | 0 |
CropHeight | 2303 |
CropLeft | 0.017594 |
CropRight | 0.986311 |
CropTop | 0.04625 |
CropUnit | pixels |
CropWidth | 2873 |
Defringe | 0 |
ExifImageHeight | 2303 |
ExifImageWidth | 2873 |
Exposure | +0.32 |
FillLight | 0 |
GrainAmount | 0 |
GreenHue | 0 |
GreenSaturation | 0 |
HasCrop | True |
HasSettings | True |
HighlightRecovery | 1 |
HueAdjustmentAqua | 0 |
HueAdjustmentBlue | 0 |
HueAdjustmentGreen | 0 |
HueAdjustmentMagenta | 0 |
HueAdjustmentOrange | 0 |
HueAdjustmentPurple | 0 |
HueAdjustmentRed | 0 |
HueAdjustmentYellow | 0 |
ImageHeight | 2303 |
ImageSize | 2873x2303 |
ImageWidth | 2873 |
IncrementalTemperature | +20 |
IncrementalTint | -18 |
LensManualDistortionAmount | 0 |
LensProfileEnable | 0 |
LensProfileSetup | LensDefaults |
LuminanceAdjustmentAqua | 0 |
LuminanceAdjustmentBlue | 0 |
LuminanceAdjustmentGreen | 0 |
LuminanceAdjustmentMagenta | 0 |
LuminanceAdjustmentOrange | 0 |
LuminanceAdjustmentPurple | 0 |
LuminanceAdjustmentRed | 0 |
LuminanceAdjustmentYellow | 0 |
LuminanceSmoothing | 0 |
Make | FUJIFILM Corporation |
Megapixels | 6.6 |
Model | FUJIFILM Corporation FEII software |
ModifyDate (1) | 2011:02:04 11:20:13+01:00 |
ModifyDate | 2011:02:04 11:20:13 |
ParametricDarks | -11 |
ParametricHighlights | +23 |
ParametricHighlightSplit | 75 |
ParametricLights | -30 |
ParametricMidtoneSplit | 50 |
ParametricShadows | 0 |
ParametricShadowSplit | 25 |
PerspectiveHorizontal | 0 |
PerspectiveRotate | 0.0 |
PerspectiveScale | 100 |
PerspectiveVertical | 0 |
PostCropVignetteAmount | 0 |
ProcessVersion | 5.7 |
ProfileDescription | sRGB IEC61966-2.1 |
RedHue | 0 |
RedSaturation | 0 |
Saturation | +15 |
SaturationAdjustmentAqua | +2 |
SaturationAdjustmentBlue | +15 |
SaturationAdjustmentGreen | +4 |
SaturationAdjustmentMagenta | 0 |
SaturationAdjustmentOrange | 0 |
SaturationAdjustmentPurple | +10 |
SaturationAdjustmentRed | 0 |
SaturationAdjustmentYellow | +1 |
SceneType | Directly photographed |
SensitivityType | Unknown |
Shadows | 3 |
ShadowTint | 0 |
SharpenDetail | 25 |
SharpenEdgeMasking | 0 |
SharpenRadius | +1.0 |
Sharpness | 40 |
Software | FUJIFILM Corporation FEII software |
SplitToningBalance | 0 |
SplitToningHighlightHue | 0 |
SplitToningHighlightSaturation | 0 |
SplitToningShadowHue | 0 |
SplitToningShadowSaturation | 0 |
ToneCurve | 0, 0, 32, 22, 64, 56, 128, 128, 192, 196, 255, 255 |
ToneCurveName | Medium Contrast |
Version | 6.3 |
Vibrance | +22 |
VignetteAmount | 0 |
WhiteBalance | Custom |