Felt | Verdi |
AlreadyApplied | True |
Aperture | 11.0 |
ApertureValue | 11.0 |
BitsPerSample | 8 |
BlueHue | 0 |
BlueSaturation | 0 |
Brightness | +50 |
CameraProfile | Adobe Standard |
ChromaticAberrationB | 0 |
ChromaticAberrationR | 0 |
CircleOfConfusion | 0.019 mm |
Clarity | +13 |
ColorComponents | 3 |
ColorMode | RGB |
ColorNoiseReduction | 25 |
ColorNoiseReductionDetail | 50 |
ColorSpace | Uncalibrated |
ColorTemperature | 22000 |
Contrast | +53 |
ConvertToGrayscale | False |
CreateDate (1) | 2011:03:16 18:20:19.26+01:00 |
CreateDate | 2011:03:16 18:20:19 |
CropAngle | 0.342446 |
CropBottom | 0.961343 |
CropHeight | 3 |
CropLeft | 0.003351 |
CropRight | 0.841093 |
CropTop | 0.112709 |
CropUnit | Unknown (3) |
CropWidth | 2 |
CustomRendered | Normal |
DateCreated (1) | 2011:03:16 |
DateCreated | 2011:03:16 18:20:19.026 |
DateTimeOriginal | 2011:03:16 18:20:19 |
Defringe | 0 |
DOF | inf (0.78 m - inf) |
ExifImageHeight | 2665 |
ExifImageWidth | 3997 |
Exposure | 0.00 |
ExposureCompensation | -1 |
ExposureMode | Auto |
ExposureProgram | Aperture-priority AE |
ExposureTime | 10 |
FillLight | 49 |
Firmware | 1.0.7 |
Flash | Off, Did not fire |
FlashCompensation | 0 |
FNumber | 11.0 |
FocalLength | 16.0 mm |
FocalLength35efl | 16.0 mm (35 mm equivalent: 25.4 mm) |
Format | image/jpeg |
FOV | 70.7 deg |
GrainAmount | 0 |
GreenHue | 0 |
GreenSaturation | 0 |
HasCrop | True |
HasSettings | True |
HighlightRecovery | 100 |
HueAdjustmentAqua | 0 |
HueAdjustmentBlue | 0 |
HueAdjustmentGreen | 0 |
HueAdjustmentMagenta | 0 |
HueAdjustmentOrange | 0 |
HueAdjustmentPurple | 0 |
HueAdjustmentRed | 0 |
HueAdjustmentYellow | -5 |
HyperfocalDistance | 1.23 m |
ICCProfileName | Adobe RGB (1998) |
ImageHeight | 2665 |
ImageNumber | 0 |
ImageSize | 3997x2665 |
ImageWidth | 3997 |
ISO | 100 |
Lens | 16-50mm |
LensID (1) | 160 |
LensID | Tokina AT-X 124 AF Pro DX 12-24mm f/4 + 1.4x or Tokina AT-X 116 AF Pro DX 11-16mm f/2.8 + 1.4x or Tokina AT-X 11-20 F2.8 PRO DX Aspherical 11-20mm f/2.8 + 1.4x |
LensInfo | 16-50mm f/? |
LightValue | 3.6 |
LuminanceAdjustmentAqua | 0 |
LuminanceAdjustmentBlue | -23 |
LuminanceAdjustmentGreen | 0 |
LuminanceAdjustmentMagenta | 0 |
LuminanceAdjustmentOrange | +13 |
LuminanceAdjustmentPurple | 0 |
LuminanceAdjustmentRed | 0 |
LuminanceAdjustmentYellow | -57 |
LuminanceSmoothing | 0 |
Make | Canon |
MaxApertureValue | 2.8 |
Megapixels | 10.7 |
MeteringMode | Multi-segment |
Model | Canon EOS 50D |
ModifyDate (1) | 2011:03:20 03:50:58+01:00 |
ModifyDate | 2011:03:20 03:50:58 |
Orientation | Horizontal (normal) |
ParametricDarks | 0 |
ParametricHighlights | +24 |
ParametricHighlightSplit | 75 |
ParametricLights | +13 |
ParametricMidtoneSplit | 50 |
ParametricShadows | +63 |
ParametricShadowSplit | 25 |
PostCropVignetteAmount | 0 |
ProcessVersion | 5.7 |
ProfileDescription | Adobe RGB (1998) |
Rating | 0 |
RawFileName | IMG_6768.CR2 |
RedHue | 0 |
RedSaturation | 0 |
Saturation | +17 |
SaturationAdjustmentAqua | -23 |
SaturationAdjustmentBlue | -40 |
SaturationAdjustmentGreen | -100 |
SaturationAdjustmentMagenta | -16 |
SaturationAdjustmentOrange | +2 |
SaturationAdjustmentPurple | -19 |
SaturationAdjustmentRed | +23 |
SaturationAdjustmentYellow | -1 |
ScaleFactor35efl | 1.6 |
SceneCaptureType | Standard |
SerialNumber | 1530701094 |
Shadows | 5 |
ShadowTint | 0 |
SharpenDetail | 25 |
SharpenEdgeMasking | 0 |
SharpenRadius | +1.0 |
Sharpness | 25 |
ShutterSpeed | 10 |
ShutterSpeedValue | 10 |
SidecarForExtension | CR2 |
Software | Adobe Photoshop CS5 Windows |
SplitToningBalance | 0 |
SplitToningHighlightHue | 0 |
SplitToningHighlightSaturation | 0 |
SplitToningShadowHue | 0 |
SplitToningShadowSaturation | 0 |
SubjectDistance | 2.08 m |
Tint | +52 |
ToneCurve | 0, 0, 32, 22, 64, 56, 128, 128, 192, 196, 255, 255 |
ToneCurveName | Medium Contrast |
URL_List | |
Version | 6.0 |
Vibrance | +22 |
VignetteAmount | +14 |
VignetteMidpoint | 50 |
WhiteBalance (1) | Custom |
WhiteBalance | Manual |