Felt | Verdi |
AlreadyApplied | True |
Aperture | 10.0 |
ApertureValue | 10.0 |
BitsPerSample | 8 |
BlueHue | 0 |
BlueSaturation | 0 |
Brightness | +43 |
BrightnessValue | 10.5 |
CameraProfile | Embedded |
Caption-Abstract | SONY DSC |
ChromaticAberrationB | 0 |
ChromaticAberrationR | 0 |
CircleOfConfusion | 0.020 mm |
Clarity | +24 |
ColorComponents | 3 |
ColorNoiseReduction | 0 |
ColorSpace | sRGB |
CompressedBitsPerPixel | 8 |
Contrast (2) | +12 |
Contrast | Normal |
ConvertToGrayscale | False |
CreateDate (1) | 2009:02:02 01:54:14+01:00 |
CreateDate | 2009:02:02 01:54:14 |
CreatorTool | Adobe Photoshop Lightroom |
CustomRendered | Normal |
DateTimeDigitized | 2009:02:02 01:54:14+01:00 |
DateTimeOriginal (1) | 2009:02:02 01:54:14+01:00 |
DateTimeOriginal | 2009:02:02 01:54:14 |
Defringe | 0 |
Description | SONY DSC |
ExifImageHeight | 2592 |
ExifImageWidth | 3872 |
Exposure | 0.00 |
ExposureCompensation | 0 |
ExposureMode | Auto |
ExposureProgram | Program AE |
ExposureTime | 1/500 |
FillLight | 0 |
Flash | Auto, Did not fire |
FlashFired | False |
FlashFunction | False |
FlashMode | Auto |
FlashRedEyeMode | False |
FlashReturn | No return detection |
FNumber | 10.0 |
FocalLength | 18.0 mm |
FocalLength35efl | 18.0 mm (35 mm equivalent: 27.0 mm) |
FocalLengthIn35mmFormat | 27 mm |
Format | image/jpeg |
FOV | 67.4 deg |
GradientBasedCorrActive | true |
GradientBasedCorrAmount | 1.000000 |
GradientBasedCorrBrightness | 0.000000 |
GradientBasedCorrClarity (1) | 0.000000 |
GradientBasedCorrClarity (3) | -0.300000 |
GradientBasedCorrClarity (4) | -0.200000 |
GradientBasedCorrClarity (5) | -0.198000 |
GradientBasedCorrClarity | -0.097000 |
GradientBasedCorrContrast | 0.000000 |
GradientBasedCorrExposure (1) | -0.125000 |
GradientBasedCorrExposure (2) | -0.060000 |
GradientBasedCorrExposure (4) | -0.106000 |
GradientBasedCorrExposure (5) | -0.235000 |
GradientBasedCorrExposure (6) | -0.063500 |
GradientBasedCorrExposure | -0.062500 |
GradientBasedCorrHue (1) | 53.000000 |
GradientBasedCorrHue (4) | 0.000000 |
GradientBasedCorrHue (5) | 241.000000 |
GradientBasedCorrHue | 234.000000 |
GradientBasedCorrMaskFullX (1) | 0.488708 |
GradientBasedCorrMaskFullX (2) | 0.906000 |
GradientBasedCorrMaskFullX (3) | 0.089466 |
GradientBasedCorrMaskFullX (4) | 0.718990 |
GradientBasedCorrMaskFullX (5) | 0.518390 |
GradientBasedCorrMaskFullX (6) | 0.783249 |
GradientBasedCorrMaskFullX | 0.127743 |
GradientBasedCorrMaskFullY (1) | 0.483439 |
GradientBasedCorrMaskFullY (2) | 0.497008 |
GradientBasedCorrMaskFullY (3) | 0.508893 |
GradientBasedCorrMaskFullY (4) | 0.220618 |
GradientBasedCorrMaskFullY (5) | 0.223612 |
GradientBasedCorrMaskFullY (6) | 0.766025 |
GradientBasedCorrMaskFullY | 1.149260 |
GradientBasedCorrMaskValue | 1.000000 |
GradientBasedCorrMaskWhat | Mask/Gradient |
GradientBasedCorrMaskZeroX (1) | 0.483663 |
GradientBasedCorrMaskZeroX (2) | 0.639592 |
GradientBasedCorrMaskZeroX (3) | 0.361708 |
GradientBasedCorrMaskZeroX (4) | 0.615150 |
GradientBasedCorrMaskZeroX (5) | 0.513734 |
GradientBasedCorrMaskZeroX (6) | 0.768187 |
GradientBasedCorrMaskZeroX | 0.159720 |
GradientBasedCorrMaskZeroY (1) | 0.704732 |
GradientBasedCorrMaskZeroY (2) | 0.497008 |
GradientBasedCorrMaskZeroY (3) | 0.504807 |
GradientBasedCorrMaskZeroY (4) | 0.447704 |
GradientBasedCorrMaskZeroY (5) | 0.475984 |
GradientBasedCorrMaskZeroY (6) | 0.509217 |
GradientBasedCorrMaskZeroY | 0.898035 |
GradientBasedCorrSaturation (1) | 0.355000 |
GradientBasedCorrSaturation (10) | 0.990000 |
GradientBasedCorrSaturation (11) | 0.097000 |
GradientBasedCorrSaturation (13) | 0.100000 |
GradientBasedCorrSaturation (2) | 0.720000 |
GradientBasedCorrSaturation (6) | 0.000000 |
GradientBasedCorrSaturation (7) | 0.250000 |
GradientBasedCorrSaturation (9) | 0.253000 |
GradientBasedCorrSaturation | 0.210000 |
GradientBasedCorrSharpness | 0.000000 |
GradientBasedCorrWhat | Correction |
GrainAmount | 0 |
GreenHue | 0 |
GreenSaturation | 0 |
HasCrop | False |
HasSettings | True |
HighlightRecovery | 0 |
HueAdjustmentAqua | 0 |
HueAdjustmentBlue | 0 |
HueAdjustmentGreen | 0 |
HueAdjustmentMagenta | 0 |
HueAdjustmentOrange | 0 |
HueAdjustmentPurple | 0 |
HueAdjustmentRed | 0 |
HueAdjustmentYellow | 0 |
HyperfocalDistance | 1.62 m |
ImageDescription | SONY DSC |
ImageHeight | 2592 |
ImageSize | 3872x2592 |
ImageWidth | 3872 |
IncrementalTemperature | 0 |
IncrementalTint | 0 |
ISO | 100 |
LensManualDistortionAmount | 0 |
LensProfileEnable | 0 |
LensProfileSetup | LensDefaults |
LightSource | Unknown |
LightValue | 15.6 |
LuminanceAdjustmentAqua | 0 |
LuminanceAdjustmentBlue | 0 |
LuminanceAdjustmentGreen | 0 |
LuminanceAdjustmentMagenta | 0 |
LuminanceAdjustmentOrange | 0 |
LuminanceAdjustmentPurple | 0 |
LuminanceAdjustmentRed | 0 |
LuminanceAdjustmentYellow | 0 |
LuminanceSmoothing | 0 |
Make | SONY |
MaxApertureValue | 3.5 |
Megapixels | 10.0 |
MeteringMode | Multi-segment |
Model | DSLR-A300 |
ModifyDate (1) | 2011:06:02 00:44:14+02:00 |
ModifyDate | 2011:06:02 00:44:14 |
ParametricDarks | +1 |
ParametricHighlights | 0 |
ParametricHighlightSplit | 75 |
ParametricLights | +22 |
ParametricMidtoneSplit | 50 |
ParametricShadows | -1 |
ParametricShadowSplit | 25 |
PerspectiveHorizontal | 0 |
PerspectiveRotate | 0.0 |
PerspectiveScale | 100 |
PerspectiveVertical | 0 |
PostCropVignetteAmount | 0 |
ProcessVersion | 5.7 |
ProfileDescription | sRGB IEC61966-2.1 |
RedHue | 0 |
RedSaturation | 0 |
Saturation (2) | 0 |
Saturation | Normal |
SaturationAdjustmentAqua | 0 |
SaturationAdjustmentBlue | 0 |
SaturationAdjustmentGreen | 0 |
SaturationAdjustmentMagenta | 0 |
SaturationAdjustmentOrange | 0 |
SaturationAdjustmentPurple | 0 |
SaturationAdjustmentRed | 0 |
SaturationAdjustmentYellow | 0 |
ScaleFactor35efl | 1.5 |
SceneCaptureType | Standard |
SceneType | Directly photographed |
Shadows | 3 |
ShadowTint | 0 |
SharpenDetail | 25 |
SharpenEdgeMasking | 0 |
SharpenRadius | +1.0 |
Sharpness (2) | 0 |
Sharpness | Normal |
ShutterSpeed | 1/500 |
ShutterSpeedValue | 1/500 |
Software | Adobe Photoshop CS Windows |
SplitToningBalance | 0 |
SplitToningHighlightHue | 0 |
SplitToningHighlightSaturation | 0 |
SplitToningShadowHue | 0 |
SplitToningShadowSaturation | 0 |
ToneCurve | 0, 0, 255, 255 |
ToneCurveName | Linear |
Version | 6.1 |
Vibrance | 0 |
VignetteAmount | -3 |
VignetteMidpoint | 50 |
WhiteBalance (2) | As Shot |
WhiteBalance | Auto |