Felt | Verdi |
AlreadyApplied | True |
Aperture | 32.0 |
ApertureValue | 32.0 |
Artist | Kaare Westeraas |
BitsPerSample | 8 |
BlueHue | 0 |
BlueSaturation | 0 |
Brightness | +50 |
By-line | Kaare Westeraas |
CameraProfile | Adobe Standard |
ChromaticAberrationB | 0 |
ChromaticAberrationR | 0 |
CircleOfConfusion | 0.019 mm |
Clarity | +25 |
ColorComponents | 3 |
ColorMode | RGB |
ColorNoiseReduction | 10 |
ColorSpace | sRGB |
ColorTemperature | 4600 |
Contrast | +35 |
ConvertToGrayscale | False |
CreateDate (1) | 2011:08:17 19:31:54.31+02:00 |
CreateDate | 2011:08:17 19:31:54 |
Creator | Kaare Westeraas |
CustomRendered | Normal |
DateTimeDigitized | 2011:08:17 19:31:54.31+02:00 |
DateTimeOriginal (1) | 2011:08:17 17:31:54Z |
DateTimeOriginal | 2011:08:17 17:31:54 |
Defringe | 0 |
ExifImageHeight | 4752 |
ExifImageWidth | 3168 |
Exposure | 0.00 |
ExposureCompensation | -1 |
ExposureMode | Auto |
ExposureProgram | Aperture-priority AE |
ExposureTime | 2.5 |
FillLight | 0 |
Firmware | 1.0.9 |
Flash | Off, Did not fire |
FlashCompensation | 0 |
FlashFired | False |
FlashFunction | False |
FlashMode | Off |
FlashRedEyeMode | False |
FlashReturn | No return detection |
FNumber | 32.0 |
FocalLength | 70.0 mm |
FocalLength35efl | 70.0 mm (35 mm equivalent: 111.1 mm) |
Format | image/jpeg |
FOV | 18.4 deg |
GreenHue | 0 |
GreenSaturation | 0 |
HasCrop | False |
HasSettings | True |
HighlightRecovery | 0 |
HueAdjustmentAqua | 0 |
HueAdjustmentBlue | 0 |
HueAdjustmentGreen | 0 |
HueAdjustmentMagenta | 0 |
HueAdjustmentOrange | 0 |
HueAdjustmentPurple | 0 |
HueAdjustmentRed | 0 |
HueAdjustmentYellow | 0 |
HyperfocalDistance | 8.09 m |
ICCProfileName | sRGB IEC61966-2.1 |
ImageHeight | 4752 |
ImageNumber | 0 |
ImageSize | 3168x4752 |
ImageWidth | 3168 |
ISO | 100 |
Keywords | In Focus, High Quality |
Lens | EF70-300mm f/4-5.6 IS USM |
LensInfo | 70-300mm f/? |
LightValue | 8.7 |
LuminanceAdjustmentAqua | 0 |
LuminanceAdjustmentBlue | 0 |
LuminanceAdjustmentGreen | 0 |
LuminanceAdjustmentMagenta | 0 |
LuminanceAdjustmentOrange | 0 |
LuminanceAdjustmentPurple | 0 |
LuminanceAdjustmentRed | 0 |
LuminanceAdjustmentYellow | 0 |
LuminanceSmoothing | 5 |
Make | Canon |
MaxApertureValue | 4.0 |
Megapixels | 15.1 |
MeteringMode | Spot |
Model | Canon EOS 500D |
ModifyDate (1) | 2011:08:22 17:11:52+02:00 |
ModifyDate | 2011:08:22 17:11:52 |
Orientation | Horizontal (normal) |
OwnerName | Kaare Westeraas |
ParametricDarks | 0 |
ParametricHighlights | 0 |
ParametricHighlightSplit | 75 |
ParametricLights | 0 |
ParametricMidtoneSplit | 50 |
ParametricShadows | 0 |
ParametricShadowSplit | 25 |
PostCropVignetteAmount | 0 |
ProfileDescription | sRGB IEC61966-2.1 |
Rating | 0 |
RawFileName | IMG_8077.CR2 |
RedHue | 0 |
RedSaturation | 0 |
Saturation | +40 |
SaturationAdjustmentAqua | 0 |
SaturationAdjustmentBlue | 0 |
SaturationAdjustmentGreen | 0 |
SaturationAdjustmentMagenta | 0 |
SaturationAdjustmentOrange | 0 |
SaturationAdjustmentPurple | 0 |
SaturationAdjustmentRed | 0 |
SaturationAdjustmentYellow | 0 |
ScaleFactor35efl | 1.6 |
SceneCaptureType | Standard |
SerialNumber | 680127888 |
Shadows | 5 |
ShadowTint | 0 |
SharpenDetail | 40 |
SharpenEdgeMasking | 15 |
SharpenRadius | +0.8 |
Sharpness | 60 |
ShutterSpeed | 2.5 |
ShutterSpeedValue | 2.5 |
SidecarForExtension | CR2 |
Software | Adobe Photoshop Elements 8.0 Windows |
SplitToningBalance | 0 |
SplitToningHighlightHue | 0 |
SplitToningHighlightSaturation | 0 |
SplitToningShadowHue | 0 |
SplitToningShadowSaturation | 0 |
Subject | In Focus, High Quality |
Tint | +2 |
ToneCurve | 0, 0, 32, 22, 64, 56, 128, 128, 192, 196, 255, 255 |
ToneCurveName | Medium Contrast |
URL_List | |
Version | 5.5 |
Vibrance | +46 |
VignetteAmount | 0 |
WhiteBalance (2) | Custom |
WhiteBalance | Auto |