Felt | Verdi |
2011/03/31 16:35:42.16
[#End of Shooting Data Section]
Active D-Lighting:
AF Fine Tune:
AF-Area Mode: Dynamic
AlreadyApplied | True |
Aperture | 3.5 |
Aperture: F/3.5
ApertureValue | 3.5 |
ApproximateFocusDistance | 3.76 |
Artist:
Auto Distortion Control:
Base:
BitsPerSample | 8 |
BlueHue | 0 |
BlueSaturation | 0 |
Brightness | +50 |
Brightness:
CameraProfile | Adobe Standard |
Caption-Abstract | [#Beginning of Shooting Data Section]
CFAPattern | [Green,Red][Blue,Green] |
ChromaticAberrationB | 0 |
ChromaticAberrationR | 0 |
CircleOfConfusion | 0.020 mm |
Clarity | -7 |
Color
Color Mode: Mode I (Adobe RGB)
Color Space: Adobe RGB
ColorComponents | 3 |
Colored Gel Filter:
ColorMode | RGB |
ColorNoiseReduction | 25 |
ColorNoiseReductionDetail | 50 |
ColorSpace (1) | Unknown (-1) |
ColorSpace | Uncalibrated |
ColorTemperature | 2950 |
Contrast (1) | +59 |
Contrast | Normal |
Contrast:
ConvertToGrayscale | False |
Copyright:
CopyrightFlag | False |
CreateDate (1) | 2011:06:13 03:28:04+02:00 |
CreateDate | 2011:03:31 16:35:42 |
CreatorTool | Adobe Photoshop CS3 Macintosh |
CropAngle | 0 |
CropBottom | 1 |
CropConstrainToWarp | 1 |
CropLeft | 0.049587 |
CropRight | 0.81405 |
CropTop | 0.021605 |
CustomRendered | Normal |
DateCreated | 2011:03:31 |
DateTimeDigitized | 2011:03:31 16:35:42+02:00 |
DateTimeOriginal (1) | 2011:03:31 16:35:42+02:00 |
DateTimeOriginal | 2011:03:31 16:35:42 |
Defringe | 0 |
Description | [#Beginning of Shooting Data Section]
DigitalZoomRatio | 1 |
DOF | 0.40 m (3.57 - 3.97 m) |
Dust Removal:
ExifImageHeight | 700 |
ExifImageWidth | 600 |
Exposure Comp.: -0.7EV
Exposure Mode: Manual
Exposure Tuning:
Exposure | -0.15 |
ExposureCompensation | -2/3 |
ExposureMode | Manual |
ExposureProgram | Manual |
ExposureTime | 1/80 |
FillLight | 0 |
Filter Effects:
Flash Exposure Comp.:
Flash Mode:
Flash Sync Mode:
Flash | No Flash |
FlashFired | False |
FlashFunction | False |
FlashMode | Unknown |
FlashRedEyeMode | False |
FlashReturn | No return detection |
FNumber | 3.5 |
Focal Length: 70mm
FocalLength | 70.0 mm |
FocalLength35efl | 70.0 mm (35 mm equivalent: 105.0 mm) |
FocalLengthIn35mmFormat | 105 mm |
Focus Mode: AF-C
Format | image/jpeg |
FOV | 19.5 deg |
GainControl | None |
GrainAmount | 0 |
GreenHue | 0 |
GreenSaturation | 0 |
HasCrop | True |
HasSettings | True |
High ISO NR: OFF
HighlightRecovery | 0 |
Hue Adjustment: 0°
Hue:
HueAdjustmentAqua | 0 |
HueAdjustmentBlue | 0 |
HueAdjustmentGreen | 0 |
HueAdjustmentMagenta | 0 |
HueAdjustmentOrange | 0 |
HueAdjustmentPurple | 0 |
HueAdjustmentRed | 0 |
HueAdjustmentYellow | 0 |
HyperfocalDistance | 69.89 m |
ICCProfileName | Adobe RGB (1998) |
Image Authentication: OFF
Image Comment:
Image Size: L (3872 x 2592)
ImageDescription | [#Beginning of Shooting Data Section]
ImageHeight | 700 |
ImageNumber | 39197 |
ImageSize | 600x700 |
ImageWidth | 600 |
ISO Sensitivity: ISO 200
ISO | 200 |
Lens | 28.0-70.0 mm f/2.8 |
Lens: 28-70mm F/2.8D
LensID (1) | 93 |
LensID | AF-S Zoom-Nikkor 28-70mm f/2.8D IF-ED |
LensInfo | 28-70mm f/2.8 |
LensManualDistortionAmount | 0 |
LensModel | 28.0-70.0 mm f/2.8 |
LensProfileEnable | 0 |
LensProfileSetup | LensDefaults |
LightSource | Tungsten (Incandescent) |
LightValue | 8.9 |
Long Exposure NR: OFF
LuminanceAdjustmentAqua | 0 |
LuminanceAdjustmentBlue | 0 |
LuminanceAdjustmentGreen | 0 |
LuminanceAdjustmentMagenta | 0 |
LuminanceAdjustmentOrange | 0 |
LuminanceAdjustmentPurple | 0 |
LuminanceAdjustmentRed | 0 |
LuminanceAdjustmentYellow | 0 |
LuminanceSmoothing | 0 |
Make | NIKON CORPORATION |
Map Datum:
MaxApertureValue | 2.8 |
Megapixels | 0.420 |
Metering: Matrix
MeteringMode | Multi-segment |
Model | NIKON D200 |
ModifyDate (1) | 2011:06:13 03:28:04+02:00 |
ModifyDate | 2011:06:13 03:28:04 |
Nikon D200
Optimize Image: Normal
Orientation | Horizontal (normal) |
ParametricDarks | 0 |
ParametricHighlights | 0 |
ParametricHighlightSplit | 75 |
ParametricLights | 0 |
ParametricMidtoneSplit | 50 |
ParametricShadows | 0 |
ParametricShadowSplit | 25 |
PerspectiveHorizontal | 0 |
PerspectiveRotate | 0.0 |
PerspectiveScale | 100 |
PerspectiveVertical | 0 |
Picture Control:
PostCropVignetteAmount | 0 |
ProcessVersion | 5.7 |
ProfileDescription | Adobe RGB (1998) |
Quick Adjust:
Rating | 0 |
RAW (12-bit)
RawFileName | Img0579.NEF |
RedHue | 0 |
RedSaturation | 0 |
Saturation (1) | -47 |
Saturation | Normal |
Saturation:
Saturation: Auto
SaturationAdjustmentAqua | 0 |
SaturationAdjustmentBlue | 0 |
SaturationAdjustmentGreen | 0 |
SaturationAdjustmentMagenta | 0 |
SaturationAdjustmentOrange | 0 |
SaturationAdjustmentPurple | 0 |
SaturationAdjustmentRed | 0 |
SaturationAdjustmentYellow | 0 |
ScaleFactor35efl | 1.5 |
SceneCaptureType | Standard |
SceneType | Directly photographed |
SensingMethod | One-chip color area |
SensitivityType | Unknown |
Shadows | 7 |
ShadowTint | 0 |
SharpenDetail | 25 |
SharpenEdgeMasking | 0 |
Sharpening:
Sharpening: Auto
SharpenRadius | +1.0 |
Sharpness (1) | 25 |
Sharpness | Normal |
Shutter Speed: 1/80s
ShutterSpeed | 1/80 |
ShutterSpeedValue | 1/80 |
SidecarForExtension | NEF |
Software | Adobe Photoshop CS3 Macintosh |
SplitToningBalance | 0 |
SplitToningHighlightHue | 0 |
SplitToningHighlightSaturation | 0 |
SplitToningShadowHue | 0 |
SplitToningShadowSaturation | 0 |
SubjectDistance | 3.76 m |
SubjectDistanceRange | Unknown |
Tint | 0 |
Tone Comp.: Auto
ToneCurve | 0, 0, 32, 22, 64, 56, 128, 128, 192, 196, 255, 255 |
ToneCurveName | Medium Contrast |
Toning:
URL_List | |
Version | 6.3 |
Vibrance | +2 |
Vignette Control:
VignetteAmount | 0 |
VR:
White Balance: Incandescent, 0
WhiteBalance (1) | As Shot |
WhiteBalance | Manual |
World Time: