Felt | Verdi |
AlreadyApplied | True |
Aperture | 14.0 |
ApertureValue | 14.0 |
ApproximateFocusDistance | 3.97 |
BitsPerSample | 8 |
BlueHue | 0 |
BlueSaturation | 0 |
Brightness | +50 |
CameraProfile | Adobe Standard |
ChromaticAberrationB | +44 |
ChromaticAberrationR | 0 |
CircleOfConfusion | 0.031 mm |
Clarity | +45 |
ColorComponents | 3 |
ColorNoiseReduction | 25 |
ColorNoiseReductionDetail | 50 |
ColorTemperature | 5450 |
Contrast | +30 |
ConvertToGrayscale | False |
CreateDate (1) | 2011:09:24 16:55:23.01 |
CreateDate | 2011:09:24 16:55:23 |
CreatorTool | Adobe Photoshop Lightroom 3.4.1 |
CropAngle | 0 |
CropBottom | 0.838298 |
CropConstrainToWarp | 0 |
CropHeight | 3139 |
CropLeft | 0 |
CropRight | 0.920567 |
CropTop | 0 |
CropUnit | pixels |
CropWidth | 5170 |
CustomRendered | Normal |
DateCreated (1) | 2011:09:24 |
DateCreated | 2011:09:24 16:55:23.01 |
DateTimeOriginal | 2011:09:24 16:55:23 |
Defringe | 0 |
DOF | inf (1.00 m - inf) |
Exposure | -0.40 |
ExposureCompensation | 0 |
ExposureMode | Auto |
ExposureProgram | Aperture-priority AE |
ExposureTime | 1/13 |
FillLight | 10 |
Firmware | 2.0.7 |
Flash | Off, Did not fire |
FlashCompensation | 0 |
FNumber | 14.0 |
FocalLength | 24.0 mm |
FocalLength35efl | 24.0 mm (35 mm equivalent: 23.4 mm) |
FOV | 75.1 deg |
GradientBasedCorrActive | true |
GradientBasedCorrAmount | 1.000000 |
GradientBasedCorrBrightness (2) | -0.084000 |
GradientBasedCorrBrightness | -0.049000 |
GradientBasedCorrClarity | 0.537000 |
GradientBasedCorrContrast | 0.805000 |
GradientBasedCorrExposure (1) | -0.154000 |
GradientBasedCorrExposure (2) | 0.154000 |
GradientBasedCorrExposure (3) | -0.046000 |
GradientBasedCorrExposure (4) | 0.054000 |
GradientBasedCorrExposure | -0.146000 |
GradientBasedCorrHue | 50.000000 |
GradientBasedCorrMaskFullX (1) | 0.718375 |
GradientBasedCorrMaskFullX (2) | 0.361566 |
GradientBasedCorrMaskFullX (3) | 0.892022 |
GradientBasedCorrMaskFullX (4) | 0.444822 |
GradientBasedCorrMaskFullX | 0.103164 |
GradientBasedCorrMaskFullY (1) | 0.840082 |
GradientBasedCorrMaskFullY (2) | 0.005351 |
GradientBasedCorrMaskFullY (3) | 0.030321 |
GradientBasedCorrMaskFullY (4) | 0.007134 |
GradientBasedCorrMaskFullY | 0.853102 |
GradientBasedCorrMaskValue | 1.000000 |
GradientBasedCorrMaskWhat | Mask/Gradient |
GradientBasedCorrMaskZeroX (1) | 0.696967 |
GradientBasedCorrMaskZeroX (2) | 0.382975 |
GradientBasedCorrMaskZeroX (3) | 0.599439 |
GradientBasedCorrMaskZeroX (4) | 0.442443 |
GradientBasedCorrMaskZeroX | 0.196556 |
GradientBasedCorrMaskZeroY (1) | 0.574323 |
GradientBasedCorrMaskZeroY (2) | 0.579674 |
GradientBasedCorrMaskZeroY (3) | 0.353155 |
GradientBasedCorrMaskZeroY (4) | 0.658153 |
GradientBasedCorrMaskZeroY | 0.341919 |
GradientBasedCorrSaturation (1) | 0.366000 |
GradientBasedCorrSaturation (9) | 0.126000 |
GradientBasedCorrSaturation | 0.000000 |
GradientBasedCorrSharpness | 1.000000 |
GradientBasedCorrWhat | Correction |
GrainAmount | 30 |
GrainFrequency | 50 |
GrainSize | 25 |
GreenHue | 0 |
GreenSaturation | 0 |
HasCrop | True |
HasSettings | True |
HighlightRecovery | 60 |
HueAdjustmentAqua | 0 |
HueAdjustmentBlue | 0 |
HueAdjustmentGreen | 0 |
HueAdjustmentMagenta | 0 |
HueAdjustmentOrange | 0 |
HueAdjustmentPurple | 0 |
HueAdjustmentRed | 0 |
HueAdjustmentYellow | 0 |
HyperfocalDistance | 1.34 m |
ImageHeight | 3139 |
ImageNumber | 0 |
ImageSize | 5170x3139 |
ImageWidth | 5170 |
ISO | 200 |
Lens | EF24-70mm f/2.8L USM |
LensID (1) | 230 |
LensID | Canon EF 24-70mm f/2.8L USM |
LensInfo | 24-70mm f/? |
LensManualDistortionAmount | 0 |
LensModel | EF24-70mm f/2.8L USM |
LensProfileEnable | 0 |
LensProfileSetup | LensDefaults |
LightValue | 10.3 |
LuminanceAdjustmentAqua | 0 |
LuminanceAdjustmentBlue | 0 |
LuminanceAdjustmentGreen | 0 |
LuminanceAdjustmentMagenta | 0 |
LuminanceAdjustmentOrange | 0 |
LuminanceAdjustmentPurple | 0 |
LuminanceAdjustmentRed | 0 |
LuminanceAdjustmentYellow | 0 |
LuminanceNoiseReductionContrast | 0 |
LuminanceNoiseReductionDetail | 76 |
LuminanceSmoothing | 100 |
Make | Canon |
MaxApertureValue | 2.8 |
Megapixels | 16.2 |
MeteringMode | Multi-segment |
Model | Canon EOS 5D Mark II |
ModifyDate (1) | 2011:09:26 01:41:39+02:00 |
ModifyDate | 2011:09:26 01:41:39 |
PaintCorrectionActive | true |
PaintCorrectionAmount | 1.000000 |
PaintCorrectionBrightness | -0.049000 |
PaintCorrectionClarity | 0.537000 |
PaintCorrectionContrast | 0.805000 |
PaintCorrectionExposure | -0.246000 |
PaintCorrectionHue | 50.000000 |
PaintCorrectionMaskCenterWeight | 0.084898 |
PaintCorrectionMaskFlow | 0.823000 |
PaintCorrectionMaskRadius (1) | 0.166872 |
PaintCorrectionMaskRadius (4) | 0.114158 |
PaintCorrectionMaskRadius | 0.146445 |
PaintCorrectionMaskValue | 0.488000 |
PaintCorrectionMaskWhat | Mask/Paint |
PaintCorrectionSaturation (1) | 0.366000 |
PaintCorrectionSaturation | 0.000000 |
PaintCorrectionSharpness | 1.000000 |
PaintCorrectionWhat | Correction |
ParametricDarks | 0 |
ParametricHighlights | 0 |
ParametricHighlightSplit | 75 |
ParametricLights | 0 |
ParametricMidtoneSplit | 50 |
ParametricShadows | 0 |
ParametricShadowSplit | 25 |
PerspectiveHorizontal | 0 |
PerspectiveRotate | 0.0 |
PerspectiveScale | 100 |
PerspectiveVertical | 0 |
PostCropVignetteAmount | +20 |
PostCropVignetteFeather | 75 |
PostCropVignetteMidpoint | 60 |
PostCropVignetteRoundness | 0 |
PostCropVignetteStyle | 1 |
ProcessVersion | 5.7 |
ProfileDescription | sRGB IEC61966-2.1 |
RedHue | 0 |
RedSaturation | 0 |
Saturation | 0 |
SaturationAdjustmentAqua | 0 |
SaturationAdjustmentBlue | 0 |
SaturationAdjustmentGreen | +45 |
SaturationAdjustmentMagenta | +60 |
SaturationAdjustmentOrange | 0 |
SaturationAdjustmentPurple | 0 |
SaturationAdjustmentRed | +70 |
SaturationAdjustmentYellow | +55 |
ScaleFactor35efl | 1.0 |
SceneCaptureType | Standard |
SerialNumber | 2331316328 |
Shadows | 18 |
ShadowTint | 0 |
SharpenDetail | 25 |
SharpenEdgeMasking | 20 |
SharpenRadius | +1.0 |
Sharpness | 25 |
ShutterSpeed | 1/13 |
ShutterSpeedValue | 1/13 |
Software | Adobe Photoshop Lightroom 3.4.1 |
SplitToningBalance | 0 |
SplitToningHighlightHue | 0 |
SplitToningHighlightSaturation | 0 |
SplitToningShadowHue | 0 |
SplitToningShadowSaturation | 0 |
SubjectDistance | 3.97 m |
Tint | -1 |
ToneCurve | 0, 0, 32, 22, 64, 56, 128, 128, 192, 196, 255, 255 |
ToneCurveName | Medium Contrast |
Version | 6.4.1 |
Vibrance | +10 |
VignetteAmount | 0 |
WhiteBalance (1) | Custom |
WhiteBalance | Auto |