Felt | Verdi |
AlreadyApplied | True |
Artist | RUNE*NILSSEN |
BitsPerSample | 8 |
BlueHue | 0 |
BlueSaturation | 0 |
Brightness | +75 |
By-line | RUNE*NILSSEN |
CameraProfile | Adobe Standard |
CFAPattern | [Blue,Green][Green,Red] |
ChromaticAberrationB | 0 |
ChromaticAberrationR | 0 |
CircleOfConfusion | 0.020 mm |
Clarity | +69 |
ColorComponents | 3 |
ColorMode | RGB |
ColorNoiseReduction | 25 |
ColorNoiseReductionDetail | 50 |
ColorSpace | sRGB |
ColorTemperature | 4150 |
Contrast (1) | +42 |
Contrast | High |
ConvertToGrayscale | False |
Copyright | Rune Nilssen |
CopyrightFlag | True |
CopyrightNotice | Rune Nilssen |
CreateDate (1) | 2011:10:19 13:52:48+02:00 |
CreateDate | 2011:10:19 13:52:48 |
Creator | RUNE*NILSSEN |
CreatorTool | Adobe Photoshop CS5.1 Windows |
CustomRendered | Normal |
DateCreated (1) | 2011:10:19 |
DateCreated | 2011:10:19 13:52:48 |
DateTimeOriginal | 2011:10:19 13:52:48 |
Defringe | 0 |
ExifImageHeight | 1024 |
ExifImageWidth | 678 |
Exposure | +0.60 |
ExposureCompensation | 0 |
ExposureMode | Manual |
ExposureProgram | Manual |
ExposureTime | 1/350 |
FillLight | 0 |
Flash | Off, Did not fire |
FocalLength | 28.0 mm |
FocalLength35efl | 28.0 mm (35 mm equivalent: 42.0 mm) |
FocalLengthIn35mmFormat | 42 mm |
Format | image/jpeg |
FOV | 46.4 deg |
GrainAmount | 0 |
GreenHue | 0 |
GreenSaturation | 0 |
HasCrop | False |
HasSettings | True |
HighlightRecovery | 0 |
HueAdjustmentAqua | 0 |
HueAdjustmentBlue | 0 |
HueAdjustmentGreen | 0 |
HueAdjustmentMagenta | 0 |
HueAdjustmentOrange | 0 |
HueAdjustmentPurple | 0 |
HueAdjustmentRed | 0 |
HueAdjustmentYellow | 0 |
ICCProfileName | sRGB IEC61966-2.1 |
ImageHeight | 1024 |
ImageSize | 678x1024 |
ImageWidth | 678 |
ISO | 400 |
Lens | K or M Lens |
LensID (1) | 1 0 |
LensID | K or M Lens |
LensManualDistortionAmount | 0 |
LensModel | K or M Lens |
LensProfileChromaticAberrationScale | 100 |
LensProfileDistortionScale | 100 |
LensProfileEnable | 0 |
LensProfileFilename | PENTAX (smc PENTAX-D FA645 55mmF2.8AL[IF] SDM AW) - RAW.lcp |
LensProfileName | Adobe (smc PENTAX-D FA645 55mmF2.8AL[IF] SDM AW) |
LensProfileSetup | Custom |
LensProfileVignettingScale | 100 |
LuminanceAdjustmentAqua | 0 |
LuminanceAdjustmentBlue | 0 |
LuminanceAdjustmentGreen | 0 |
LuminanceAdjustmentMagenta | 0 |
LuminanceAdjustmentOrange | 0 |
LuminanceAdjustmentPurple | 0 |
LuminanceAdjustmentRed | 0 |
LuminanceAdjustmentYellow | 0 |
LuminanceSmoothing | 0 |
Make | PENTAX |
Marked | True |
Megapixels | 0.694 |
MeteringMode | Center-weighted average |
Model | PENTAX K-5 |
ModifyDate (1) | 2011:10:19 19:19:55+02:00 |
ModifyDate | 2011:10:19 19:19:55 |
Orientation | Horizontal (normal) |
ParametricDarks | 0 |
ParametricHighlights | +8 |
ParametricHighlightSplit | 75 |
ParametricLights | +7 |
ParametricMidtoneSplit | 50 |
ParametricShadows | 0 |
ParametricShadowSplit | 25 |
PerspectiveHorizontal | 0 |
PerspectiveRotate | 0.0 |
PerspectiveScale | 100 |
PerspectiveVertical | 0 |
PostCropVignetteAmount | 0 |
ProcessVersion | 5.7 |
ProfileDescription | sRGB IEC61966-2.1 |
Rating | 0 |
RawFileName | _RUN0795.PEF |
RedHue | 0 |
RedSaturation | 0 |
Rights | Rune Nilssen |
Saturation (1) | +19 |
Saturation | Normal |
SaturationAdjustmentAqua | 0 |
SaturationAdjustmentBlue | 0 |
SaturationAdjustmentGreen | 0 |
SaturationAdjustmentMagenta | 0 |
SaturationAdjustmentOrange | 0 |
SaturationAdjustmentPurple | 0 |
SaturationAdjustmentRed | 0 |
SaturationAdjustmentYellow | 0 |
ScaleFactor35efl | 1.5 |
SceneCaptureType | Standard |
SensingMethod | One-chip color area |
SensitivityType | Unknown |
Shadows | 28 |
ShadowTint | 0 |
SharpenDetail | 4 |
SharpenEdgeMasking | 0 |
SharpenRadius | +0.5 |
Sharpness (1) | 0 |
Sharpness | Hard |
ShutterSpeed | 1/350 |
ShutterSpeedValue | 1/350 |
Software | Adobe Photoshop CS5.1 Windows |
SplitToningBalance | 0 |
SplitToningHighlightHue | 0 |
SplitToningHighlightSaturation | 0 |
SplitToningShadowHue | 0 |
SplitToningShadowSaturation | 0 |
SubjectDistanceRange | Distant |
Tint | +20 |
ToneCurve | 0, 0, 32, 22, 64, 56, 128, 128, 192, 196, 255, 255 |
ToneCurveName | Medium Contrast |
URL_List | |
UsageTerms | |
Version | 6.3 |
Vibrance | +16 |
VignetteAmount | 0 |
WhiteBalance (1) | As Shot |
WhiteBalance | Auto |