Felt | Verdi |
AlreadyApplied | True |
Aperture | 2.8 |
ApertureValue | 2.8 |
Artist | Ivar August Bull |
BitsPerSample | 8 |
BlueHue | 0 |
BlueSaturation | 0 |
Brightness | 0 |
By-line | Ivar August Bull |
CameraProfile | Embedded |
ChromaticAberrationB | 0 |
ChromaticAberrationR | 0 |
CircleOfConfusion | 0.005 mm |
Clarity | 0 |
ColorComponents | 3 |
ColorNoiseReduction | 0 |
Contrast | 0 |
ConvertToGrayscale | False |
Copyright | 2011 Ivar August Bull |
CopyrightFlag | True |
CopyrightNotice | 2011 Ivar August Bull |
CreateDate (1) | 2010:08:05 19:55:44+02:00 |
CreateDate | 2010:08:05 19:55:44 |
Creator | Ivar August Bull |
CreatorAddress | Hordnesvegen 136 |
CreatorCity | Bergen/Fana |
CreatorCountry | Norway |
CreatorPostalCode | 5244 |
CreatorRegion | Hordaland |
CreatorTool | Adobe Photoshop Lightroom 3.6 (Macintosh) |
CreatorWorkEmail | ivaraugust@gmail.com |
CreatorWorkTelephone | +47 97147573 |
CreatorWorkURL | www.levendestillbilder.wordpress.com |
CustomRendered | Normal |
DateCreated (1) | 2010:08:05 |
DateCreated | 2010:08:05 19:55:44+02:00 |
DateTimeOriginal | 2010:08:05 19:55:44 |
Defringe | 0 |
DerivedFrom | |
DigitalZoomRatio | 1 |
Exposure | 0.00 |
ExposureCompensation | 0 |
ExposureMode | Auto |
ExposureTime | 1/200 |
FillLight | 0 |
Flash | Off, Did not fire |
FNumber | 2.8 |
FocalLength | 5.0 mm |
FocalLength35efl | 5.0 mm (35 mm equivalent: 27.9 mm) |
Format | image/jpeg |
FOV | 65.6 deg |
GrainAmount | 0 |
GreenHue | 0 |
GreenSaturation | 0 |
HasCrop | False |
HasSettings | True |
HighlightRecovery | 0 |
HueAdjustmentAqua | 0 |
HueAdjustmentBlue | 0 |
HueAdjustmentGreen | 0 |
HueAdjustmentMagenta | +29 |
HueAdjustmentOrange | 0 |
HueAdjustmentPurple | +100 |
HueAdjustmentRed | 0 |
HueAdjustmentYellow | 0 |
HyperfocalDistance | 1.66 m |
ImageHeight | 3000 |
ImageSize | 4000x3000 |
ImageWidth | 4000 |
IncrementalTemperature | 0 |
IncrementalTint | 0 |
ISO | 200 |
Keywords | architecture, block, blocks, bluilding blocks, brick, building, buildings, city, class, community, construction, dish, domestic, door, dwelling, england, english, estate, evening, front, frontage, habitation, home, house, housing, line, lodge, lodging, old, pad, path, rail, railings, real, residence, residency, row, street, style, suburban, suburbs, terrace, traditional, urban, work, worker |
LensManualDistortionAmount | 0 |
LensProfileEnable | 0 |
LensProfileSetup | LensDefaults |
LightValue | 9.6 |
LuminanceAdjustmentAqua | 0 |
LuminanceAdjustmentBlue | 0 |
LuminanceAdjustmentGreen | 0 |
LuminanceAdjustmentMagenta | 0 |
LuminanceAdjustmentOrange | 0 |
LuminanceAdjustmentPurple | 0 |
LuminanceAdjustmentRed | 0 |
LuminanceAdjustmentYellow | 0 |
LuminanceSmoothing | 0 |
Make | Canon |
Marked | True |
MaxApertureValue | 2.8 |
Megapixels | 12.0 |
MeteringMode | Center-weighted average |
Model | Canon DIGITAL IXUS 120 IS |
ModifyDate (1) | 2011:12:29 14:28:29+01:00 |
ModifyDate | 2011:12:29 14:28:29 |
ParametricDarks | 0 |
ParametricHighlights | 0 |
ParametricHighlightSplit | 75 |
ParametricLights | 0 |
ParametricMidtoneSplit | 50 |
ParametricShadows | 0 |
ParametricShadowSplit | 25 |
PerspectiveHorizontal | 0 |
PerspectiveRotate | 0.0 |
PerspectiveScale | 100 |
PerspectiveVertical | 0 |
PostCropVignetteAmount | -32 |
PostCropVignetteFeather | 50 |
PostCropVignetteHighlightContrast | 0 |
PostCropVignetteMidpoint | 50 |
PostCropVignetteRoundness | 0 |
PostCropVignetteStyle | 1 |
ProcessVersion | 5.7 |
ProfileDescription | sRGB IEC61966-2.1 |
Rating | 3 |
RedHue | 0 |
RedSaturation | 0 |
Rights | 2011 Ivar August Bull |
Saturation | +57 |
SaturationAdjustmentAqua | +4 |
SaturationAdjustmentBlue | +52 |
SaturationAdjustmentGreen | +15 |
SaturationAdjustmentMagenta | +8 |
SaturationAdjustmentOrange | +81 |
SaturationAdjustmentPurple | +42 |
SaturationAdjustmentRed | +29 |
SaturationAdjustmentYellow | +56 |
ScaleFactor35efl | 5.6 |
SceneCaptureType | Standard |
SensingMethod | One-chip color area |
Shadows | 11 |
ShadowTint | 0 |
SharpenDetail | 25 |
SharpenEdgeMasking | 0 |
SharpenRadius | +1.0 |
Sharpness | 0 |
ShutterSpeed | 1/200 |
ShutterSpeedValue | 1/200 |
Software | Adobe Photoshop Lightroom 3.6 (Macintosh) |
SplitToningBalance | 0 |
SplitToningHighlightHue | 0 |
SplitToningHighlightSaturation | 0 |
SplitToningShadowHue | 0 |
SplitToningShadowSaturation | 0 |
Subject | architecture, block, blocks, bluilding blocks, brick, building, buildings, city, class, community, construction, dish, domestic, door, dwelling, england, english, estate, evening, front, frontage, habitation, home, house, housing, line, lodge, lodging, old, pad, path, rail, railings, real, residence, residency, row, street, style, suburban, suburbs, terrace, traditional, urban, work, worker |
ToneCurve | 0, 0, 255, 255 |
ToneCurveName | Linear |
Version | 6.6 |
Vibrance | 0 |
VignetteAmount | 0 |
WhiteBalance (1) | As Shot |
WhiteBalance | Auto |